BEGIN:VCALENDAR
VERSION:2.0
PRODID:-//SZGP - ECPv6.15.20//NONSGML v1.0//EN
CALSCALE:GREGORIAN
METHOD:PUBLISH
X-WR-CALNAME:SZGP
X-ORIGINAL-URL:https://szgp.hr
X-WR-CALDESC:Događaji za SZGP
REFRESH-INTERVAL;VALUE=DURATION:PT1H
X-Robots-Tag:noindex
X-PUBLISHED-TTL:PT1H
BEGIN:VTIMEZONE
TZID:Europe/Budapest
BEGIN:DAYLIGHT
TZOFFSETFROM:+0100
TZOFFSETTO:+0200
TZNAME:CEST
DTSTART:20240331T010000
END:DAYLIGHT
BEGIN:STANDARD
TZOFFSETFROM:+0200
TZOFFSETTO:+0100
TZNAME:CET
DTSTART:20241027T010000
END:STANDARD
BEGIN:DAYLIGHT
TZOFFSETFROM:+0100
TZOFFSETTO:+0200
TZNAME:CEST
DTSTART:20250330T010000
END:DAYLIGHT
BEGIN:STANDARD
TZOFFSETFROM:+0200
TZOFFSETTO:+0100
TZNAME:CET
DTSTART:20251026T010000
END:STANDARD
BEGIN:DAYLIGHT
TZOFFSETFROM:+0100
TZOFFSETTO:+0200
TZNAME:CEST
DTSTART:20260329T010000
END:DAYLIGHT
BEGIN:STANDARD
TZOFFSETFROM:+0200
TZOFFSETTO:+0100
TZNAME:CET
DTSTART:20261025T010000
END:STANDARD
END:VTIMEZONE
BEGIN:VEVENT
DTSTART;TZID=Europe/Budapest:20251213T080000
DTEND;TZID=Europe/Budapest:20251214T140000
DTSTAMP:20260419T203404
CREATED:20251121T103944Z
LAST-MODIFIED:20251121T103944Z
UID:27999-1765612800-1765720800@szgp.hr
SUMMARY:NK JADRAN Božićni turnir
DESCRIPTION:
URL:https://szgp.hr/event/nk-jadran-bozicni-turnir-2/
LOCATION:Osnovna škola Finida\, Rovinjska 12\, Poreč\, Istra\, 52440\, Croatia (Local Name: Hrvatska)
CATEGORIES:Finida
ATTACH;FMTTYPE=image/png:https://szgp.hr/wp-content/uploads/2025/11/nk-jadran.png
END:VEVENT
BEGIN:VEVENT
DTSTART;TZID=Europe/Budapest:20251209T083000
DTEND;TZID=Europe/Budapest:20251209T150000
DTSTAMP:20260419T203404
CREATED:20250814T081208Z
LAST-MODIFIED:20251117T183639Z
UID:26901-1765269000-1765292400@szgp.hr
SUMMARY:ŠSS Istarske županije - osnovne škole -HRVANJE
DESCRIPTION:
URL:https://szgp.hr/event/sss-istarske-zupanije-osnovne-skole-hrvanje/
LOCATION:Dvorana Žatika\, Dvorana Žatika\, Poreč\, Istra\, 52440\, Croatia (Local Name: Hrvatska)
CATEGORIES:Dvorana Žatika
ATTACH;FMTTYPE=image/jpeg:https://szgp.hr/wp-content/uploads/2025/08/SSS-IZ.jpg
ORGANIZER;CN="%C5%A0SS Istarske %C5%BEupanije":MAILTO:skolski.sport.istra@gmail.com
END:VEVENT
BEGIN:VEVENT
DTSTART;TZID=Europe/Budapest:20251207T160000
DTEND;TZID=Europe/Budapest:20251207T190000
DTSTAMP:20260419T203404
CREATED:20251202T080333Z
LAST-MODIFIED:20251202T080333Z
UID:28126-1765123200-1765134000@szgp.hr
SUMMARY:KK POREČ Žl kadeti
DESCRIPTION:
URL:https://szgp.hr/event/kk-porec-zl-kadeti/
LOCATION:Osnovna škola Finida\, Rovinjska 12\, Poreč\, Istra\, 52440\, Croatia (Local Name: Hrvatska)
CATEGORIES:Finida
ATTACH;FMTTYPE=image/jpeg:https://szgp.hr/wp-content/uploads/2025/01/KK-Porec.jpg
ORGANIZER;CN="Ko%C5%A1arka%C5%A1ki klub Pore%C4%8D":MAILTO:kkporec@gmail.com
END:VEVENT
BEGIN:VEVENT
DTSTART;TZID=Europe/Budapest:20251207T120000
DTEND;TZID=Europe/Budapest:20251207T160000
DTSTAMP:20260419T203404
CREATED:20251127T114307Z
LAST-MODIFIED:20251128T120444Z
UID:28072-1765108800-1765123200@szgp.hr
SUMMARY:OK Poreč - OK Veruda 1.B HOL zapad
DESCRIPTION:
URL:https://szgp.hr/event/ok-porec-ok-veruda-1-b-hol-zapad/
LOCATION:Osnovna škola Finida\, Rovinjska 12\, Poreč\, Istra\, 52440\, Croatia (Local Name: Hrvatska)
CATEGORIES:Finida
ATTACH;FMTTYPE=image/jpeg:https://szgp.hr/wp-content/uploads/2025/01/ok-porec-logo-1.jpg
ORGANIZER;CN="Odbojka%C5%A1ki klub Pore%C4%8D":MAILTO:tajnikokporec@gmail.com
END:VEVENT
BEGIN:VEVENT
DTSTART;TZID=Europe/Budapest:20251207T093000
DTEND;TZID=Europe/Budapest:20251207T140000
DTSTAMP:20260419T203404
CREATED:20251103T131245Z
LAST-MODIFIED:20251103T131245Z
UID:27809-1765099800-1765116000@szgp.hr
SUMMARY:ŽRK Poreč 1.HRL U14
DESCRIPTION:
URL:https://szgp.hr/event/zrk-porec-1-hrl-u14-2/
LOCATION:SRC Veli Jože\, SRC Veli Jože\, Poreč\, Istra\, 52440\, Croatia (Local Name: Hrvatska)
CATEGORIES:Veli Jože
ATTACH;FMTTYPE=image/jpeg:https://szgp.hr/wp-content/uploads/2025/01/ZRK-Porec.jpg
ORGANIZER;CN="%C5%BDRK PORE%C4%8C":MAILTO:zrk.porec@inet.h
END:VEVENT
BEGIN:VEVENT
DTSTART;TZID=Europe/Budapest:20251206T083000
DTEND;TZID=Europe/Budapest:20251206T143000
DTSTAMP:20260419T203404
CREATED:20251201T073514Z
LAST-MODIFIED:20251201T073514Z
UID:28099-1765009800-1765031400@szgp.hr
SUMMARY:RK POREČ 1.HRL U13
DESCRIPTION:
URL:https://szgp.hr/event/rk-porec-1-hrl-u13-4/
LOCATION:SRC Veli Jože\, SRC Veli Jože\, Poreč\, Istra\, 52440\, Croatia (Local Name: Hrvatska)
CATEGORIES:Veli Jože
END:VEVENT
BEGIN:VEVENT
DTSTART;TZID=Europe/Budapest:20251205T083000
DTEND;TZID=Europe/Budapest:20251205T150000
DTSTAMP:20260419T203404
CREATED:20250814T081035Z
LAST-MODIFIED:20250814T081035Z
UID:26899-1764923400-1764946800@szgp.hr
SUMMARY:ŠSS Istarske županije - srednje škole - ŠAH
DESCRIPTION:
URL:https://szgp.hr/event/sss-istarske-zupanije-srednje-skole-sah/
LOCATION:Dvorana Žatika\, Dvorana Žatika\, Poreč\, Istra\, 52440\, Croatia (Local Name: Hrvatska)
CATEGORIES:Dvorana Žatika
ATTACH;FMTTYPE=image/jpeg:https://szgp.hr/wp-content/uploads/2025/08/SSS-IZ.jpg
ORGANIZER;CN="%C5%A0SS Istarske %C5%BEupanije":MAILTO:skolski.sport.istra@gmail.com
END:VEVENT
BEGIN:VEVENT
DTSTART;TZID=Europe/Budapest:20251204T083000
DTEND;TZID=Europe/Budapest:20251204T150000
DTSTAMP:20260419T203404
CREATED:20250915T094312Z
LAST-MODIFIED:20251124T132325Z
UID:27118-1764837000-1764860400@szgp.hr
SUMMARY:ŠSS Istarske županije - košarka 3x3 OŠ djevojčice/dječaci
DESCRIPTION:
URL:https://szgp.hr/event/sss-istarske-zupanije-kosarka-3x3-os-djecaci/
LOCATION:SRC Veli Jože\, SRC Veli Jože\, Poreč\, Istra\, 52440\, Croatia (Local Name: Hrvatska)
CATEGORIES:Veli Jože
ATTACH;FMTTYPE=image/jpeg:https://szgp.hr/wp-content/uploads/2025/08/SSS-IZ.jpg
ORGANIZER;CN="%C5%A0kolski sportski savez I%C5%BD":MAILTO:skolski.sport.istra@gmail.com
END:VEVENT
BEGIN:VEVENT
DTSTART;TZID=Europe/Budapest:20251203T083000
DTEND;TZID=Europe/Budapest:20251203T150000
DTSTAMP:20260419T203404
CREATED:20250814T080719Z
LAST-MODIFIED:20250814T080858Z
UID:26895-1764750600-1764774000@szgp.hr
SUMMARY:ŠSS Istarske županije - osnovne škole ŠAH
DESCRIPTION:Hol SD Žatika
URL:https://szgp.hr/event/sss-istarske-zupanije-osnovne-skole-sah/
LOCATION:Dvorana Žatika\, Dvorana Žatika\, Poreč\, Istra\, 52440\, Croatia (Local Name: Hrvatska)
CATEGORIES:Dvorana Žatika
ATTACH;FMTTYPE=image/jpeg:https://szgp.hr/wp-content/uploads/2025/08/SSS-IZ.jpg
ORGANIZER;CN="%C5%A0SS Istarske %C5%BEupanije":MAILTO:skolski.sport.istra@gmail.com
END:VEVENT
BEGIN:VEVENT
DTSTART;TZID=Europe/Budapest:20251203T080000
DTEND;TZID=Europe/Budapest:20251203T140000
DTSTAMP:20260419T203404
CREATED:20251201T093130Z
LAST-MODIFIED:20251201T093130Z
UID:28105-1764748800-1764770400@szgp.hr
SUMMARY:TUŠ Anton Štifanić
DESCRIPTION:
URL:https://szgp.hr/event/tus-anton-stifanic/
LOCATION:Dvorana Žatika\, Dvorana Žatika\, Poreč\, Istra\, 52440\, Croatia (Local Name: Hrvatska)
CATEGORIES:Dvorana Žatika
ATTACH;FMTTYPE=image/png:https://szgp.hr/wp-content/uploads/2025/12/tus-antuna-stifanica-porec-logo-1.png
END:VEVENT
BEGIN:VEVENT
DTSTART;TZID=Europe/Budapest:20251130T083000
DTEND;TZID=Europe/Budapest:20251130T143000
DTSTAMP:20260419T203404
CREATED:20251122T192125Z
LAST-MODIFIED:20251125T181432Z
UID:28016-1764491400-1764513000@szgp.hr
SUMMARY:RK POREČ 1.HRL U15
DESCRIPTION:
URL:https://szgp.hr/event/rk-porec-1-hrl-u15-2/
LOCATION:SRC Veli Jože\, SRC Veli Jože\, Poreč\, Istra\, 52440\, Croatia (Local Name: Hrvatska)
CATEGORIES:Veli Jože
ATTACH;FMTTYPE=image/png:https://szgp.hr/wp-content/uploads/2024/09/RK-Porec.png
END:VEVENT
BEGIN:VEVENT
DTSTART;TZID=Europe/Budapest:20251129T160000
DTEND;TZID=Europe/Budapest:20251129T200000
DTSTAMP:20260419T203404
CREATED:20251103T131113Z
LAST-MODIFIED:20251103T131113Z
UID:27807-1764432000-1764446400@szgp.hr
SUMMARY:ŽRK Poreč - RK Ivanić 2.HRL
DESCRIPTION:
URL:https://szgp.hr/event/zrk-porec-rk-ivanic-2-hrl/
LOCATION:SRC Veli Jože\, SRC Veli Jože\, Poreč\, Istra\, 52440\, Croatia (Local Name: Hrvatska)
CATEGORIES:Veli Jože
ATTACH;FMTTYPE=image/jpeg:https://szgp.hr/wp-content/uploads/2025/01/ZRK-Porec.jpg
ORGANIZER;CN="%C5%BDRK PORE%C4%8C":MAILTO:zrk.porec@inet.h
END:VEVENT
BEGIN:VEVENT
DTSTART;TZID=Europe/Budapest:20251129T103000
DTEND;TZID=Europe/Budapest:20251129T150000
DTSTAMP:20260419T203404
CREATED:20250710T134443Z
LAST-MODIFIED:20251125T181527Z
UID:26761-1764412200-1764428400@szgp.hr
SUMMARY:RK POREČ 1.HRL Jug RK POREČ 2 - RK Rovinj
DESCRIPTION:
URL:https://szgp.hr/event/rk-porec-1-hrl-jug-rk-porec-2-rk-rovinj/
LOCATION:SRC Veli Jože\, SRC Veli Jože\, Poreč\, Istra\, 52440\, Croatia (Local Name: Hrvatska)
CATEGORIES:Veli Jože
ATTACH;FMTTYPE=image/png:https://szgp.hr/wp-content/uploads/2024/09/RK-Porec.png
END:VEVENT
BEGIN:VEVENT
DTSTART;TZID=Europe/Budapest:20251129T090000
DTEND;TZID=Europe/Budapest:20251129T190000
DTSTAMP:20260419T203404
CREATED:20250702T105050Z
LAST-MODIFIED:20250702T105050Z
UID:26687-1764406800-1764442800@szgp.hr
SUMMARY:STK Jadran 1.Hrvatska liga m+ž
DESCRIPTION:
URL:https://szgp.hr/event/stk-jadran-1-hrvatska-liga-mz-2/
LOCATION:Osnovna škola Finida\, Rovinjska 12\, Poreč\, Istra\, 52440\, Croatia (Local Name: Hrvatska)
CATEGORIES:Finida
ATTACH;FMTTYPE=image/jpeg:https://szgp.hr/wp-content/uploads/2024/02/stk-jadran-porec.jpg
ORGANIZER;CN="Stolno teniski klub Jadran":MAILTO:miroslavzuti@gmail.com
END:VEVENT
BEGIN:VEVENT
DTSTART;VALUE=DATE:20251128
DTEND;VALUE=DATE:20251201
DTSTAMP:20260419T203404
CREATED:20250221T140729Z
LAST-MODIFIED:20250224T123734Z
UID:24242-1764288000-1764547199@szgp.hr
SUMMARY:RITMIČKA GIMNASTIKA Apsolutno prvenstvo Hrvatske
DESCRIPTION:
URL:https://szgp.hr/event/ritmicka-gimnastika-apsolutno-prvenstvo-hrvatske/
LOCATION:Dvorana Žatika\, Dvorana Žatika\, Poreč\, Istra\, 52440\, Croatia (Local Name: Hrvatska)
CATEGORIES:Dvorana Žatika
ATTACH;FMTTYPE=image/jpeg:https://szgp.hr/wp-content/uploads/2025/02/hgs_big.jpg
END:VEVENT
BEGIN:VEVENT
DTSTART;TZID=Europe/Budapest:20251123T130000
DTEND;TZID=Europe/Budapest:20251123T160000
DTSTAMP:20260419T203404
CREATED:20251117T180213Z
LAST-MODIFIED:20251117T180213Z
UID:27927-1763902800-1763913600@szgp.hr
SUMMARY:KK POREČ Žl kadeti KK Poreč - KK Rovinj
DESCRIPTION:
URL:https://szgp.hr/event/kk-porec-zl-kadeti-kk-porec-kk-rovinj/
LOCATION:Osnovna škola Finida\, Rovinjska 12\, Poreč\, Istra\, 52440\, Croatia (Local Name: Hrvatska)
CATEGORIES:Finida
ATTACH;FMTTYPE=image/jpeg:https://szgp.hr/wp-content/uploads/2025/01/KK-Porec.jpg
ORGANIZER;CN="Ko%C5%A1arka%C5%A1ki klub Pore%C4%8D":MAILTO:kkporec@gmail.com
END:VEVENT
BEGIN:VEVENT
DTSTART;TZID=Europe/Budapest:20251123T120000
DTEND;TZID=Europe/Budapest:20251123T160000
DTSTAMP:20260419T203404
CREATED:20251103T130940Z
LAST-MODIFIED:20251118T142524Z
UID:27804-1763899200-1763913600@szgp.hr
SUMMARY:ŽRK Poreč 1.HRL U14
DESCRIPTION:
URL:https://szgp.hr/event/zrk-porec-1-hrl-u14/
LOCATION:SRC Veli Jože\, SRC Veli Jože\, Poreč\, Istra\, 52440\, Croatia (Local Name: Hrvatska)
CATEGORIES:Veli Jože
ATTACH;FMTTYPE=image/jpeg:https://szgp.hr/wp-content/uploads/2025/01/ZRK-Porec.jpg
ORGANIZER;CN="%C5%BDRK PORE%C4%8C":MAILTO:zrk.porec@inet.h
END:VEVENT
BEGIN:VEVENT
DTSTART;TZID=Europe/Budapest:20251123T083000
DTEND;TZID=Europe/Budapest:20251123T130000
DTSTAMP:20260419T203404
CREATED:20251116T202431Z
LAST-MODIFIED:20251116T202431Z
UID:27908-1763886600-1763902800@szgp.hr
SUMMARY:OK POREČ ŽL ml.kadetkinje
DESCRIPTION:
URL:https://szgp.hr/event/ok-porec-zl-ml-kadetkinje/
LOCATION:Osnovna škola Finida\, Rovinjska 12\, Poreč\, Istra\, 52440\, Croatia (Local Name: Hrvatska)
CATEGORIES:Finida
ATTACH;FMTTYPE=image/jpeg:https://szgp.hr/wp-content/uploads/2025/01/ok-porec-logo-1.jpg
ORGANIZER;CN="Odbojka%C5%A1ki klub Pore%C4%8D":MAILTO:tajnikokporec@gmail.com
END:VEVENT
BEGIN:VEVENT
DTSTART;VALUE=DATE:20251122
DTEND;VALUE=DATE:20251123
DTSTAMP:20260419T203404
CREATED:20250108T121537Z
LAST-MODIFIED:20250923T075146Z
UID:23545-1763769600-1763855999@szgp.hr
SUMMARY:KK Finda karate EURO CUP ISTRE
DESCRIPTION:Petak priprema dvorane od 18:00 sati
URL:https://szgp.hr/event/predrezervacija-karate-euro-cup-istre/
LOCATION:SRC Veli Jože\, SRC Veli Jože\, Poreč\, Istra\, 52440\, Croatia (Local Name: Hrvatska)
CATEGORIES:Veli Jože
ORGANIZER;CN="KK Finida":MAILTO:kkfinida@yahoo.com
END:VEVENT
BEGIN:VEVENT
DTSTART;TZID=Europe/Budapest:20251121T190000
DTEND;TZID=Europe/Budapest:20251121T220000
DTSTAMP:20260419T203404
CREATED:20251103T130754Z
LAST-MODIFIED:20251116T202257Z
UID:27802-1763751600-1763762400@szgp.hr
SUMMARY:OK Poreč - OK Pula2 1B.HOL
DESCRIPTION:
URL:https://szgp.hr/event/ok-porec-ok-pula2-1b-hol/
LOCATION:Osnovna škola Finida\, Rovinjska 12\, Poreč\, Istra\, 52440\, Croatia (Local Name: Hrvatska)
CATEGORIES:Finida
ATTACH;FMTTYPE=image/jpeg:https://szgp.hr/wp-content/uploads/2025/01/ok-porec-logo-1.jpg
ORGANIZER;CN="Odbojka%C5%A1ki klub Pore%C4%8D":MAILTO:tajnikokporec@gmail.com
END:VEVENT
BEGIN:VEVENT
DTSTART;TZID=Europe/Budapest:20251121T160000
DTEND;TZID=Europe/Budapest:20251121T203000
DTSTAMP:20260419T203404
CREATED:20250710T133208Z
LAST-MODIFIED:20251114T111928Z
UID:26750-1763740800-1763757000@szgp.hr
SUMMARY:RK POREČ 11.kolo Premierliga RK Poreč - RK Sesvete
DESCRIPTION:
URL:https://szgp.hr/event/rk-porec-11-kolo-premierliga-rk-porec-rk-sesvete/
LOCATION:SRC Veli Jože\, SRC Veli Jože\, Poreč\, Istra\, 52440\, Croatia (Local Name: Hrvatska)
CATEGORIES:Veli Jože
ATTACH;FMTTYPE=image/png:https://szgp.hr/wp-content/uploads/2024/09/RK-Porec.png
END:VEVENT
BEGIN:VEVENT
DTSTART;TZID=Europe/Budapest:20251116T090000
DTEND;TZID=Europe/Budapest:20251116T160000
DTSTAMP:20260419T203404
CREATED:20250929T074928Z
LAST-MODIFIED:20250929T074928Z
UID:27288-1763283600-1763308800@szgp.hr
SUMMARY:KK Finida Županijska liga
DESCRIPTION:
URL:https://szgp.hr/event/kk-finida-zupanijska-liga/
LOCATION:Osnovna škola Finida\, Rovinjska 12\, Poreč\, Istra\, 52440\, Croatia (Local Name: Hrvatska)
CATEGORIES:Finida
ATTACH;FMTTYPE=image/png:https://szgp.hr/wp-content/uploads/2024/11/KK-FINIDA.png
ORGANIZER;CN="KK Finida":MAILTO:kkfinida@yahoo.com
END:VEVENT
BEGIN:VEVENT
DTSTART;TZID=Europe/Budapest:20251116T090000
DTEND;TZID=Europe/Budapest:20251116T140000
DTSTAMP:20260419T203404
CREATED:20251103T125829Z
LAST-MODIFIED:20251103T125829Z
UID:27796-1763283600-1763301600@szgp.hr
SUMMARY:ŽRK Poreč Žl U14
DESCRIPTION:
URL:https://szgp.hr/event/zrk-porec-zl-u14/
LOCATION:SRC Veli Jože\, SRC Veli Jože\, Poreč\, Istra\, 52440\, Croatia (Local Name: Hrvatska)
CATEGORIES:Veli Jože
ATTACH;FMTTYPE=image/jpeg:https://szgp.hr/wp-content/uploads/2025/01/ZRK-Porec.jpg
ORGANIZER;CN="%C5%BDRK PORE%C4%8C":MAILTO:zrk.porec@inet.h
END:VEVENT
BEGIN:VEVENT
DTSTART;TZID=Europe/Budapest:20251115T163000
DTEND;TZID=Europe/Budapest:20251115T193000
DTSTAMP:20260419T203404
CREATED:20251111T114709Z
LAST-MODIFIED:20251111T114709Z
UID:27860-1763224200-1763235000@szgp.hr
SUMMARY:KK ADRIA - KK KRALJEVICA
DESCRIPTION:
URL:https://szgp.hr/event/kk-adria-kk-kraljevica/
LOCATION:Osnovna škola Finida\, Rovinjska 12\, Poreč\, Istra\, 52440\, Croatia (Local Name: Hrvatska)
CATEGORIES:Finida
ATTACH;FMTTYPE=image/png:https://szgp.hr/wp-content/uploads/2025/01/KK-Adria.png
END:VEVENT
BEGIN:VEVENT
DTSTART;TZID=Europe/Budapest:20251115T160000
DTEND;TZID=Europe/Budapest:20251115T200000
DTSTAMP:20260419T203404
CREATED:20251103T125632Z
LAST-MODIFIED:20251103T125632Z
UID:27794-1763222400-1763236800@szgp.hr
SUMMARY:ŽRK POREČ - ŽRK Umag 2.HRL
DESCRIPTION:
URL:https://szgp.hr/event/zrk-porec-zrk-umag-2-hrl/
LOCATION:SRC Veli Jože\, SRC Veli Jože\, Poreč\, Istra\, 52440\, Croatia (Local Name: Hrvatska)
CATEGORIES:Veli Jože
ATTACH;FMTTYPE=image/jpeg:https://szgp.hr/wp-content/uploads/2025/01/ZRK-Porec.jpg
ORGANIZER;CN="%C5%BDRK PORE%C4%8C":MAILTO:zrk.porec@inet.h
END:VEVENT
BEGIN:VEVENT
DTSTART;TZID=Europe/Budapest:20251115T100000
DTEND;TZID=Europe/Budapest:20251115T130000
DTSTAMP:20260419T203404
CREATED:20251111T093602Z
LAST-MODIFIED:20251111T093602Z
UID:27858-1763200800-1763211600@szgp.hr
SUMMARY:KK Poreč predkadeti ŽL
DESCRIPTION:
URL:https://szgp.hr/event/kk-porec-predkadeti-zl-2/
LOCATION:Osnovna škola Finida\, Rovinjska 12\, Poreč\, Istra\, 52440\, Croatia (Local Name: Hrvatska)
CATEGORIES:Finida
ATTACH;FMTTYPE=image/jpeg:https://szgp.hr/wp-content/uploads/2025/01/KK-Porec.jpg
ORGANIZER;CN="Ko%C5%A1arka%C5%A1ki klub Pore%C4%8D":MAILTO:kkporec@gmail.com
END:VEVENT
BEGIN:VEVENT
DTSTART;TZID=Europe/Budapest:20251115T083000
DTEND;TZID=Europe/Budapest:20251115T143000
DTSTAMP:20260419T203404
CREATED:20251031T094843Z
LAST-MODIFIED:20251031T094843Z
UID:27782-1763195400-1763217000@szgp.hr
SUMMARY:RK POREČ 1.HRL U11
DESCRIPTION:
URL:https://szgp.hr/event/rk-porec-1-hrl-u11-3/
LOCATION:SRC Veli Jože\, SRC Veli Jože\, Poreč\, Istra\, 52440\, Croatia (Local Name: Hrvatska)
CATEGORIES:Veli Jože
ATTACH;FMTTYPE=image/png:https://szgp.hr/wp-content/uploads/2024/09/RK-Porec.png
END:VEVENT
BEGIN:VEVENT
DTSTART;VALUE=DATE:20251113
DTEND;VALUE=DATE:20251127
DTSTAMP:20260419T203404
CREATED:20240807T104237Z
LAST-MODIFIED:20240807T104237Z
UID:21157-1762992000-1764201599@szgp.hr
SUMMARY:Crofish
DESCRIPTION:
URL:https://szgp.hr/event/crofish-2/
LOCATION:Dvorana Žatika\, Dvorana Žatika\, Poreč\, Istra\, 52440\, Croatia (Local Name: Hrvatska)
CATEGORIES:Dvorana Žatika
END:VEVENT
BEGIN:VEVENT
DTSTART;TZID=Europe/Budapest:20251109T150000
DTEND;TZID=Europe/Budapest:20251109T203000
DTSTAMP:20260419T203404
CREATED:20250710T134301Z
LAST-MODIFIED:20250710T134742Z
UID:26759-1762700400-1762720200@szgp.hr
SUMMARY:RK POREČ 1.HRL Jug RK POREČ 2 - RK Opuzen
DESCRIPTION:
URL:https://szgp.hr/event/rk-porec-1-hrl-jug-rk-porec-2-rk-opuzen/
LOCATION:SRC Veli Jože\, SRC Veli Jože\, Poreč\, Istra\, 52440\, Croatia (Local Name: Hrvatska)
CATEGORIES:Veli Jože
ATTACH;FMTTYPE=image/png:https://szgp.hr/wp-content/uploads/2024/09/RK-Porec.png
END:VEVENT
BEGIN:VEVENT
DTSTART;TZID=Europe/Budapest:20251108T150000
DTEND;TZID=Europe/Budapest:20251108T210000
DTSTAMP:20260419T203404
CREATED:20250710T132800Z
LAST-MODIFIED:20250710T132800Z
UID:26747-1762614000-1762635600@szgp.hr
SUMMARY:RK POREČ 9.kolo Premierliga RK Poreč - RK Dugo Selo
DESCRIPTION:
URL:https://szgp.hr/event/rk-porec-9-kolo-premierliga-rk-porec-rk-dugo-selo/
LOCATION:SRC Veli Jože\, SRC Veli Jože\, Poreč\, Istra\, 52440\, Croatia (Local Name: Hrvatska)
CATEGORIES:Veli Jože
ATTACH;FMTTYPE=image/png:https://szgp.hr/wp-content/uploads/2024/09/RK-Porec.png
END:VEVENT
END:VCALENDAR