BEGIN:VCALENDAR
VERSION:2.0
PRODID:-//SZGP - ECPv6.15.20//NONSGML v1.0//EN
CALSCALE:GREGORIAN
METHOD:PUBLISH
X-WR-CALNAME:SZGP
X-ORIGINAL-URL:https://szgp.hr
X-WR-CALDESC:Događaji za SZGP
REFRESH-INTERVAL;VALUE=DURATION:PT1H
X-Robots-Tag:noindex
X-PUBLISHED-TTL:PT1H
BEGIN:VTIMEZONE
TZID:Europe/Budapest
BEGIN:DAYLIGHT
TZOFFSETFROM:+0100
TZOFFSETTO:+0200
TZNAME:CEST
DTSTART:20250330T010000
END:DAYLIGHT
BEGIN:STANDARD
TZOFFSETFROM:+0200
TZOFFSETTO:+0100
TZNAME:CET
DTSTART:20251026T010000
END:STANDARD
BEGIN:DAYLIGHT
TZOFFSETFROM:+0100
TZOFFSETTO:+0200
TZNAME:CEST
DTSTART:20260329T010000
END:DAYLIGHT
BEGIN:STANDARD
TZOFFSETFROM:+0200
TZOFFSETTO:+0100
TZNAME:CET
DTSTART:20261025T010000
END:STANDARD
BEGIN:DAYLIGHT
TZOFFSETFROM:+0100
TZOFFSETTO:+0200
TZNAME:CEST
DTSTART:20270328T010000
END:DAYLIGHT
BEGIN:STANDARD
TZOFFSETFROM:+0200
TZOFFSETTO:+0100
TZNAME:CET
DTSTART:20271031T010000
END:STANDARD
END:VTIMEZONE
BEGIN:VEVENT
DTSTART;TZID=Europe/Budapest:20260221T083000
DTEND;TZID=Europe/Budapest:20260221T123000
DTSTAMP:20260419T142632
CREATED:20260211T064700Z
LAST-MODIFIED:20260211T064700Z
UID:28839-1771662600-1771677000@szgp.hr
SUMMARY:OK Poreč Ml. kadetkinje Žl
DESCRIPTION:
URL:https://szgp.hr/event/ok-porec-ml-kadetkinje-zl-2/
LOCATION:Osnovna škola Finida\, Rovinjska 12\, Poreč\, Istra\, 52440\, Croatia (Local Name: Hrvatska)
CATEGORIES:Finida
ATTACH;FMTTYPE=image/jpeg:https://szgp.hr/wp-content/uploads/2025/01/ok-porec-logo-1.jpg
ORGANIZER;CN="Odbojka%C5%A1ki klub Pore%C4%8D":MAILTO:tajnikokporec@gmail.com
END:VEVENT
BEGIN:VEVENT
DTSTART;VALUE=DATE:20260220
DTEND;VALUE=DATE:20260223
DTSTAMP:20260419T142632
CREATED:20250326T114433Z
LAST-MODIFIED:20250328T082322Z
UID:24720-1771545600-1771804799@szgp.hr
SUMMARY:HNS - Veteransko PH futsal
DESCRIPTION:
URL:https://szgp.hr/event/hns-veteransko-ph-futsal/
LOCATION:Dvorana Žatika\, Dvorana Žatika\, Poreč\, Istra\, 52440\, Croatia (Local Name: Hrvatska)
CATEGORIES:Dvorana Žatika
ATTACH;FMTTYPE=image/jpeg:https://szgp.hr/wp-content/uploads/2024/07/HNS.jpg
END:VEVENT
BEGIN:VEVENT
DTSTART;TZID=Europe/Budapest:20260219T080000
DTEND;TZID=Europe/Budapest:20260219T150000
DTSTAMP:20260419T142632
CREATED:20250326T114257Z
LAST-MODIFIED:20250326T114257Z
UID:24717-1771488000-1771513200@szgp.hr
SUMMARY:SAJAM KARIJERA
DESCRIPTION:
URL:https://szgp.hr/event/sajam-karijera-2/
LOCATION:Dvorana Žatika\, Dvorana Žatika\, Poreč\, Istra\, 52440\, Croatia (Local Name: Hrvatska)
CATEGORIES:Dvorana Žatika
ATTACH;FMTTYPE=image/jpeg:https://szgp.hr/wp-content/uploads/2025/03/Najava-sajam-karijera-2025.jpg
END:VEVENT
BEGIN:VEVENT
DTSTART;TZID=Europe/Budapest:20260215T160000
DTEND;TZID=Europe/Budapest:20260215T210000
DTSTAMP:20260419T142632
CREATED:20251216T071839Z
LAST-MODIFIED:20251216T071839Z
UID:28315-1771171200-1771189200@szgp.hr
SUMMARY:RK POREČ 2- RK SPLIT 1.HRL
DESCRIPTION:
URL:https://szgp.hr/event/rk-porec-2-rk-split-1-hrl/
LOCATION:SRC Veli Jože\, SRC Veli Jože\, Poreč\, Istra\, 52440\, Croatia (Local Name: Hrvatska)
CATEGORIES:Veli Jože
ATTACH;FMTTYPE=image/png:https://szgp.hr/wp-content/uploads/2024/09/RK-Porec.png
END:VEVENT
BEGIN:VEVENT
DTSTART;TZID=Europe/Budapest:20260215T090000
DTEND;TZID=Europe/Budapest:20260215T160000
DTSTAMP:20260419T142632
CREATED:20260109T103456Z
LAST-MODIFIED:20260109T103456Z
UID:28602-1771146000-1771171200@szgp.hr
SUMMARY:KK FINIDA  Županijsko prvenstvo
DESCRIPTION:
URL:https://szgp.hr/event/kk-finida-zupanijsko-prvenstvo/
LOCATION:Osnovna škola Finida\, Rovinjska 12\, Poreč\, Istra\, 52440\, Croatia (Local Name: Hrvatska)
CATEGORIES:Finida
ATTACH;FMTTYPE=image/png:https://szgp.hr/wp-content/uploads/2024/11/KK-FINIDA.png
ORGANIZER;CN="KK Finida":MAILTO:kkfinida@yahoo.com
END:VEVENT
BEGIN:VEVENT
DTSTART;TZID=Europe/Budapest:20260215T090000
DTEND;TZID=Europe/Budapest:20260215T123000
DTSTAMP:20260419T142632
CREATED:20260202T074207Z
LAST-MODIFIED:20260212T083220Z
UID:28755-1771146000-1771158600@szgp.hr
SUMMARY:ŽRK Poreč U14 1.HRL RK Buzet-ŽRK Rudar
DESCRIPTION:
URL:https://szgp.hr/event/zrk-porec-u14-1-hrl-rk-buzet-zrk-rudar/
LOCATION:SRC Veli Jože\, SRC Veli Jože\, Poreč\, Istra\, 52440\, Croatia (Local Name: Hrvatska)
CATEGORIES:Veli Jože
ATTACH;FMTTYPE=image/jpeg:https://szgp.hr/wp-content/uploads/2025/01/ZRK-Porec.jpg
ORGANIZER;CN="%C5%BDRK PORE%C4%8C":MAILTO:zrk.porec@inet.h
END:VEVENT
BEGIN:VEVENT
DTSTART;TZID=Europe/Budapest:20260214T173000
DTEND;TZID=Europe/Budapest:20260214T213000
DTSTAMP:20260419T142632
CREATED:20260109T104000Z
LAST-MODIFIED:20260211T093650Z
UID:28606-1771090200-1771104600@szgp.hr
SUMMARY:OK Poreč - OK Drenova I.B HOL
DESCRIPTION:
URL:https://szgp.hr/event/ok-porec-ok-drenova-i-b-hol/
LOCATION:Osnovna škola Finida\, Rovinjska 12\, Poreč\, Istra\, 52440\, Croatia (Local Name: Hrvatska)
CATEGORIES:Finida
ATTACH;FMTTYPE=image/jpeg:https://szgp.hr/wp-content/uploads/2024/09/ok-porec-logo.jpg
ORGANIZER;CN="Odbojka%C5%A1ki klub Pore%C4%8D":MAILTO:tajnikokporec@gmail.com
END:VEVENT
BEGIN:VEVENT
DTSTART;TZID=Europe/Budapest:20260214T083000
DTEND;TZID=Europe/Budapest:20260214T143000
DTSTAMP:20260419T142632
CREATED:20260205T073902Z
LAST-MODIFIED:20260205T073902Z
UID:28785-1771057800-1771079400@szgp.hr
SUMMARY:RK POREČ U13 Žl
DESCRIPTION:RK  \n 
URL:https://szgp.hr/event/rk-porec-u13-zl-2/
LOCATION:SRC Veli Jože\, SRC Veli Jože\, Poreč\, Istra\, 52440\, Croatia (Local Name: Hrvatska)
CATEGORIES:Veli Jože
ATTACH;FMTTYPE=image/png:https://szgp.hr/wp-content/uploads/2024/09/RK-Porec.png
END:VEVENT
BEGIN:VEVENT
DTSTART;TZID=Europe/Budapest:20260208T160000
DTEND;TZID=Europe/Budapest:20260208T193000
DTSTAMP:20260419T142632
CREATED:20260130T075532Z
LAST-MODIFIED:20260202T094353Z
UID:28742-1770566400-1770579000@szgp.hr
SUMMARY:OK POREČ 2.HOL
DESCRIPTION:
URL:https://szgp.hr/event/ok-porec-2-hol-ok-porec2-ok-rovinj2/
LOCATION:Osnovna škola Finida\, Rovinjska 12\, Poreč\, Istra\, 52440\, Croatia (Local Name: Hrvatska)
CATEGORIES:Finida
ATTACH;FMTTYPE=image/jpeg:https://szgp.hr/wp-content/uploads/2024/08/ok-porec-logo.jpg
ORGANIZER;CN="Odbojka%C5%A1ki klub Pore%C4%8D":MAILTO:tajnikokporec@gmail.com
END:VEVENT
BEGIN:VEVENT
DTSTART;TZID=Europe/Budapest:20260208T080000
DTEND;TZID=Europe/Budapest:20260208T140000
DTSTAMP:20260419T142632
CREATED:20260202T094205Z
LAST-MODIFIED:20260202T094205Z
UID:28761-1770537600-1770559200@szgp.hr
SUMMARY:RK POREČ Mini rukomet ŽL
DESCRIPTION:
URL:https://szgp.hr/event/rk-porec-mini-rukomet-zl/
LOCATION:SRC Veli Jože\, SRC Veli Jože\, Poreč\, Istra\, 52440\, Croatia (Local Name: Hrvatska)
CATEGORIES:Veli Jože
ATTACH;FMTTYPE=image/png:https://szgp.hr/wp-content/uploads/2024/09/RK-Porec.png
END:VEVENT
BEGIN:VEVENT
DTSTART;TZID=Europe/Budapest:20260207T163000
DTEND;TZID=Europe/Budapest:20260207T200000
DTSTAMP:20260419T142632
CREATED:20260202T073510Z
LAST-MODIFIED:20260203T143335Z
UID:28751-1770481800-1770494400@szgp.hr
SUMMARY:ŽRK Poreč - ŽRK Murvice 2.HRL
DESCRIPTION:
URL:https://szgp.hr/event/zrk-porec-zrk-murvice-2-hrl/
LOCATION:SRC Veli Jože\, SRC Veli Jože\, Poreč\, Istra\, 52440\, Croatia (Local Name: Hrvatska)
CATEGORIES:Veli Jože
ATTACH;FMTTYPE=image/jpeg:https://szgp.hr/wp-content/uploads/2025/01/ZRK-Porec.jpg
ORGANIZER;CN="%C5%BDRK PORE%C4%8C":MAILTO:zrk.porec@inet.h
END:VEVENT
BEGIN:VEVENT
DTSTART;TZID=Europe/Budapest:20260207T130000
DTEND;TZID=Europe/Budapest:20260207T160000
DTSTAMP:20260419T142632
CREATED:20260203T082904Z
LAST-MODIFIED:20260203T082904Z
UID:28783-1770469200-1770480000@szgp.hr
SUMMARY:KK Poreč ŽL dječaci
DESCRIPTION:
URL:https://szgp.hr/event/kk-porec-zl-djecaci/
LOCATION:Osnovna škola Finida\, Rovinjska 12\, Poreč\, Istra\, 52440\, Croatia (Local Name: Hrvatska)
CATEGORIES:Finida
ATTACH;FMTTYPE=image/jpeg:https://szgp.hr/wp-content/uploads/2025/01/KK-Porec.jpg
ORGANIZER;CN="Ko%C5%A1arka%C5%A1ki klub Pore%C4%8D":MAILTO:kkporec@gmail.com
END:VEVENT
BEGIN:VEVENT
DTSTART;TZID=Europe/Budapest:20260207T080000
DTEND;TZID=Europe/Budapest:20260207T130000
DTSTAMP:20260419T142632
CREATED:20260202T073301Z
LAST-MODIFIED:20260202T073301Z
UID:28749-1770451200-1770469200@szgp.hr
SUMMARY:ŽRK POREČ Mini rukomet Žl curice
DESCRIPTION:
URL:https://szgp.hr/event/zrk-porec-mini-rukomet-zl-curice/
LOCATION:SRC Veli Jože\, SRC Veli Jože\, Poreč\, Istra\, 52440\, Croatia (Local Name: Hrvatska)
CATEGORIES:Veli Jože
ATTACH;FMTTYPE=image/jpeg:https://szgp.hr/wp-content/uploads/2025/01/ZRK-Porec.jpg
ORGANIZER;CN="%C5%BDRK PORE%C4%8C":MAILTO:zrk.porec@inet.h
END:VEVENT
BEGIN:VEVENT
DTSTART;TZID=Europe/Budapest:20260207T080000
DTEND;TZID=Europe/Budapest:20260207T130000
DTSTAMP:20260419T142632
CREATED:20260130T075216Z
LAST-MODIFIED:20260130T075216Z
UID:28740-1770451200-1770469200@szgp.hr
SUMMARY:OK POREČ Mlađe kadetsko Žl
DESCRIPTION:
URL:https://szgp.hr/event/ok-porec-mlade-kadetsko-zl/
LOCATION:Osnovna škola Finida\, Rovinjska 12\, Poreč\, Istra\, 52440\, Croatia (Local Name: Hrvatska)
CATEGORIES:Finida
ATTACH;FMTTYPE=image/jpeg:https://szgp.hr/wp-content/uploads/2024/09/ok-porec-logo.jpg
ORGANIZER;CN="Odbojka%C5%A1ki klub Pore%C4%8D":MAILTO:tajnikokporec@gmail.com
END:VEVENT
BEGIN:VEVENT
DTSTART;VALUE=DATE:20260203
DTEND;VALUE=DATE:20260219
DTSTAMP:20260419T142632
CREATED:20250326T100820Z
LAST-MODIFIED:20250326T100820Z
UID:24706-1770076800-1771459199@szgp.hr
SUMMARY:PROMOHOTEL sajam
DESCRIPTION:  \n 
URL:https://szgp.hr/event/promohotel-sajam/
LOCATION:Dvorana Žatika\, Dvorana Žatika\, Poreč\, Istra\, 52440\, Croatia (Local Name: Hrvatska)
CATEGORIES:Dvorana Žatika
ATTACH;FMTTYPE=image/jpeg:https://szgp.hr/wp-content/uploads/2025/03/promohotel_web.jpg
ORGANIZER;CN="Studio 053":MAILTO:ivana@promohotel.hr
END:VEVENT
BEGIN:VEVENT
DTSTART;TZID=Europe/Budapest:20260201T160000
DTEND;TZID=Europe/Budapest:20260201T193000
DTSTAMP:20260419T142632
CREATED:20260120T082024Z
LAST-MODIFIED:20260120T082024Z
UID:28700-1769961600-1769974200@szgp.hr
SUMMARY:OK Poreč 2.HOL prvenstvena
DESCRIPTION:
URL:https://szgp.hr/event/ok-porec-2-hol-prvenstvena/
LOCATION:Osnovna škola Finida\, Rovinjska 12\, Poreč\, Istra\, 52440\, Croatia (Local Name: Hrvatska)
CATEGORIES:Finida
ATTACH;FMTTYPE=image/jpeg:https://szgp.hr/wp-content/uploads/2024/09/ok-porec-logo.jpg
ORGANIZER;CN="Odbojka%C5%A1ki klub Pore%C4%8D":MAILTO:tajnikokporec@gmail.com
END:VEVENT
BEGIN:VEVENT
DTSTART;TZID=Europe/Budapest:20260201T090000
DTEND;TZID=Europe/Budapest:20260201T130000
DTSTAMP:20260419T142632
CREATED:20260120T062237Z
LAST-MODIFIED:20260120T075002Z
UID:28656-1769936400-1769950800@szgp.hr
SUMMARY:OK POREČ Žl  Mala odbojka
DESCRIPTION:
URL:https://szgp.hr/event/ok-porec-zl-mala-odbojka-2/
LOCATION:Osnovna škola Finida\, Rovinjska 12\, Poreč\, Istra\, 52440\, Croatia (Local Name: Hrvatska)
CATEGORIES:Finida
ATTACH;FMTTYPE=image/jpeg:https://szgp.hr/wp-content/uploads/2025/01/ok-porec-logo-1.jpg
ORGANIZER;CN="Odbojka%C5%A1ki klub Pore%C4%8D":MAILTO:tajnikokporec@gmail.com
END:VEVENT
BEGIN:VEVENT
DTSTART;TZID=Europe/Budapest:20260131T160000
DTEND;TZID=Europe/Budapest:20260131T190000
DTSTAMP:20260419T142632
CREATED:20260109T103813Z
LAST-MODIFIED:20260130T080803Z
UID:28604-1769875200-1769886000@szgp.hr
SUMMARY:OK Poreč - OK Kostrena I.B HOL
DESCRIPTION:
URL:https://szgp.hr/event/ok-porec-ok-kostrena-i-b-hol/
LOCATION:Osnovna škola Finida\, Rovinjska 12\, Poreč\, Istra\, 52440\, Croatia (Local Name: Hrvatska)
CATEGORIES:Finida
ATTACH;FMTTYPE=image/jpeg:https://szgp.hr/wp-content/uploads/2024/09/ok-porec-logo.jpg
ORGANIZER;CN="Odbojka%C5%A1ki klub Pore%C4%8D":MAILTO:tajnikokporec@gmail.com
END:VEVENT
BEGIN:VEVENT
DTSTART;TZID=Europe/Budapest:20260131T090000
DTEND;TZID=Europe/Budapest:20260131T140000
DTSTAMP:20260419T142632
CREATED:20260120T074619Z
LAST-MODIFIED:20260130T075322Z
UID:28661-1769850000-1769868000@szgp.hr
SUMMARY:STK Jadran 1.HLM
DESCRIPTION:
URL:https://szgp.hr/event/stk-jadran-1-hlm/
LOCATION:Osnovna škola Finida\, Rovinjska 12\, Poreč\, Istra\, 52440\, Croatia (Local Name: Hrvatska)
CATEGORIES:Finida
ATTACH;FMTTYPE=image/jpeg:https://szgp.hr/wp-content/uploads/2024/02/stk-jadran-porec.jpg
ORGANIZER;CN="Stolno teniski klub Jadran":MAILTO:miroslavzuti@gmail.com
END:VEVENT
BEGIN:VEVENT
DTSTART;TZID=Europe/Budapest:20260129T083000
DTEND;TZID=Europe/Budapest:20260129T150000
DTSTAMP:20260419T142632
CREATED:20250814T082820Z
LAST-MODIFIED:20250814T082820Z
UID:26920-1769675400-1769698800@szgp.hr
SUMMARY:ŠSS Istarske županije - srednje škole KOŠARKA djevojke
DESCRIPTION:
URL:https://szgp.hr/event/sss-istarske-zupanije-srednje-skole-kosarka-djevojke/
LOCATION:Dvorana Žatika\, Dvorana Žatika\, Poreč\, Istra\, 52440\, Croatia (Local Name: Hrvatska)
CATEGORIES:Dvorana Žatika
ATTACH;FMTTYPE=image/jpeg:https://szgp.hr/wp-content/uploads/2025/08/SSS-IZ.jpg
ORGANIZER;CN="%C5%A0SS Istarske %C5%BEupanije":MAILTO:skolski.sport.istra@gmail.com
END:VEVENT
BEGIN:VEVENT
DTSTART;TZID=Europe/Budapest:20260127T083000
DTEND;TZID=Europe/Budapest:20260127T150000
DTSTAMP:20260419T142632
CREATED:20250814T082715Z
LAST-MODIFIED:20250814T082715Z
UID:26918-1769502600-1769526000@szgp.hr
SUMMARY:ŠSS Istarske županije - srednje škole KOŠARKA mladići
DESCRIPTION:
URL:https://szgp.hr/event/sss-istarske-zupanije-srednje-skole-kosarka-mladici/
LOCATION:Dvorana Žatika\, Dvorana Žatika\, Poreč\, Istra\, 52440\, Croatia (Local Name: Hrvatska)
CATEGORIES:Dvorana Žatika
ATTACH;FMTTYPE=image/jpeg:https://szgp.hr/wp-content/uploads/2025/08/SSS-IZ.jpg
ORGANIZER;CN="%C5%A0SS Istarske %C5%BEupanije":MAILTO:skolski.sport.istra@gmail.com
END:VEVENT
BEGIN:VEVENT
DTSTART;TZID=Europe/Budapest:20260125T173000
DTEND;TZID=Europe/Budapest:20260125T203000
DTSTAMP:20260419T142632
CREATED:20260120T092350Z
LAST-MODIFIED:20260120T092434Z
UID:28702-1769362200-1769373000@szgp.hr
SUMMARY:KK ADRIA : KK ŠANAC Karlovac A2.HKL zapad
DESCRIPTION:
URL:https://szgp.hr/event/kk-adria-kk-sanac-karlovac-a2-hkl-zapad/
LOCATION:Osnovna škola Finida\, Rovinjska 12\, Poreč\, Istra\, 52440\, Croatia (Local Name: Hrvatska)
CATEGORIES:Finida
ATTACH;FMTTYPE=image/png:https://szgp.hr/wp-content/uploads/2025/01/KK-Adria.png
END:VEVENT
BEGIN:VEVENT
DTSTART;TZID=Europe/Budapest:20260124T150000
DTEND;TZID=Europe/Budapest:20260124T200000
DTSTAMP:20260419T142632
CREATED:20260120T074458Z
LAST-MODIFIED:20260120T074458Z
UID:28659-1769266800-1769284800@szgp.hr
SUMMARY:STK Jadran 1.HLŽ
DESCRIPTION:
URL:https://szgp.hr/event/stk-jadran-1-hlz/
LOCATION:Osnovna škola Finida\, Rovinjska 12\, Poreč\, Istra\, 52440\, Croatia (Local Name: Hrvatska)
CATEGORIES:Finida
ATTACH;FMTTYPE=image/jpeg:https://szgp.hr/wp-content/uploads/2024/02/stk-jadran-porec.jpg
ORGANIZER;CN="Stolno teniski klub Jadran":MAILTO:miroslavzuti@gmail.com
END:VEVENT
BEGIN:VEVENT
DTSTART;TZID=Europe/Budapest:20260124T090000
DTEND;TZID=Europe/Budapest:20260124T140000
DTSTAMP:20260419T142632
CREATED:20260120T081029Z
LAST-MODIFIED:20260120T081029Z
UID:28698-1769245200-1769263200@szgp.hr
SUMMARY:KK Poreč : KK Stoja dječaci / KK Labin predkadeti Žl
DESCRIPTION:
URL:https://szgp.hr/event/kk-porec-kk-stoja-djecaci-kk-labin-predkadeti-zl/
LOCATION:Osnovna škola Finida\, Rovinjska 12\, Poreč\, Istra\, 52440\, Croatia (Local Name: Hrvatska)
CATEGORIES:Finida
ATTACH;FMTTYPE=image/jpeg:https://szgp.hr/wp-content/uploads/2025/01/KK-Porec.jpg
ORGANIZER;CN="Ko%C5%A1arka%C5%A1ki klub Pore%C4%8D":MAILTO:kkporec@gmail.com
END:VEVENT
BEGIN:VEVENT
DTSTART;VALUE=DATE:20260124
DTEND;VALUE=DATE:20260126
DTSTAMP:20260419T142632
CREATED:20260102T094709Z
LAST-MODIFIED:20260102T094709Z
UID:28575-1769212800-1769385599@szgp.hr
SUMMARY:Nogometni savez Istarske županije - predrezervacija
DESCRIPTION:
URL:https://szgp.hr/event/nogometni-savez-istarske-zupanije-predrezervacija/
LOCATION:Dvorana Žatika\, Dvorana Žatika\, Poreč\, Istra\, 52440\, Croatia (Local Name: Hrvatska)
CATEGORIES:Dvorana Žatika
END:VEVENT
BEGIN:VEVENT
DTSTART;TZID=Europe/Budapest:20260123T083000
DTEND;TZID=Europe/Budapest:20260123T150000
DTSTAMP:20260419T142632
CREATED:20250814T082557Z
LAST-MODIFIED:20250814T082557Z
UID:26916-1769157000-1769180400@szgp.hr
SUMMARY:ŠSS Istarske županije - osnovne škole KOŠARKA djevojčice
DESCRIPTION:
URL:https://szgp.hr/event/sss-istarske-zupanije-osnovne-skole-kosarka-djevojcice/
LOCATION:Dvorana Žatika\, Dvorana Žatika\, Poreč\, Istra\, 52440\, Croatia (Local Name: Hrvatska)
CATEGORIES:Dvorana Žatika
ATTACH;FMTTYPE=image/jpeg:https://szgp.hr/wp-content/uploads/2025/08/SSS-IZ.jpg
ORGANIZER;CN="%C5%A0SS Istarske %C5%BEupanije":MAILTO:skolski.sport.istra@gmail.com
END:VEVENT
BEGIN:VEVENT
DTSTART;TZID=Europe/Budapest:20260122T083000
DTEND;TZID=Europe/Budapest:20260122T150000
DTSTAMP:20260419T142632
CREATED:20250814T082037Z
LAST-MODIFIED:20250814T082037Z
UID:26913-1769070600-1769094000@szgp.hr
SUMMARY:ŠSS Istarske županije - srednja škola 3X3 KOŠARKA djevojke/mladići
DESCRIPTION:
URL:https://szgp.hr/event/sss-istarske-zupanije-srednja-skola-3x3-kosarka-djevojke-mladici/
LOCATION:Dvorana Žatika\, Dvorana Žatika\, Poreč\, Istra\, 52440\, Croatia (Local Name: Hrvatska)
CATEGORIES:Dvorana Žatika
ATTACH;FMTTYPE=image/jpeg:https://szgp.hr/wp-content/uploads/2025/08/SSS-IZ.jpg
ORGANIZER;CN="%C5%A0SS Istarske %C5%BEupanije":MAILTO:skolski.sport.istra@gmail.com
END:VEVENT
BEGIN:VEVENT
DTSTART;TZID=Europe/Budapest:20260121T083000
DTEND;TZID=Europe/Budapest:20260121T150000
DTSTAMP:20260419T142632
CREATED:20250814T081906Z
LAST-MODIFIED:20250814T081906Z
UID:26911-1768984200-1769007600@szgp.hr
SUMMARY:ŠSS Istarske županije - osnovna škola KOŠARKA dječaci
DESCRIPTION:
URL:https://szgp.hr/event/sss-istarske-zupanije-osnovna-skola-kosarka-djecaci/
LOCATION:Dvorana Žatika\, Dvorana Žatika\, Poreč\, Istra\, 52440\, Croatia (Local Name: Hrvatska)
CATEGORIES:Dvorana Žatika
ATTACH;FMTTYPE=image/jpeg:https://szgp.hr/wp-content/uploads/2025/08/SSS-IZ.jpg
ORGANIZER;CN="%C5%A0SS Istarske %C5%BEupanije":MAILTO:skolski.sport.istra@gmail.com
END:VEVENT
BEGIN:VEVENT
DTSTART;TZID=Europe/Budapest:20260119T083000
DTEND;TZID=Europe/Budapest:20260119T150000
DTSTAMP:20260419T142632
CREATED:20250814T081746Z
LAST-MODIFIED:20250814T081746Z
UID:26909-1768811400-1768834800@szgp.hr
SUMMARY:ŠSS Istarske županije - srednje škole FUTSAL mladići
DESCRIPTION:
URL:https://szgp.hr/event/sss-istarske-zupanije-srednje-skole-futsal-mladici/
LOCATION:Dvorana Žatika\, Dvorana Žatika\, Poreč\, Istra\, 52440\, Croatia (Local Name: Hrvatska)
CATEGORIES:Dvorana Žatika
ATTACH;FMTTYPE=image/jpeg:https://szgp.hr/wp-content/uploads/2025/08/SSS-IZ.jpg
ORGANIZER;CN="%C5%A0SS Istarske %C5%BEupanije":MAILTO:skolski.sport.istra@gmail.com
END:VEVENT
BEGIN:VEVENT
DTSTART;TZID=Europe/Budapest:20260118T080000
DTEND;TZID=Europe/Budapest:20260118T170000
DTSTAMP:20260419T142632
CREATED:20260109T105759Z
LAST-MODIFIED:20260109T105759Z
UID:28617-1768723200-1768755600@szgp.hr
SUMMARY:STK Jadran Prvenstvo regije
DESCRIPTION:
URL:https://szgp.hr/event/stk-jadran-prvenstvo-regije/
LOCATION:Osnovna škola Finida\, Rovinjska 12\, Poreč\, Istra\, 52440\, Croatia (Local Name: Hrvatska)
CATEGORIES:Finida
ATTACH;FMTTYPE=image/jpeg:https://szgp.hr/wp-content/uploads/2024/02/stk-jadran-porec.jpg
ORGANIZER;CN="Stolno teniski klub Jadran":MAILTO:miroslavzuti@gmail.com
END:VEVENT
END:VCALENDAR