BEGIN:VCALENDAR
VERSION:2.0
PRODID:-//SZGP - ECPv6.15.20//NONSGML v1.0//EN
CALSCALE:GREGORIAN
METHOD:PUBLISH
X-WR-CALNAME:SZGP
X-ORIGINAL-URL:https://szgp.hr
X-WR-CALDESC:Događaji za SZGP
REFRESH-INTERVAL;VALUE=DURATION:PT1H
X-Robots-Tag:noindex
X-PUBLISHED-TTL:PT1H
BEGIN:VTIMEZONE
TZID:Europe/Budapest
BEGIN:DAYLIGHT
TZOFFSETFROM:+0100
TZOFFSETTO:+0200
TZNAME:CEST
DTSTART:20230326T010000
END:DAYLIGHT
BEGIN:STANDARD
TZOFFSETFROM:+0200
TZOFFSETTO:+0100
TZNAME:CET
DTSTART:20231029T010000
END:STANDARD
BEGIN:DAYLIGHT
TZOFFSETFROM:+0100
TZOFFSETTO:+0200
TZNAME:CEST
DTSTART:20240331T010000
END:DAYLIGHT
BEGIN:STANDARD
TZOFFSETFROM:+0200
TZOFFSETTO:+0100
TZNAME:CET
DTSTART:20241027T010000
END:STANDARD
BEGIN:DAYLIGHT
TZOFFSETFROM:+0100
TZOFFSETTO:+0200
TZNAME:CEST
DTSTART:20250330T010000
END:DAYLIGHT
BEGIN:STANDARD
TZOFFSETFROM:+0200
TZOFFSETTO:+0100
TZNAME:CET
DTSTART:20251026T010000
END:STANDARD
END:VTIMEZONE
BEGIN:VEVENT
DTSTART;TZID=Europe/Budapest:20241019T130000
DTEND;TZID=Europe/Budapest:20241020T150000
DTSTAMP:20260421T105502
CREATED:20241003T124416Z
LAST-MODIFIED:20241003T124416Z
UID:22031-1729342800-1729436400@szgp.hr
SUMMARY:SPORTFEST Dodgeball
DESCRIPTION:
URL:https://szgp.hr/event/sportfest-dodgeball/
LOCATION:Osnovna škola Finida\, Rovinjska 12\, Poreč\, Istra\, 52440\, Croatia (Local Name: Hrvatska)
CATEGORIES:Finida
END:VEVENT
BEGIN:VEVENT
DTSTART;TZID=Europe/Budapest:20241019T130000
DTEND;TZID=Europe/Budapest:20241019T170000
DTSTAMP:20260421T105502
CREATED:20240913T083831Z
LAST-MODIFIED:20240913T090001Z
UID:21693-1729342800-1729357200@szgp.hr
SUMMARY:1.HBL BK Špadići - BK Umag
DESCRIPTION:
URL:https://szgp.hr/event/1-hbl-bk-spadici/
LOCATION:Boćarska dvorana Veli Jože\, POREČ\, Istarska županija\, 52440\, Croatia (Local Name: Hrvatska)
CATEGORIES:Boćarska dvorana Veli Jože
END:VEVENT
BEGIN:VEVENT
DTSTART;TZID=Europe/Budapest:20241019T083000
DTEND;TZID=Europe/Budapest:20241019T143000
DTSTAMP:20260421T105502
CREATED:20240930T135559Z
LAST-MODIFIED:20240930T135559Z
UID:21924-1729326600-1729348200@szgp.hr
SUMMARY:RK Poreč 1.HRL U13
DESCRIPTION:4 utakmice \n 
URL:https://szgp.hr/event/rk-porec-1-hrl-u13/
LOCATION:SRC Veli Jože\, SRC Veli Jože\, Poreč\, Istra\, 52440\, Croatia (Local Name: Hrvatska)
CATEGORIES:Veli Jože
END:VEVENT
BEGIN:VEVENT
DTSTART;VALUE=DATE:20241014
DTEND;VALUE=DATE:20241021
DTSTAMP:20260421T105502
CREATED:20240719T111535Z
LAST-MODIFIED:20240719T111535Z
UID:20889-1728864000-1729468799@szgp.hr
SUMMARY:Sport Fest
DESCRIPTION:
URL:https://szgp.hr/event/sport-fest/
LOCATION:Dvorana Žatika\, Dvorana Žatika\, Poreč\, Istra\, 52440\, Croatia (Local Name: Hrvatska)
CATEGORIES:Dvorana Žatika
END:VEVENT
BEGIN:VEVENT
DTSTART;TZID=Europe/Budapest:20241013T180000
DTEND;TZID=Europe/Budapest:20241013T200000
DTSTAMP:20260421T105502
CREATED:20240930T140013Z
LAST-MODIFIED:20241001T064742Z
UID:21929-1728842400-1728849600@szgp.hr
SUMMARY:RK Poreč Paket 24 Premier liga RK Poreč - RK Trogir
DESCRIPTION:
URL:https://szgp.hr/event/rk-porec-paket-24-premier-liga-rk-porec-rk-trogir/
LOCATION:SRC Veli Jože\, SRC Veli Jože\, Poreč\, Istra\, 52440\, Croatia (Local Name: Hrvatska)
CATEGORIES:Veli Jože
END:VEVENT
BEGIN:VEVENT
DTSTART;TZID=Europe/Budapest:20241013T163000
DTEND;TZID=Europe/Budapest:20241013T190000
DTSTAMP:20260421T105502
CREATED:20241010T132925Z
LAST-MODIFIED:20241010T132925Z
UID:22143-1728837000-1728846000@szgp.hr
SUMMARY:Košarka 2.liga zapad KK Adria - KK Šanac
DESCRIPTION:
URL:https://szgp.hr/event/kosarka-2-liga-zapad-kk-adria-kk-sanac/
LOCATION:Osnovna škola Finida\, Rovinjska 12\, Poreč\, Istra\, 52440\, Croatia (Local Name: Hrvatska)
CATEGORIES:Finida
END:VEVENT
BEGIN:VEVENT
DTSTART;TZID=Europe/Budapest:20241013T093000
DTEND;TZID=Europe/Budapest:20241013T123000
DTSTAMP:20260421T105502
CREATED:20241010T063539Z
LAST-MODIFIED:20241010T063539Z
UID:22125-1728811800-1728822600@szgp.hr
SUMMARY:Košarkaški klub Poreč -  utakmica
DESCRIPTION:
URL:https://szgp.hr/event/kosarkaski-klub-porec-utakmica/
LOCATION:Osnovna škola Finida\, Rovinjska 12\, Poreč\, Istra\, 52440\, Croatia (Local Name: Hrvatska)
CATEGORIES:Finida
ORGANIZER;CN="Ko%C5%A1arka%C5%A1ki klub Pore%C4%8D":MAILTO:kkporec@gmail.com
END:VEVENT
BEGIN:VEVENT
DTSTART;TZID=Europe/Budapest:20241012T090000
DTEND;TZID=Europe/Budapest:20241012T133000
DTSTAMP:20260421T105502
CREATED:20241010T123510Z
LAST-MODIFIED:20241010T131936Z
UID:22140-1728723600-1728739800@szgp.hr
SUMMARY:ŽRK Poreč 1.HRL U11 ŽRK Poreč - ŽRK Umag / U15 ŽRK Poreč - ŽRK Vinodol
DESCRIPTION:
URL:https://szgp.hr/event/zrk-porec-1-hrl-u11-zrk-porec-zrk-umag-u15-zrk-porec-zrk-vinodol/
LOCATION:Osnovna škola Finida\, Rovinjska 12\, Poreč\, Istra\, 52440\, Croatia (Local Name: Hrvatska)
CATEGORIES:Finida
ORGANIZER;CN="%C5%BDRK PORE%C4%8C":MAILTO:zrk.porec@inet.h
END:VEVENT
BEGIN:VEVENT
DTSTART;TZID=Europe/Budapest:20241012T080000
DTEND;TZID=Europe/Budapest:20241012T160000
DTSTAMP:20260421T105502
CREATED:20240930T135043Z
LAST-MODIFIED:20240930T135043Z
UID:21918-1728720000-1728748800@szgp.hr
SUMMARY:RK Poreč 1.HRL U11 / 2.HRL RK Poreč - RK 28.april Kaštelir
DESCRIPTION:
URL:https://szgp.hr/event/rk-porec-1-hrl-u11-2-hrl-rk-porec-rk-28-april-kastelir/
LOCATION:SRC Veli Jože\, SRC Veli Jože\, Poreč\, Istra\, 52440\, Croatia (Local Name: Hrvatska)
CATEGORIES:Veli Jože
END:VEVENT
BEGIN:VEVENT
DTSTART;TZID=Europe/Budapest:20241010T203000
DTEND;TZID=Europe/Budapest:20241010T220000
DTSTAMP:20260421T105502
CREATED:20240930T134505Z
LAST-MODIFIED:20240930T140315Z
UID:21910-1728592200-1728597600@szgp.hr
SUMMARY:RK Poreč 1.HRL  U17 RK Poreč - RK Umag
DESCRIPTION:
URL:https://szgp.hr/event/rk-porec-1-hrl-u17-rk-porec-rk-umag/
LOCATION:SRC Veli Jože\, SRC Veli Jože\, Poreč\, Istra\, 52440\, Croatia (Local Name: Hrvatska)
CATEGORIES:Veli Jože
END:VEVENT
BEGIN:VEVENT
DTSTART;TZID=Europe/Budapest:20241006T170000
DTEND;TZID=Europe/Budapest:20241006T200000
DTSTAMP:20260421T105502
CREATED:20240930T134718Z
LAST-MODIFIED:20240930T134718Z
UID:21916-1728234000-1728244800@szgp.hr
SUMMARY:RK Poreč Paket 24 Premijer liga RK Poreč - RK Osijek
DESCRIPTION:Dvorana od 13:00 sati \n 
URL:https://szgp.hr/event/rk-porec-paket-24-premijer-liga-rk-porec-rk-osijek/
LOCATION:SRC Veli Jože\, SRC Veli Jože\, Poreč\, Istra\, 52440\, Croatia (Local Name: Hrvatska)
CATEGORIES:Veli Jože
END:VEVENT
BEGIN:VEVENT
DTSTART;VALUE=DATE:20241005
DTEND;VALUE=DATE:20241014
DTSTAMP:20260421T105502
CREATED:20240719T111304Z
LAST-MODIFIED:20240923T124359Z
UID:20887-1728086400-1728863999@szgp.hr
SUMMARY:Prvenstvo svijeta u hrvanju za veterane
DESCRIPTION:
URL:https://szgp.hr/event/prvenstvo-svijeta-u-hrvanju-za-veterane/
LOCATION:Dvorana Žatika\, Dvorana Žatika\, Poreč\, Istra\, 52440\, Croatia (Local Name: Hrvatska)
CATEGORIES:Dvorana Žatika
END:VEVENT
BEGIN:VEVENT
DTSTART;TZID=Europe/Budapest:20240928T170000
DTEND;TZID=Europe/Budapest:20240928T183000
DTSTAMP:20260421T105502
CREATED:20240926T124315Z
LAST-MODIFIED:20240926T124315Z
UID:21891-1727542800-1727548200@szgp.hr
SUMMARY:2.HRL - zapad ŽRK POREČ - ŽRK SAMOBOR
DESCRIPTION:
URL:https://szgp.hr/event/2-hrl-zapad-zrk-porec-zrk-samobor/
LOCATION:SRC Veli Jože\, SRC Veli Jože\, Poreč\, Istra\, 52440\, Croatia (Local Name: Hrvatska)
CATEGORIES:Veli Jože
ORGANIZER;CN="%C5%BDRK PORE%C4%8C":MAILTO:zrk.porec@inet.h
END:VEVENT
BEGIN:VEVENT
DTSTART;TZID=Europe/Budapest:20240928T130000
DTEND;TZID=Europe/Budapest:20240928T170000
DTSTAMP:20260421T105502
CREATED:20240926T125032Z
LAST-MODIFIED:20240926T125032Z
UID:21894-1727528400-1727542800@szgp.hr
SUMMARY:HEP Hrvatska kuglačka Superliga -žene ŽKK Istra - Siscia
DESCRIPTION:
URL:https://szgp.hr/event/hep-hrvatska-kuglacka-superliga-zene-zkk-istra-siscia/
LOCATION:Dom obrtnika Poreč\, Udruženje obrtnika Poreč\, Poreč\, Istra\, 52440\, Croatia (Local Name: Hrvatska)
CATEGORIES:Kuglana Obrtnički dom
END:VEVENT
BEGIN:VEVENT
DTSTART;TZID=Europe/Budapest:20240922T150000
DTEND;TZID=Europe/Budapest:20240922T210000
DTSTAMP:20260421T105502
CREATED:20240912T103926Z
LAST-MODIFIED:20240912T103926Z
UID:21615-1727017200-1727038800@szgp.hr
SUMMARY:EHF 1.kolo EUROPSKI CUP  RK Poreč - Spor Toto SK (Turska)
DESCRIPTION:Uzvratna utakmica / Početak 18:00 sati
URL:https://szgp.hr/event/ehf-1-kolo-europski-cup-rk-porec-spor-toto-sk-turska/
LOCATION:Istra
CATEGORIES:Veli Jože
END:VEVENT
BEGIN:VEVENT
DTSTART;TZID=Europe/Budapest:20240921T150000
DTEND;TZID=Europe/Budapest:20240921T210000
DTSTAMP:20260421T105502
CREATED:20240912T103755Z
LAST-MODIFIED:20240912T103755Z
UID:21613-1726930800-1726952400@szgp.hr
SUMMARY:EHF 1.kolo EUROPSKI CUP  Spor Toto SK (Turska) - RK Poreč
DESCRIPTION:Prva utakmica / početak 18:00 sati 
URL:https://szgp.hr/event/ehf-1-kolo-europski-cup-spor-toto-sk-turska-rk-porec/
LOCATION:Istra
CATEGORIES:Veli Jože
END:VEVENT
BEGIN:VEVENT
DTSTART;TZID=Europe/Budapest:20240914T130000
DTEND;TZID=Europe/Budapest:20240914T160000
DTSTAMP:20260421T105502
CREATED:20240912T113747Z
LAST-MODIFIED:20240912T113747Z
UID:21655-1726318800-1726329600@szgp.hr
SUMMARY:HEP Hrvatska kuglačka superliga 1. kolo  ŽKK Istra - KK Rijeka
DESCRIPTION:
URL:https://szgp.hr/event/hep-hrvatska-kuglacka-superliga-1-kolo-zkk-istra-kk-rijeka/
LOCATION:Dom obrtnika Poreč\, Udruženje obrtnika Poreč\, Poreč\, Istra\, 52440\, Croatia (Local Name: Hrvatska)
CATEGORIES:Kuglana Obrtnički dom
END:VEVENT
BEGIN:VEVENT
DTSTART;VALUE=DATE:20240912
DTEND;VALUE=DATE:20240926
DTSTAMP:20260421T105502
CREATED:20240624T112925Z
LAST-MODIFIED:20240624T112925Z
UID:20694-1726099200-1727308799@szgp.hr
SUMMARY:PromoArh
DESCRIPTION:
URL:https://szgp.hr/event/promoarh/
LOCATION:Dvorana Žatika\, Dvorana Žatika\, Poreč\, Istra\, 52440\, Croatia (Local Name: Hrvatska)
CATEGORIES:Dvorana Žatika
END:VEVENT
BEGIN:VEVENT
DTSTART;TZID=Europe/Budapest:20240825T090000
DTEND;TZID=Europe/Budapest:20240830T230000
DTSTAMP:20260421T105502
CREATED:20240624T113205Z
LAST-MODIFIED:20240624T113205Z
UID:20698-1724576400-1725058800@szgp.hr
SUMMARY:TG LANDSHUT rukomet TRENING
DESCRIPTION:
URL:https://szgp.hr/event/tg-landshut-rukomet-trening/
LOCATION:SRC Veli Jože\, SRC Veli Jože\, Poreč\, Istra\, 52440\, Croatia (Local Name: Hrvatska)
CATEGORIES:Veli Jože
END:VEVENT
BEGIN:VEVENT
DTSTART;TZID=Europe/Budapest:20240716T080000
DTEND;TZID=Europe/Budapest:20240803T110000
DTSTAMP:20260421T105502
CREATED:20240709T103253Z
LAST-MODIFIED:20240709T103522Z
UID:20756-1721116800-1722682800@szgp.hr
SUMMARY:RK POREČ
DESCRIPTION:
URL:https://szgp.hr/event/rk-porec-2/
LOCATION:Dvorana Žatika\, Dvorana Žatika\, Poreč\, Istra\, 52440\, Croatia (Local Name: Hrvatska)
CATEGORIES:Dvorana Žatika
END:VEVENT
BEGIN:VEVENT
DTSTART;VALUE=DATE:20240708
DTEND;VALUE=DATE:20240715
DTSTAMP:20260421T105502
CREATED:20240709T101852Z
LAST-MODIFIED:20240709T101852Z
UID:20750-1720396800-1721001599@szgp.hr
SUMMARY:Hrvatski Twirling Savez
DESCRIPTION:
URL:https://szgp.hr/event/hrvatski-twirling-savez/
LOCATION:Dvorana Žatika\, Dvorana Žatika\, Poreč\, Istra\, 52440\, Croatia (Local Name: Hrvatska)
CATEGORIES:Dvorana Žatika
END:VEVENT
BEGIN:VEVENT
DTSTART;VALUE=DATE:20240624
DTEND;VALUE=DATE:20240701
DTSTAMP:20260421T105502
CREATED:20240601T092856Z
LAST-MODIFIED:20240601T092856Z
UID:20531-1719187200-1719791999@szgp.hr
SUMMARY:Karate Youth League 2024
DESCRIPTION:
URL:https://szgp.hr/event/karate-youth-league-2024/
LOCATION:SRC Veli Jože\, SRC Veli Jože\, Poreč\, Istra\, 52440\, Croatia (Local Name: Hrvatska)
CATEGORIES:Veli Jože
END:VEVENT
BEGIN:VEVENT
DTSTART;VALUE=DATE:20240623
DTEND;VALUE=DATE:20240702
DTSTAMP:20260421T105502
CREATED:20240601T092517Z
LAST-MODIFIED:20240601T092517Z
UID:20523-1719100800-1719878399@szgp.hr
SUMMARY:WKF Youth Camp & Cup
DESCRIPTION:
URL:https://szgp.hr/event/wkf-youth-camp-cup/
LOCATION:Dvorana Žatika\, Dvorana Žatika\, Poreč\, Istra\, 52440\, Croatia (Local Name: Hrvatska)
CATEGORIES:Dvorana Žatika
END:VEVENT
BEGIN:VEVENT
DTSTART;VALUE=DATE:20240622
DTEND;VALUE=DATE:20240623
DTSTAMP:20260421T105502
CREATED:20240601T092358Z
LAST-MODIFIED:20240601T092358Z
UID:20521-1719014400-1719100799@szgp.hr
SUMMARY:Memorijalni turnir
DESCRIPTION:
URL:https://szgp.hr/event/memorijalni-turnir/
LOCATION:Dvorana Žatika\, Dvorana Žatika\, Poreč\, Istra\, 52440\, Croatia (Local Name: Hrvatska)
CATEGORIES:Dvorana Žatika
END:VEVENT
BEGIN:VEVENT
DTSTART;TZID=Europe/Budapest:20240621T080000
DTEND;TZID=Europe/Budapest:20240621T120000
DTSTAMP:20260421T105502
CREATED:20240601T092802Z
LAST-MODIFIED:20240601T092802Z
UID:20529-1718956800-1718971200@szgp.hr
SUMMARY:O.Š.Poreč završna priredba
DESCRIPTION:
URL:https://szgp.hr/event/o-s-porec-zavrsna-priredba/
LOCATION:SRC Veli Jože\, SRC Veli Jože\, Poreč\, Istra\, 52440\, Croatia (Local Name: Hrvatska)
CATEGORIES:Veli Jože
END:VEVENT
BEGIN:VEVENT
DTSTART;VALUE=DATE:20240616
DTEND;VALUE=DATE:20240620
DTSTAMP:20260421T105502
CREATED:20240601T092259Z
LAST-MODIFIED:20240601T092259Z
UID:20519-1718496000-1718841599@szgp.hr
SUMMARY:HRS M U11
DESCRIPTION:
URL:https://szgp.hr/event/hrs-m-u11/
LOCATION:Dvorana Žatika\, Dvorana Žatika\, Poreč\, Istra\, 52440\, Croatia (Local Name: Hrvatska)
CATEGORIES:Dvorana Žatika
END:VEVENT
BEGIN:VEVENT
DTSTART;VALUE=DATE:20240611
DTEND;VALUE=DATE:20240615
DTSTAMP:20260421T105502
CREATED:20240601T092212Z
LAST-MODIFIED:20240601T092212Z
UID:20517-1718064000-1718409599@szgp.hr
SUMMARY:HRS M U 15
DESCRIPTION:
URL:https://szgp.hr/event/hrs-m-u-15/
LOCATION:Dvorana Žatika\, Dvorana Žatika\, Poreč\, Istra\, 52440\, Croatia (Local Name: Hrvatska)
CATEGORIES:Dvorana Žatika
END:VEVENT
BEGIN:VEVENT
DTSTART;VALUE=DATE:20240608
DTEND;VALUE=DATE:20240609
DTSTAMP:20260421T105502
CREATED:20240601T092706Z
LAST-MODIFIED:20240601T092706Z
UID:20527-1717804800-1717891199@szgp.hr
SUMMARY:BADMINTON IGRE SLOVENSKIH BANKARA
DESCRIPTION:
URL:https://szgp.hr/event/badminton-igre-slovenskih-bankara/
LOCATION:SRC Veli Jože\, SRC Veli Jože\, Poreč\, Istra\, 52440\, Croatia (Local Name: Hrvatska)
CATEGORIES:Veli Jože
END:VEVENT
BEGIN:VEVENT
DTSTART;VALUE=DATE:20240606
DTEND;VALUE=DATE:20240610
DTSTAMP:20260421T105502
CREATED:20240427T211146Z
LAST-MODIFIED:20240427T211146Z
UID:20176-1717632000-1717977599@szgp.hr
SUMMARY:HRS završnica Ž U13
DESCRIPTION:
URL:https://szgp.hr/event/hrs-zavrsnica-z-u13/
LOCATION:Dvorana Žatika\, Dvorana Žatika\, Poreč\, Istra\, 52440\, Croatia (Local Name: Hrvatska)
CATEGORIES:Dvorana Žatika
END:VEVENT
BEGIN:VEVENT
DTSTART;VALUE=DATE:20240601
DTEND;VALUE=DATE:20240605
DTSTAMP:20260421T105502
CREATED:20240427T211039Z
LAST-MODIFIED:20240427T211039Z
UID:20174-1717200000-1717545599@szgp.hr
SUMMARY:HRS - završnica M U13
DESCRIPTION:
URL:https://szgp.hr/event/hrs-zavrsnica-m-u13/
LOCATION:Dvorana Žatika\, Dvorana Žatika\, Poreč\, Istra\, 52440\, Croatia (Local Name: Hrvatska)
CATEGORIES:Dvorana Žatika
END:VEVENT
END:VCALENDAR