BEGIN:VCALENDAR
VERSION:2.0
PRODID:-//SZGP - ECPv6.15.20//NONSGML v1.0//EN
CALSCALE:GREGORIAN
METHOD:PUBLISH
X-ORIGINAL-URL:https://szgp.hr
X-WR-CALDESC:Događaji za SZGP
REFRESH-INTERVAL;VALUE=DURATION:PT1H
X-Robots-Tag:noindex
X-PUBLISHED-TTL:PT1H
BEGIN:VTIMEZONE
TZID:Europe/Budapest
BEGIN:DAYLIGHT
TZOFFSETFROM:+0100
TZOFFSETTO:+0200
TZNAME:CEST
DTSTART:20250330T010000
END:DAYLIGHT
BEGIN:STANDARD
TZOFFSETFROM:+0200
TZOFFSETTO:+0100
TZNAME:CET
DTSTART:20251026T010000
END:STANDARD
BEGIN:DAYLIGHT
TZOFFSETFROM:+0100
TZOFFSETTO:+0200
TZNAME:CEST
DTSTART:20260329T010000
END:DAYLIGHT
BEGIN:STANDARD
TZOFFSETFROM:+0200
TZOFFSETTO:+0100
TZNAME:CET
DTSTART:20261025T010000
END:STANDARD
BEGIN:DAYLIGHT
TZOFFSETFROM:+0100
TZOFFSETTO:+0200
TZNAME:CEST
DTSTART:20270328T010000
END:DAYLIGHT
BEGIN:STANDARD
TZOFFSETFROM:+0200
TZOFFSETTO:+0100
TZNAME:CET
DTSTART:20271031T010000
END:STANDARD
END:VTIMEZONE
BEGIN:VEVENT
DTSTART;TZID=Europe/Budapest:20260330T190000
DTEND;TZID=Europe/Budapest:20260330T201500
DTSTAMP:20260421T022634
CREATED:20260330T062618Z
LAST-MODIFIED:20260330T062618Z
UID:29485-1774897200-1774901700@szgp.hr
SUMMARY:ŽRK Poreč - Buzet U14 1.HRL
DESCRIPTION:
URL:https://szgp.hr/event/zrk-porec-buzet-u14-1-hrl/
LOCATION:SRC Veli Jože\, SRC Veli Jože\, Poreč\, Istra\, 52440\, Croatia (Local Name: Hrvatska)
CATEGORIES:Veli Jože
ATTACH;FMTTYPE=image/jpeg:https://szgp.hr/wp-content/uploads/2025/01/ZRK-Porec.jpg
ORGANIZER;CN="%C5%BDRK PORE%C4%8C":MAILTO:zrk.porec@inet.h
END:VEVENT
BEGIN:VEVENT
DTSTART;TZID=Europe/Budapest:20260330T203000
DTEND;TZID=Europe/Budapest:20260330T220000
DTSTAMP:20260421T022634
CREATED:20260330T062812Z
LAST-MODIFIED:20260330T062812Z
UID:29487-1774902600-1774908000@szgp.hr
SUMMARY:ŽRK Poreč - Arena 2.HRL
DESCRIPTION:
URL:https://szgp.hr/event/zrk-porec-arena-2-hrl/
LOCATION:SRC Veli Jože\, SRC Veli Jože\, Poreč\, Istra\, 52440\, Croatia (Local Name: Hrvatska)
CATEGORIES:Veli Jože
ATTACH;FMTTYPE=image/jpeg:https://szgp.hr/wp-content/uploads/2025/01/ZRK-Porec.jpg
ORGANIZER;CN="%C5%BDRK PORE%C4%8C":MAILTO:zrk.porec@inet.h
END:VEVENT
BEGIN:VEVENT
DTSTART;VALUE=DATE:20260402
DTEND;VALUE=DATE:20260406
DTSTAMP:20260421T022634
CREATED:20260114T100814Z
LAST-MODIFIED:20260114T100814Z
UID:28633-1775088000-1775433599@szgp.hr
SUMMARY:Adria Youth tournament - 2026
DESCRIPTION:
URL:https://szgp.hr/event/adria-youth-tournament-2026/
LOCATION:Dvorana Žatika\, Dvorana Žatika\, Poreč\, Istra\, 52440\, Croatia (Local Name: Hrvatska)
CATEGORIES:Dvorana Žatika,Veli Jože
END:VEVENT
BEGIN:VEVENT
DTSTART;VALUE=DATE:20260403
DTEND;VALUE=DATE:20260407
DTSTAMP:20260421T022634
CREATED:20260303T085620Z
LAST-MODIFIED:20260310T113736Z
UID:29124-1775174400-1775519999@szgp.hr
SUMMARY:Adria Basketball Youth Tournament
DESCRIPTION:
URL:https://szgp.hr/event/ok-porec-zavrsnica-zl-ml-kadetkinje/
LOCATION:Osnovna škola Finida\, Rovinjska 12\, Poreč\, Istra\, 52440\, Croatia (Local Name: Hrvatska)
CATEGORIES:Finida
ORGANIZER;CN="GAT":MAILTO:gat@pu.t-com.hr
END:VEVENT
BEGIN:VEVENT
DTSTART;VALUE=DATE:20260404
DTEND;VALUE=DATE:20260406
DTSTAMP:20260421T022634
CREATED:20260310T113426Z
LAST-MODIFIED:20260310T113426Z
UID:29242-1775260800-1775433599@szgp.hr
SUMMARY:Adria Basketball Youth Tournament
DESCRIPTION:
URL:https://szgp.hr/event/adria-basketball-youth-tournament/
LOCATION:SRC Veli Jože\, SRC Veli Jože\, Poreč\, Istra\, 52440\, Croatia (Local Name: Hrvatska)
CATEGORIES:Veli Jože
ORGANIZER;CN="GAT":MAILTO:gat@pu.t-com.hr
END:VEVENT
BEGIN:VEVENT
DTSTART;VALUE=DATE:20260407
DTEND;VALUE=DATE:20260413
DTSTAMP:20260421T022634
CREATED:20250624T071302Z
LAST-MODIFIED:20260403T084841Z
UID:26611-1775520000-1776038399@szgp.hr
SUMMARY:Filatelistička izložba ALPE ADRIA
DESCRIPTION:
URL:https://szgp.hr/event/predrezervacija-filatelisticka-izlozba-alpe-adria/
LOCATION:Dvorana Žatika\, Dvorana Žatika\, Poreč\, Istra\, 52440\, Croatia (Local Name: Hrvatska)
CATEGORIES:Dvorana Žatika
END:VEVENT
BEGIN:VEVENT
DTSTART;TZID=Europe/Budapest:20260411T090000
DTEND;TZID=Europe/Budapest:20260411T133000
DTSTAMP:20260421T022634
CREATED:20260402T084004Z
LAST-MODIFIED:20260402T084004Z
UID:29614-1775898000-1775914200@szgp.hr
SUMMARY:ŽRK Poreč-Rudar\, Umag-Vinodol U12 1.HRL
DESCRIPTION:
URL:https://szgp.hr/event/zrk-porec-rudar-umag-vinodol-u12-1-hrl/
LOCATION:SRC Veli Jože\, SRC Veli Jože\, Poreč\, Istra\, 52440\, Croatia (Local Name: Hrvatska)
CATEGORIES:Veli Jože
ATTACH;FMTTYPE=image/jpeg:https://szgp.hr/wp-content/uploads/2025/01/ZRK-Porec.jpg
ORGANIZER;CN="%C5%BDRK PORE%C4%8C":MAILTO:zrk.porec@inet.h
END:VEVENT
BEGIN:VEVENT
DTSTART;TZID=Europe/Budapest:20260411T090000
DTEND;TZID=Europe/Budapest:20260411T150000
DTSTAMP:20260421T022634
CREATED:20260316T121710Z
LAST-MODIFIED:20260401T070002Z
UID:29302-1775898000-1775919600@szgp.hr
SUMMARY:OK POREČ Ml. kadetkinje Završnica prvenstva Istre
DESCRIPTION:
URL:https://szgp.hr/event/ok-porec-ml-kadetkinje-zavrsnica-prvenstva-istre/
LOCATION:Osnovna škola Finida\, Rovinjska 12\, Poreč\, Istra\, 52440\, Croatia (Local Name: Hrvatska)
CATEGORIES:Finida
ATTACH;FMTTYPE=image/jpeg:https://szgp.hr/wp-content/uploads/2025/01/ok-porec-logo-1.jpg
ORGANIZER;CN="Odbojka%C5%A1ki klub Pore%C4%8D":MAILTO:tajnikokporec@gmail.com
END:VEVENT
BEGIN:VEVENT
DTSTART;TZID=Europe/Budapest:20260411T143000
DTEND;TZID=Europe/Budapest:20260411T180000
DTSTAMP:20260421T022634
CREATED:20260402T084440Z
LAST-MODIFIED:20260407T071700Z
UID:29619-1775917800-1775930400@szgp.hr
SUMMARY:ŽRK Poreč - Sesvete 2  .HRL
DESCRIPTION:
URL:https://szgp.hr/event/zrk-porec-sesvete-2-hrl/
LOCATION:SRC Veli Jože\, SRC Veli Jože\, Poreč\, Istra\, 52440\, Croatia (Local Name: Hrvatska)
CATEGORIES:Veli Jože
ATTACH;FMTTYPE=image/jpeg:https://szgp.hr/wp-content/uploads/2025/01/ZRK-Porec.jpg
ORGANIZER;CN="%C5%BDRK PORE%C4%8C":MAILTO:zrk.porec@inet.h
END:VEVENT
BEGIN:VEVENT
DTSTART;TZID=Europe/Budapest:20260411T170000
DTEND;TZID=Europe/Budapest:20260411T203000
DTSTAMP:20260421T022634
CREATED:20260407T122145Z
LAST-MODIFIED:20260407T122145Z
UID:29695-1775926800-1775939400@szgp.hr
SUMMARY:KK ADRIA : KK ROVINJ
DESCRIPTION:
URL:https://szgp.hr/event/kk-adria-kk-rovinj/
LOCATION:Osnovna škola Finida\, Rovinjska 12\, Poreč\, Istra\, 52440\, Croatia (Local Name: Hrvatska)
CATEGORIES:Finida
ATTACH;FMTTYPE=image/png:https://szgp.hr/wp-content/uploads/2025/01/KK-Adria.png
END:VEVENT
BEGIN:VEVENT
DTSTART;TZID=Europe/Budapest:20260412T140000
DTEND;TZID=Europe/Budapest:20260412T190000
DTSTAMP:20260421T022634
CREATED:20260314T062428Z
LAST-MODIFIED:20260401T070112Z
UID:29269-1776002400-1776020400@szgp.hr
SUMMARY:OK POREČ  Ml kadetkinje završnica regije
DESCRIPTION:
URL:https://szgp.hr/event/ok-porec-zavrsnica-regije-ml-kadetkinje/
LOCATION:Osnovna škola Finida\, Rovinjska 12\, Poreč\, Istra\, 52440\, Croatia (Local Name: Hrvatska)
CATEGORIES:Finida
ATTACH;FMTTYPE=image/jpeg:https://szgp.hr/wp-content/uploads/2025/01/ok-porec-logo-1.jpg
ORGANIZER;CN="Odbojka%C5%A1ki klub Pore%C4%8D":MAILTO:tajnikokporec@gmail.com
END:VEVENT
BEGIN:VEVENT
DTSTART;TZID=Europe/Budapest:20260412T153000
DTEND;TZID=Europe/Budapest:20260412T200000
DTSTAMP:20260421T022634
CREATED:20251216T072440Z
LAST-MODIFIED:20251216T072440Z
UID:28323-1776007800-1776024000@szgp.hr
SUMMARY:RK POREČ 2- RK SENJ 1.HRL
DESCRIPTION:
URL:https://szgp.hr/event/rk-porec-2-rk-senj-1-hrl/
LOCATION:SRC Veli Jože\, SRC Veli Jože\, Poreč\, Istra\, 52440\, Croatia (Local Name: Hrvatska)
CATEGORIES:Veli Jože
ATTACH;FMTTYPE=image/png:https://szgp.hr/wp-content/uploads/2024/09/RK-Porec.png
END:VEVENT
BEGIN:VEVENT
DTSTART;TZID=Europe/Budapest:20260414T073000
DTEND;TZID=Europe/Budapest:20260414T153000
DTSTAMP:20260421T022634
CREATED:20260407T054806Z
LAST-MODIFIED:20260407T054806Z
UID:29675-1776151800-1776180600@szgp.hr
SUMMARY:HŠSS Košarka O.Š.
DESCRIPTION:
URL:https://szgp.hr/event/hsss-kosarka-o-s/
LOCATION:SRC Veli Jože\, SRC Veli Jože\, Poreč\, Istra\, 52440\, Croatia (Local Name: Hrvatska)
CATEGORIES:Veli Jože
END:VEVENT
BEGIN:VEVENT
DTSTART;TZID=Europe/Budapest:20260414T073000
DTEND;TZID=Europe/Budapest:20260414T153000
DTSTAMP:20260421T022634
CREATED:20260407T064436Z
LAST-MODIFIED:20260407T064436Z
UID:29682-1776151800-1776180600@szgp.hr
SUMMARY:HŠSS Košarka O.Š.
DESCRIPTION:
URL:https://szgp.hr/event/hsss-kosarka-o-s-2/
LOCATION:Dvorana Žatika\, Dvorana Žatika\, Poreč\, Istra\, 52440\, Croatia (Local Name: Hrvatska)
CATEGORIES:Dvorana Žatika
END:VEVENT
BEGIN:VEVENT
DTSTART;TZID=Europe/Budapest:20260416T073000
DTEND;TZID=Europe/Budapest:20260416T153000
DTSTAMP:20260421T022634
CREATED:20260407T055005Z
LAST-MODIFIED:20260407T055005Z
UID:29677-1776324600-1776353400@szgp.hr
SUMMARY:HŠSS Košarka S.Š.
DESCRIPTION:
URL:https://szgp.hr/event/hsss-kosarka-s-s/
LOCATION:SRC Veli Jože\, SRC Veli Jože\, Poreč\, Istra\, 52440\, Croatia (Local Name: Hrvatska)
CATEGORIES:Veli Jože
END:VEVENT
BEGIN:VEVENT
DTSTART;TZID=Europe/Budapest:20260416T073000
DTEND;TZID=Europe/Budapest:20260416T153000
DTSTAMP:20260421T022634
CREATED:20260407T064544Z
LAST-MODIFIED:20260407T064544Z
UID:29684-1776324600-1776353400@szgp.hr
SUMMARY:HŠSS Košarka S.Š.
DESCRIPTION:
URL:https://szgp.hr/event/hsss-kosarka-s-s-2/
LOCATION:Dvorana Žatika\, Dvorana Žatika\, Poreč\, Istra\, 52440\, Croatia (Local Name: Hrvatska)
CATEGORIES:Dvorana Žatika
END:VEVENT
BEGIN:VEVENT
DTSTART;VALUE=DATE:20260417
DTEND;VALUE=DATE:20260421
DTSTAMP:20260421T022634
CREATED:20250319T120408Z
LAST-MODIFIED:20260114T100955Z
UID:24554-1776384000-1776729599@szgp.hr
SUMMARY:Gebruder Weiss - futsal
DESCRIPTION:
URL:https://szgp.hr/event/predrezervacija-gebruder-weiss-futsal/
LOCATION:Dvorana Žatika\, Dvorana Žatika\, Poreč\, Istra\, 52440\, Croatia (Local Name: Hrvatska)
CATEGORIES:Dvorana Žatika
ATTACH;FMTTYPE=image/png:https://szgp.hr/wp-content/uploads/2025/03/GW.png
ORGANIZER;CN="Gebruder Weiss":MAILTO:suzana.takac@gw-world.com
END:VEVENT
BEGIN:VEVENT
DTSTART;TZID=Europe/Budapest:20260418T083000
DTEND;TZID=Europe/Budapest:20260418T123000
DTSTAMP:20260421T022634
CREATED:20260415T195949Z
LAST-MODIFIED:20260415T195949Z
UID:29816-1776501000-1776515400@szgp.hr
SUMMARY:RK POREČ U13 Žl
DESCRIPTION:
URL:https://szgp.hr/event/rk-porec-u13-zl-3/
LOCATION:SRC Veli Jože\, SRC Veli Jože\, Poreč\, Istra\, 52440\, Croatia (Local Name: Hrvatska)
CATEGORIES:Veli Jože
ATTACH;FMTTYPE=image/png:https://szgp.hr/wp-content/uploads/2024/09/RK-Porec.png
END:VEVENT
BEGIN:VEVENT
DTSTART;TZID=Europe/Budapest:20260418T133000
DTEND;TZID=Europe/Budapest:20260418T160000
DTSTAMP:20260421T022634
CREATED:20260414T094636Z
LAST-MODIFIED:20260414T094636Z
UID:29783-1776519000-1776528000@szgp.hr
SUMMARY:KK Poreč - Umag ŽL Kadeti
DESCRIPTION:
URL:https://szgp.hr/event/kk-porec-umag-zl-kadeti/
LOCATION:Osnovna škola Finida\, Rovinjska 12\, Poreč\, Istra\, 52440\, Croatia (Local Name: Hrvatska)
CATEGORIES:Finida
ATTACH;FMTTYPE=image/jpeg:https://szgp.hr/wp-content/uploads/2025/01/KK-Porec.jpg
ORGANIZER;CN="Ko%C5%A1arka%C5%A1ki klub Pore%C4%8D":MAILTO:kkporec@gmail.com
END:VEVENT
BEGIN:VEVENT
DTSTART;TZID=Europe/Budapest:20260419T130000
DTEND;TZID=Europe/Budapest:20260419T210000
DTSTAMP:20260421T022634
CREATED:20251216T071137Z
LAST-MODIFIED:20260415T104244Z
UID:28311-1776603600-1776632400@szgp.hr
SUMMARY:RK POREČ - RK BJELIN SPAČVA Premierliga
DESCRIPTION:
URL:https://szgp.hr/event/rk-porec-rk-bjelin-spacva-premireliga/
LOCATION:SRC Veli Jože\, SRC Veli Jože\, Poreč\, Istra\, 52440\, Croatia (Local Name: Hrvatska)
CATEGORIES:Veli Jože
ATTACH;FMTTYPE=image/png:https://szgp.hr/wp-content/uploads/2024/09/RK-Porec.png
END:VEVENT
BEGIN:VEVENT
DTSTART;TZID=Europe/Budapest:20260419T153000
DTEND;TZID=Europe/Budapest:20260419T190000
DTSTAMP:20260421T022634
CREATED:20260331T122201Z
LAST-MODIFIED:20260414T073054Z
UID:29541-1776612600-1776625200@szgp.hr
SUMMARY:OK POREČ 2 - OK Crikvenica -2.HOL zapad
DESCRIPTION:
URL:https://szgp.hr/event/ok-porec-prvenstvena/
LOCATION:Osnovna škola Finida\, Rovinjska 12\, Poreč\, Istra\, 52440\, Croatia (Local Name: Hrvatska)
CATEGORIES:Finida
ATTACH;FMTTYPE=image/jpeg:https://szgp.hr/wp-content/uploads/2025/01/ok-porec-logo-1.jpg
ORGANIZER;CN="Odbojka%C5%A1ki klub Pore%C4%8D":MAILTO:tajnikokporec@gmail.com
END:VEVENT
BEGIN:VEVENT
DTSTART;TZID=Europe/Budapest:20260422T080000
DTEND;TZID=Europe/Budapest:20260426T170000
DTSTAMP:20260421T022634
CREATED:20250611T133518Z
LAST-MODIFIED:20250611T133518Z
UID:26472-1776844800-1777222800@szgp.hr
SUMMARY:HRS U17 djevojke PH
DESCRIPTION:
URL:https://szgp.hr/event/hrs-u17-djevojke-ph/
LOCATION:Dvorana Žatika\, Dvorana Žatika\, Poreč\, Istra\, 52440\, Croatia (Local Name: Hrvatska)
CATEGORIES:Dvorana Žatika
END:VEVENT
BEGIN:VEVENT
DTSTART;TZID=Europe/Budapest:20260425T090000
DTEND;TZID=Europe/Budapest:20260425T123000
DTSTAMP:20260421T022634
CREATED:20260407T110206Z
LAST-MODIFIED:20260407T110206Z
UID:29690-1777107600-1777120200@szgp.hr
SUMMARY:ŽRK Poreč - Gospić i Rab U14 1.Hrl
DESCRIPTION:
URL:https://szgp.hr/event/zrk-porec-gospic-i-rab-u14-1-hrl/
LOCATION:SRC Veli Jože\, SRC Veli Jože\, Poreč\, Istra\, 52440\, Croatia (Local Name: Hrvatska)
CATEGORIES:Veli Jože
ATTACH;FMTTYPE=image/jpeg:https://szgp.hr/wp-content/uploads/2025/01/ZRK-Porec.jpg
ORGANIZER;CN="%C5%BDRK PORE%C4%8C":MAILTO:zrk.porec@inet.h
END:VEVENT
BEGIN:VEVENT
DTSTART;TZID=Europe/Budapest:20260425T100000
DTEND;TZID=Europe/Budapest:20260425T130000
DTSTAMP:20260421T022634
CREATED:20260420T124727Z
LAST-MODIFIED:20260420T124727Z
UID:29876-1777111200-1777122000@szgp.hr
SUMMARY:KK Poreč - Trst\, Pretkadeti
DESCRIPTION:
URL:https://szgp.hr/event/kk-porec-trst-pretkadeti/
LOCATION:Osnovna škola Finida\, Rovinjska 12\, Poreč\, Istra\, 52440\, Croatia (Local Name: Hrvatska)
CATEGORIES:Finida
ATTACH;FMTTYPE=image/jpeg:https://szgp.hr/wp-content/uploads/2025/01/KK-Porec.jpg
ORGANIZER;CN="Ko%C5%A1arka%C5%A1ki klub Pore%C4%8D":MAILTO:kkporec@gmail.com
END:VEVENT
BEGIN:VEVENT
DTSTART;TZID=Europe/Budapest:20260425T150000
DTEND;TZID=Europe/Budapest:20260425T200000
DTSTAMP:20260421T022634
CREATED:20260407T110348Z
LAST-MODIFIED:20260407T110348Z
UID:29692-1777129200-1777147200@szgp.hr
SUMMARY:ŽRK Poreč-Senj 2.Hrl
DESCRIPTION:
URL:https://szgp.hr/event/zrk-porec-senj-2-hrl/
LOCATION:SRC Veli Jože\, SRC Veli Jože\, Poreč\, Istra\, 52440\, Croatia (Local Name: Hrvatska)
CATEGORIES:Veli Jože
ATTACH;FMTTYPE=image/jpeg:https://szgp.hr/wp-content/uploads/2025/01/ZRK-Porec.jpg
ORGANIZER;CN="%C5%BDRK PORE%C4%8C":MAILTO:zrk.porec@inet.h
END:VEVENT
BEGIN:VEVENT
DTSTART;TZID=Europe/Budapest:20260426T090000
DTEND;TZID=Europe/Budapest:20260426T160000
DTSTAMP:20260421T022634
CREATED:20260301T133519Z
LAST-MODIFIED:20260301T133519Z
UID:29102-1777194000-1777219200@szgp.hr
SUMMARY:KK FINIDA Žl borbe
DESCRIPTION:
URL:https://szgp.hr/event/kk-finida-zl-borbe/
LOCATION:Osnovna škola Finida\, Rovinjska 12\, Poreč\, Istra\, 52440\, Croatia (Local Name: Hrvatska)
CATEGORIES:Finida
ATTACH;FMTTYPE=image/png:https://szgp.hr/wp-content/uploads/2024/11/KK-FINIDA.png
ORGANIZER;CN="KK Finida":MAILTO:kkfinida@yahoo.com
END:VEVENT
BEGIN:VEVENT
DTSTART;TZID=Europe/Budapest:20260426T153000
DTEND;TZID=Europe/Budapest:20260426T200000
DTSTAMP:20260421T022634
CREATED:20251216T072554Z
LAST-MODIFIED:20251216T072554Z
UID:28325-1777217400-1777233600@szgp.hr
SUMMARY:RK POREČ 2- RK VODICE 1.HRL
DESCRIPTION:
URL:https://szgp.hr/event/rk-porec-2-rk-vodice-1-hrl/
LOCATION:SRC Veli Jože\, SRC Veli Jože\, Poreč\, Istra\, 52440\, Croatia (Local Name: Hrvatska)
CATEGORIES:Veli Jože
ATTACH;FMTTYPE=image/png:https://szgp.hr/wp-content/uploads/2024/09/RK-Porec.png
END:VEVENT
BEGIN:VEVENT
DTSTART;VALUE=DATE:20260429
DTEND;VALUE=DATE:20260515
DTSTAMP:20260421T022634
CREATED:20250320T112122Z
LAST-MODIFIED:20250402T093749Z
UID:24559-1777420800-1778803199@szgp.hr
SUMMARY:32. Međunarodna izložba vina i vinarske opreme „Vinistra 2026“
DESCRIPTION:
URL:https://szgp.hr/event/32-medunarodna-izlozba-vina-i-vinarske-opreme-vinistra-2026/
LOCATION:Dvorana Žatika\, Dvorana Žatika\, Poreč\, Istra\, 52440\, Croatia (Local Name: Hrvatska)
CATEGORIES:Dvorana Žatika
ATTACH;FMTTYPE=image/png:https://szgp.hr/wp-content/uploads/2025/03/vinistra.png
ORGANIZER;CN="Vinistra":MAILTO:info@vinistra.hr
END:VEVENT
BEGIN:VEVENT
DTSTART;TZID=Europe/Budapest:20260429T083000
DTEND;TZID=Europe/Budapest:20260429T140000
DTSTAMP:20260421T022634
CREATED:20250814T084340Z
LAST-MODIFIED:20250814T084340Z
UID:26936-1777451400-1777471200@szgp.hr
SUMMARY:ŠSS Istarske županije - osnovne škole ATLETIKA 1. - 4. učenici s intelektualnim poteškoćama
DESCRIPTION:30.travanj rezervni dan
URL:https://szgp.hr/event/sss-istarske-zupanije-osnovne-skole-atletika-1-4-ucenici-s-intelektualnim-poteskocama/
LOCATION:Stadion NK Jadran
CATEGORIES:Stadion NK Jadran
ATTACH;FMTTYPE=image/jpeg:https://szgp.hr/wp-content/uploads/2025/08/SSS-IZ.jpg
ORGANIZER;CN="%C5%A0SS Istarske %C5%BEupanije":MAILTO:skolski.sport.istra@gmail.com
END:VEVENT
BEGIN:VEVENT
DTSTART;TZID=Europe/Budapest:20260502T160000
DTEND;TZID=Europe/Budapest:20260502T210000
DTSTAMP:20260421T022634
CREATED:20251216T071311Z
LAST-MODIFIED:20251216T072642Z
UID:28313-1777737600-1777755600@szgp.hr
SUMMARY:RK POREČ - RK RUDAR Premierliga
DESCRIPTION:
URL:https://szgp.hr/event/rk-porec-rk-rudar-premireliga/
LOCATION:SRC Veli Jože\, SRC Veli Jože\, Poreč\, Istra\, 52440\, Croatia (Local Name: Hrvatska)
CATEGORIES:Veli Jože
ATTACH;FMTTYPE=image/png:https://szgp.hr/wp-content/uploads/2024/09/RK-Porec.png
END:VEVENT
END:VCALENDAR