BEGIN:VCALENDAR
VERSION:2.0
PRODID:-//SZGP - ECPv6.15.20//NONSGML v1.0//EN
CALSCALE:GREGORIAN
METHOD:PUBLISH
X-WR-CALNAME:SZGP
X-ORIGINAL-URL:https://szgp.hr
X-WR-CALDESC:Događaji za SZGP
REFRESH-INTERVAL;VALUE=DURATION:PT1H
X-Robots-Tag:noindex
X-PUBLISHED-TTL:PT1H
BEGIN:VTIMEZONE
TZID:Europe/Budapest
BEGIN:DAYLIGHT
TZOFFSETFROM:+0100
TZOFFSETTO:+0200
TZNAME:CEST
DTSTART:20230326T010000
END:DAYLIGHT
BEGIN:STANDARD
TZOFFSETFROM:+0200
TZOFFSETTO:+0100
TZNAME:CET
DTSTART:20231029T010000
END:STANDARD
BEGIN:DAYLIGHT
TZOFFSETFROM:+0100
TZOFFSETTO:+0200
TZNAME:CEST
DTSTART:20240331T010000
END:DAYLIGHT
BEGIN:STANDARD
TZOFFSETFROM:+0200
TZOFFSETTO:+0100
TZNAME:CET
DTSTART:20241027T010000
END:STANDARD
BEGIN:DAYLIGHT
TZOFFSETFROM:+0100
TZOFFSETTO:+0200
TZNAME:CEST
DTSTART:20250330T010000
END:DAYLIGHT
BEGIN:STANDARD
TZOFFSETFROM:+0200
TZOFFSETTO:+0100
TZNAME:CET
DTSTART:20251026T010000
END:STANDARD
BEGIN:DAYLIGHT
TZOFFSETFROM:+0100
TZOFFSETTO:+0200
TZNAME:CEST
DTSTART:20260329T010000
END:DAYLIGHT
BEGIN:STANDARD
TZOFFSETFROM:+0200
TZOFFSETTO:+0100
TZNAME:CET
DTSTART:20261025T010000
END:STANDARD
END:VTIMEZONE
BEGIN:VEVENT
DTSTART;TZID=Europe/Budapest:20250125T090000
DTEND;TZID=Europe/Budapest:20250126T170000
DTSTAMP:20260421T000449
CREATED:20250124T083700Z
LAST-MODIFIED:20250124T083700Z
UID:23813-1737795600-1737910800@szgp.hr
SUMMARY:Futsal / Coca cola cup Sportske igre mladih
DESCRIPTION:
URL:https://szgp.hr/event/futsal-coca-cola-cup-sportske-igre-mladih/
LOCATION:SRC Veli Jože\, SRC Veli Jože\, Poreč\, Istra\, 52440\, Croatia (Local Name: Hrvatska)
CATEGORIES:Veli Jože
END:VEVENT
BEGIN:VEVENT
DTSTART;TZID=Europe/Budapest:20250125T090000
DTEND;TZID=Europe/Budapest:20250125T130000
DTSTAMP:20260421T000449
CREATED:20250110T094731Z
LAST-MODIFIED:20250120T074526Z
UID:23577-1737795600-1737810000@szgp.hr
SUMMARY:Odbojka Ml. kadetkinje OK Poreč - OK Pazin  Županijska liga
DESCRIPTION:
URL:https://szgp.hr/event/odbojka-ml-kadetkinje-ok-porec-ok-pazin-zupanijska-liga/
LOCATION:Osnovna škola Finida\, Rovinjska 12\, Poreč\, Istra\, 52440\, Croatia (Local Name: Hrvatska)
CATEGORIES:Finida
ATTACH;FMTTYPE=image/jpeg:https://szgp.hr/wp-content/uploads/2025/01/ok-porec-logo-1.jpg
ORGANIZER;CN="Odbojka%C5%A1ki klub Pore%C4%8D":MAILTO:tajnikokporec@gmail.com
END:VEVENT
BEGIN:VEVENT
DTSTART;TZID=Europe/Budapest:20250119T103000
DTEND;TZID=Europe/Budapest:20250119T130000
DTSTAMP:20260421T000449
CREATED:20241218T091923Z
LAST-MODIFIED:20241218T091923Z
UID:23459-1737282600-1737291600@szgp.hr
SUMMARY:KK POREČ prvenstvena
DESCRIPTION:
URL:https://szgp.hr/event/kk-porec-prvenstvena-2/
LOCATION:Osnovna škola Finida\, Rovinjska 12\, Poreč\, Istra\, 52440\, Croatia (Local Name: Hrvatska)
CATEGORIES:Finida
ORGANIZER;CN="Ko%C5%A1arka%C5%A1ki klub Pore%C4%8D":MAILTO:kkporec@gmail.com
END:VEVENT
BEGIN:VEVENT
DTSTART;TZID=Europe/Budapest:20250118T100000
DTEND;TZID=Europe/Budapest:20250118T130000
DTSTAMP:20260421T000449
CREATED:20241218T091803Z
LAST-MODIFIED:20241218T091803Z
UID:23457-1737194400-1737205200@szgp.hr
SUMMARY:KK POREČ prvenstvena
DESCRIPTION:
URL:https://szgp.hr/event/kk-porec-prvenstvena/
LOCATION:Osnovna škola Finida\, Rovinjska 12\, Poreč\, Istra\, 52440\, Croatia (Local Name: Hrvatska)
CATEGORIES:Finida
ORGANIZER;CN="Ko%C5%A1arka%C5%A1ki klub Pore%C4%8D":MAILTO:kkporec@gmail.com
END:VEVENT
BEGIN:VEVENT
DTSTART;VALUE=DATE:20250101
DTEND;VALUE=DATE:20250131
DTSTAMP:20260421T000449
CREATED:20240812T080359Z
LAST-MODIFIED:20250109T092130Z
UID:21377-1735689600-1738281599@szgp.hr
SUMMARY:Svjetsko prvenstvo u rukometu 2025
DESCRIPTION:
URL:https://szgp.hr/event/svjetsko-prvenstvo-u-rukometu-2025/
LOCATION:Dvorana Žatika\, Dvorana Žatika\, Poreč\, Istra\, 52440\, Croatia (Local Name: Hrvatska)
CATEGORIES:Dvorana Žatika
ATTACH;FMTTYPE=image/png:https://szgp.hr/wp-content/uploads/2024/08/Logotip_Svjetskog_prvenstva_u_rukometu_2025.png
END:VEVENT
BEGIN:VEVENT
DTSTART;VALUE=DATE:20241226
DTEND;VALUE=DATE:20241230
DTSTAMP:20260421T000449
CREATED:20240807T104634Z
LAST-MODIFIED:20241217T075740Z
UID:21165-1735171200-1735516799@szgp.hr
SUMMARY:BOŽIČNI TURNIR 2024 KOŠARKA
DESCRIPTION:
URL:https://szgp.hr/event/bozicni-turnir-2024-kosarka/
LOCATION:SRC Veli Jože\, SRC Veli Jože\, Poreč\, Istra\, 52440\, Croatia (Local Name: Hrvatska)
CATEGORIES:Finida,Veli Jože
ATTACH;FMTTYPE=image/jpeg:https://szgp.hr/wp-content/uploads/2024/08/Kosarka-Bozicni-turnir-2024-e1734422241114.jpg
END:VEVENT
BEGIN:VEVENT
DTSTART;TZID=Europe/Budapest:20241222T090000
DTEND;TZID=Europe/Budapest:20241222T150000
DTSTAMP:20260421T000449
CREATED:20241126T142232Z
LAST-MODIFIED:20241217T080003Z
UID:22997-1734858000-1734879600@szgp.hr
SUMMARY:KK FINIDA županijsko prvenstvo
DESCRIPTION:
URL:https://szgp.hr/event/kk-finida-zupanijsko-prvenstvo-2/
LOCATION:Osnovna škola Finida\, Rovinjska 12\, Poreč\, Istra\, 52440\, Croatia (Local Name: Hrvatska)
CATEGORIES:Finida
ATTACH;FMTTYPE=image/png:https://szgp.hr/wp-content/uploads/2024/11/KK-FINIDA.png
ORGANIZER;CN="KK Finida":MAILTO:kkfinida@yahoo.com
END:VEVENT
BEGIN:VEVENT
DTSTART;VALUE=DATE:20241220
DTEND;VALUE=DATE:20241223
DTSTAMP:20260421T000449
CREATED:20240807T104601Z
LAST-MODIFIED:20241217T075432Z
UID:21163-1734652800-1734911999@szgp.hr
SUMMARY:RK POREČ BOŽIČNI TURNIR
DESCRIPTION:
URL:https://szgp.hr/event/rk-porec-bozicni-turnir-2/
LOCATION:SRC Veli Jože\, SRC Veli Jože\, Poreč\, Istra\, 52440\, Croatia (Local Name: Hrvatska)
CATEGORIES:Dvorana Žatika,Finida,Veli Jože
ATTACH;FMTTYPE=image/jpeg:https://szgp.hr/wp-content/uploads/2024/08/Bozicni-turnir-rukomet.jpg
END:VEVENT
BEGIN:VEVENT
DTSTART;TZID=Europe/Budapest:20241216T170000
DTEND;TZID=Europe/Budapest:20241216T210000
DTSTAMP:20260421T000449
CREATED:20241004T125603Z
LAST-MODIFIED:20241004T125603Z
UID:22033-1734368400-1734382800@szgp.hr
SUMMARY:MOT08 Božična predstava
DESCRIPTION:
URL:https://szgp.hr/event/mot08-bozicna-predstava/
LOCATION:Osnovna škola Finida\, Rovinjska 12\, Poreč\, Istra\, 52440\, Croatia (Local Name: Hrvatska)
CATEGORIES:Finida
END:VEVENT
BEGIN:VEVENT
DTSTART;TZID=Europe/Budapest:20241215T180000
DTEND;TZID=Europe/Budapest:20241215T210000
DTSTAMP:20260421T000449
CREATED:20241113T135624Z
LAST-MODIFIED:20241213T093534Z
UID:22780-1734285600-1734296400@szgp.hr
SUMMARY:KK ADRIA - KK KRALJEVICA prvenstvena II HKL zapad
DESCRIPTION:
URL:https://szgp.hr/event/kk-adria-kk-kraljevica-prvenstvena-ii-hkl-zapad/
LOCATION:Osnovna škola Finida\, Rovinjska 12\, Poreč\, Istra\, 52440\, Croatia (Local Name: Hrvatska)
CATEGORIES:Finida
END:VEVENT
BEGIN:VEVENT
DTSTART;TZID=Europe/Budapest:20241215T160000
DTEND;TZID=Europe/Budapest:20241215T190000
DTSTAMP:20260421T000449
CREATED:20241113T135921Z
LAST-MODIFIED:20241213T081637Z
UID:22782-1734278400-1734289200@szgp.hr
SUMMARY:OK POREČ - OK VODNJAN
DESCRIPTION:
URL:https://szgp.hr/event/ok-porec-ok-vodnjan-ok-porec-2-ok-skurinje/
LOCATION:Osnovna škola Finida\, Rovinjska 12\, Poreč\, Istra\, 52440\, Croatia (Local Name: Hrvatska)
CATEGORIES:Finida
ORGANIZER;CN="Odbojka%C5%A1ki klub Pore%C4%8D":MAILTO:tajnikokporec@gmail.com
END:VEVENT
BEGIN:VEVENT
DTSTART;TZID=Europe/Budapest:20241214T153000
DTEND;TZID=Europe/Budapest:20241214T200000
DTSTAMP:20260421T000449
CREATED:20241203T085733Z
LAST-MODIFIED:20241203T085811Z
UID:23128-1734190200-1734206400@szgp.hr
SUMMARY:RK POREČ - RK METKOVIĆ Paket 24 Premijer liga
DESCRIPTION:Utakmica u 18 sati. \n 
URL:https://szgp.hr/event/rk-porec-rk-metkovic-paket-24-premijer-liga/
LOCATION:SRC Veli Jože\, SRC Veli Jože\, Poreč\, Istra\, 52440\, Croatia (Local Name: Hrvatska)
CATEGORIES:Veli Jože
END:VEVENT
BEGIN:VEVENT
DTSTART;TZID=Europe/Budapest:20241214T140000
DTEND;TZID=Europe/Budapest:20241214T170000
DTSTAMP:20260421T000449
CREATED:20241213T081751Z
LAST-MODIFIED:20241213T081751Z
UID:23277-1734184800-1734195600@szgp.hr
SUMMARY:OK POREČ 2 - GORNJA VEŽICA
DESCRIPTION:
URL:https://szgp.hr/event/ok-porec-2-gornja-vezica/
LOCATION:Osnovna škola Finida\, Rovinjska 12\, Poreč\, Istra\, 52440\, Croatia (Local Name: Hrvatska)
CATEGORIES:Finida
ORGANIZER;CN="Odbojka%C5%A1ki klub Pore%C4%8D":MAILTO:tajnikokporec@gmail.com
END:VEVENT
BEGIN:VEVENT
DTSTART;TZID=Europe/Budapest:20241214T103000
DTEND;TZID=Europe/Budapest:20241214T160000
DTSTAMP:20260421T000449
CREATED:20241203T085540Z
LAST-MODIFIED:20241203T085843Z
UID:23126-1734172200-1734192000@szgp.hr
SUMMARY:RK POREČ 1.HRL U18
DESCRIPTION:
URL:https://szgp.hr/event/rk-porec-1-hrl-u18/
LOCATION:SRC Veli Jože\, SRC Veli Jože\, Poreč\, Istra\, 52440\, Croatia (Local Name: Hrvatska)
CATEGORIES:Veli Jože
END:VEVENT
BEGIN:VEVENT
DTSTART;VALUE=DATE:20241214
DTEND;VALUE=DATE:20241216
DTSTAMP:20260421T000449
CREATED:20241023T090449Z
LAST-MODIFIED:20241112T123709Z
UID:22479-1734134400-1734307199@szgp.hr
SUMMARY:NK JADRAN ŠKOLA Božićni turnir
DESCRIPTION:
URL:https://szgp.hr/event/nk-jadran-skola-turnir/
LOCATION:Dvorana Žatika\, Dvorana Žatika\, Poreč\, Istra\, 52440\, Croatia (Local Name: Hrvatska)
CATEGORIES:Dvorana Žatika
END:VEVENT
BEGIN:VEVENT
DTSTART;TZID=Europe/Budapest:20241212T083000
DTEND;TZID=Europe/Budapest:20241212T150000
DTSTAMP:20260421T000449
CREATED:20240912T105045Z
LAST-MODIFIED:20240912T105045Z
UID:21624-1733992200-1734015600@szgp.hr
SUMMARY:Natjecanje iz HRVANJA za djevojčice i dječake osnovnih škola
DESCRIPTION:Dvorana za hrvanje
URL:https://szgp.hr/event/natjecanje-iz-hrvanja-za-djevojcice-i-djecake-osnovnih-skola/
LOCATION:Dvorana Žatika\, Dvorana Žatika\, Poreč\, Istra\, 52440\, Croatia (Local Name: Hrvatska)
CATEGORIES:Dvorana Žatika
ORGANIZER;CN="%C5%A0kolski sportski savez I%C5%BD":MAILTO:skolski.sport.istra@gmail.com
END:VEVENT
BEGIN:VEVENT
DTSTART;TZID=Europe/Budapest:20241211T160000
DTEND;TZID=Europe/Budapest:20241211T213000
DTSTAMP:20260421T000449
CREATED:20241203T090401Z
LAST-MODIFIED:20241203T090401Z
UID:23130-1733932800-1733952600@szgp.hr
SUMMARY:RK POREČ - RK ZAGREB Paket 24 Premijer liga
DESCRIPTION:Utakmica počinje u 19 sati. \n 
URL:https://szgp.hr/event/rk-porec-rk-zagreb-paket-24-premijer-liga/
LOCATION:SRC Veli Jože\, SRC Veli Jože\, Poreč\, Istra\, 52440\, Croatia (Local Name: Hrvatska)
CATEGORIES:Veli Jože
END:VEVENT
BEGIN:VEVENT
DTSTART;TZID=Europe/Budapest:20241208T180000
DTEND;TZID=Europe/Budapest:20241208T200000
DTSTAMP:20260421T000449
CREATED:20241203T081232Z
LAST-MODIFIED:20241203T081304Z
UID:23123-1733680800-1733688000@szgp.hr
SUMMARY:KK POREČ dječaci Županijska liga
DESCRIPTION:
URL:https://szgp.hr/event/kk-porec-djecaci-zupanijska-liga/
LOCATION:Osnovna škola Finida\, Rovinjska 12\, Poreč\, Istra\, 52440\, Croatia (Local Name: Hrvatska)
CATEGORIES:Finida
ORGANIZER;CN="KK Finida":MAILTO:kkfinida@yahoo.com
END:VEVENT
BEGIN:VEVENT
DTSTART;TZID=Europe/Budapest:20241208T170000
DTEND;TZID=Europe/Budapest:20241208T200000
DTSTAMP:20260421T000449
CREATED:20241002T114703Z
LAST-MODIFIED:20241129T074950Z
UID:22008-1733677200-1733688000@szgp.hr
SUMMARY:ŽRK Poreč 3.HRL ŽRK Poreč 2 - ŽRK Ogulin
DESCRIPTION:
URL:https://szgp.hr/event/zrk-porec-3-hrl-zrk-porec-2-zrk-ogulin/
LOCATION:SRC Veli Jože\, SRC Veli Jože\, Poreč\, Istra\, 52440\, Croatia (Local Name: Hrvatska)
CATEGORIES:Veli Jože
ORGANIZER;CN="%C5%BDRK PORE%C4%8C":MAILTO:zrk.porec@inet.h
END:VEVENT
BEGIN:VEVENT
DTSTART;TZID=Europe/Budapest:20241208T153000
DTEND;TZID=Europe/Budapest:20241208T180000
DTSTAMP:20260421T000449
CREATED:20241129T082536Z
LAST-MODIFIED:20241202T085019Z
UID:23039-1733671800-1733680800@szgp.hr
SUMMARY:OK POREČ ml.kadetkinje IŽ
DESCRIPTION:
URL:https://szgp.hr/event/ok-porec-ml-kadetkinje-iz/
LOCATION:Osnovna škola Finida\, Rovinjska 12\, Poreč\, Istra\, 52440\, Croatia (Local Name: Hrvatska)
CATEGORIES:Finida
ORGANIZER;CN="Odbojka%C5%A1ki klub Pore%C4%8D":MAILTO:tajnikokporec@gmail.com
END:VEVENT
BEGIN:VEVENT
DTSTART;VALUE=DATE:20241204
DTEND;VALUE=DATE:20241208
DTSTAMP:20260421T000449
CREATED:20240719T111953Z
LAST-MODIFIED:20241204T105849Z
UID:20899-1733270400-1733615999@szgp.hr
SUMMARY:Grad Poreč koncert Ž. Joksimović
DESCRIPTION:
URL:https://szgp.hr/event/koncert/
LOCATION:Dvorana Žatika\, Dvorana Žatika\, Poreč\, Istra\, 52440\, Croatia (Local Name: Hrvatska)
CATEGORIES:Dvorana Žatika
END:VEVENT
BEGIN:VEVENT
DTSTART;TZID=Europe/Budapest:20241203T163000
DTEND;TZID=Europe/Budapest:20241203T220000
DTSTAMP:20260421T000449
CREATED:20241111T112503Z
LAST-MODIFIED:20241111T112503Z
UID:22718-1733243400-1733263200@szgp.hr
SUMMARY:RK POREČ Paket 24 Premier liga RK POREČ - RK SESVETE
DESCRIPTION:
URL:https://szgp.hr/event/rk-porec-paket-24-premier-liga-rk-porec-rk-sesvete-2/
LOCATION:SRC Veli Jože\, SRC Veli Jože\, Poreč\, Istra\, 52440\, Croatia (Local Name: Hrvatska)
CATEGORIES:Veli Jože
END:VEVENT
BEGIN:VEVENT
DTSTART;TZID=Europe/Budapest:20241203T080000
DTEND;TZID=Europe/Budapest:20241203T130000
DTSTAMP:20260421T000449
CREATED:20241119T080751Z
LAST-MODIFIED:20241119T080751Z
UID:22847-1733212800-1733230800@szgp.hr
SUMMARY:SŠ A.ŠTIFANIĆ povodom sv.Maura školsko prvenstvo u futsalu
DESCRIPTION:
URL:https://szgp.hr/event/ss-a-stifanic-povodom-sv-maura-skolsko-prvenstvo-u-futsalu/
LOCATION:Dvorana Žatika\, Dvorana Žatika\, Poreč\, Istra\, 52440\, Croatia (Local Name: Hrvatska)
CATEGORIES:Dvorana Žatika
END:VEVENT
BEGIN:VEVENT
DTSTART;TZID=Europe/Budapest:20241201T183000
DTEND;TZID=Europe/Budapest:20241201T210000
DTSTAMP:20260421T000449
CREATED:20241002T114236Z
LAST-MODIFIED:20241125T141813Z
UID:22006-1733077800-1733086800@szgp.hr
SUMMARY:ŽRK Poreč 2. HRL ŽRK Poreč - ŽRK Jamnica
DESCRIPTION:
URL:https://szgp.hr/event/zrk-porec-2-hrl-zrk-porec-zrk-jamnica/
LOCATION:SRC Veli Jože\, SRC Veli Jože\, Poreč\, Istra\, 52440\, Croatia (Local Name: Hrvatska)
CATEGORIES:Veli Jože
ORGANIZER;CN="%C5%BDRK PORE%C4%8C":MAILTO:zrk.porec@inet.h
END:VEVENT
BEGIN:VEVENT
DTSTART;TZID=Europe/Budapest:20241201T170000
DTEND;TZID=Europe/Budapest:20241201T203000
DTSTAMP:20260421T000449
CREATED:20241113T135020Z
LAST-MODIFIED:20241126T093738Z
UID:22774-1733072400-1733085000@szgp.hr
SUMMARY:KK ADRIA - KK ISTRA prvenstvena II HOL
DESCRIPTION:
URL:https://szgp.hr/event/kk-adria-kk-istra-prvenstvena-ii-hol/
LOCATION:Osnovna škola Finida\, Rovinjska 12\, Poreč\, Istra\, 52440\, Croatia (Local Name: Hrvatska)
CATEGORIES:Finida
END:VEVENT
BEGIN:VEVENT
DTSTART;TZID=Europe/Budapest:20241201T090000
DTEND;TZID=Europe/Budapest:20241201T120000
DTSTAMP:20260421T000449
CREATED:20241113T135145Z
LAST-MODIFIED:20241113T135145Z
UID:22776-1733043600-1733054400@szgp.hr
SUMMARY:KK POREČ prvenstvena predkadeti
DESCRIPTION:
URL:https://szgp.hr/event/kk-porec-prvenstvena-predkadeti/
LOCATION:Osnovna škola Finida\, Rovinjska 12\, Poreč\, Istra\, 52440\, Croatia (Local Name: Hrvatska)
CATEGORIES:Finida
ORGANIZER;CN="Ko%C5%A1arka%C5%A1ki klub Pore%C4%8D":MAILTO:kkporec@gmail.com
END:VEVENT
BEGIN:VEVENT
DTSTART;TZID=Europe/Budapest:20241201T083000
DTEND;TZID=Europe/Budapest:20241201T183000
DTSTAMP:20260421T000449
CREATED:20241108T092239Z
LAST-MODIFIED:20241118T102155Z
UID:22689-1733041800-1733077800@szgp.hr
SUMMARY:RK POREČ 1.HRL U11/ U15
DESCRIPTION:4 utakmice U11 / 4 utakmice U15 \n 
URL:https://szgp.hr/event/rk-porec-1-hrl-u11/
LOCATION:SRC Veli Jože\, SRC Veli Jože\, Poreč\, Istra\, 52440\, Croatia (Local Name: Hrvatska)
CATEGORIES:Veli Jože
END:VEVENT
BEGIN:VEVENT
DTSTART;TZID=Europe/Budapest:20241130T103000
DTEND;TZID=Europe/Budapest:20241130T143000
DTSTAMP:20260421T000449
CREATED:20241108T092110Z
LAST-MODIFIED:20241118T102016Z
UID:22687-1732962600-1732977000@szgp.hr
SUMMARY:RK POREČ 2.HRL zapad
DESCRIPTION:
URL:https://szgp.hr/event/rk-porec-1-hrl-zapad-u15/
LOCATION:SRC Veli Jože\, SRC Veli Jože\, Poreč\, Istra\, 52440\, Croatia (Local Name: Hrvatska)
CATEGORIES:Veli Jože
END:VEVENT
BEGIN:VEVENT
DTSTART;TZID=Europe/Budapest:20241130T090000
DTEND;TZID=Europe/Budapest:20241130T173000
DTSTAMP:20260421T000449
CREATED:20241002T133030Z
LAST-MODIFIED:20241125T084922Z
UID:22021-1732957200-1732987800@szgp.hr
SUMMARY:ST Jadran 1.HL zapad
DESCRIPTION:ST \n 
URL:https://szgp.hr/event/st-jadran-1-hl-zapad-2/
LOCATION:Osnovna škola Finida\, Rovinjska 12\, Poreč\, Istra\, 52440\, Croatia (Local Name: Hrvatska)
CATEGORIES:Finida
ORGANIZER;CN="Stolno teniski klub Jadran":MAILTO:miroslavzuti@gmail.com
END:VEVENT
BEGIN:VEVENT
DTSTART;TZID=Europe/Budapest:20241130T080000
DTEND;TZID=Europe/Budapest:20241130T103000
DTSTAMP:20260421T000449
CREATED:20241128T082640Z
LAST-MODIFIED:20241128T082640Z
UID:23034-1732953600-1732962600@szgp.hr
SUMMARY:ŽRK Poreč Županijska liga U11 ŽRK Poreč - ŽRK Rudar
DESCRIPTION:
URL:https://szgp.hr/event/zrk-porec-zupanijska-liga-u11-zrk-porec-zrk-rudar/
LOCATION:SRC Veli Jože\, SRC Veli Jože\, Poreč\, Istra\, 52440\, Croatia (Local Name: Hrvatska)
CATEGORIES:Veli Jože
ORGANIZER;CN="%C5%BDRK PORE%C4%8C":MAILTO:zrk.porec@inet.h
END:VEVENT
END:VCALENDAR