BEGIN:VCALENDAR
VERSION:2.0
PRODID:-//SZGP - ECPv6.15.20//NONSGML v1.0//EN
CALSCALE:GREGORIAN
METHOD:PUBLISH
X-WR-CALNAME:SZGP
X-ORIGINAL-URL:https://szgp.hr
X-WR-CALDESC:Događaji za SZGP
REFRESH-INTERVAL;VALUE=DURATION:PT1H
X-Robots-Tag:noindex
X-PUBLISHED-TTL:PT1H
BEGIN:VTIMEZONE
TZID:Europe/Budapest
BEGIN:DAYLIGHT
TZOFFSETFROM:+0100
TZOFFSETTO:+0200
TZNAME:CEST
DTSTART:20230326T010000
END:DAYLIGHT
BEGIN:STANDARD
TZOFFSETFROM:+0200
TZOFFSETTO:+0100
TZNAME:CET
DTSTART:20231029T010000
END:STANDARD
BEGIN:DAYLIGHT
TZOFFSETFROM:+0100
TZOFFSETTO:+0200
TZNAME:CEST
DTSTART:20240331T010000
END:DAYLIGHT
BEGIN:STANDARD
TZOFFSETFROM:+0200
TZOFFSETTO:+0100
TZNAME:CET
DTSTART:20241027T010000
END:STANDARD
BEGIN:DAYLIGHT
TZOFFSETFROM:+0100
TZOFFSETTO:+0200
TZNAME:CEST
DTSTART:20250330T010000
END:DAYLIGHT
BEGIN:STANDARD
TZOFFSETFROM:+0200
TZOFFSETTO:+0100
TZNAME:CET
DTSTART:20251026T010000
END:STANDARD
END:VTIMEZONE
BEGIN:VEVENT
DTSTART;VALUE=DATE:20240501
DTEND;VALUE=DATE:20240518
DTSTAMP:20260423T000458
CREATED:20240421T214547Z
LAST-MODIFIED:20240505T092807Z
UID:16814-1714521600-1715990399@szgp.hr
SUMMARY:30. Međunarodna izložba vina i vinarske opreme „Vinistra 2024“
DESCRIPTION:
URL:https://szgp.hr/event/30-medunarodna-izlozba-vina-i-vinarske-opreme-vinistra-2024/
LOCATION:Dvorana Žatika\, Dvorana Žatika\, Poreč\, Istra\, 52440\, Croatia (Local Name: Hrvatska)
CATEGORIES:Dvorana Žatika
END:VEVENT
BEGIN:VEVENT
DTSTART;TZID=Europe/Budapest:20240428T160000
DTEND;TZID=Europe/Budapest:20240428T210000
DTSTAMP:20260423T000458
CREATED:20240423T214159Z
LAST-MODIFIED:20240423T220401Z
UID:16902-1714320000-1714338000@szgp.hr
SUMMARY:ŽRK POREČ
DESCRIPTION:
URL:https://szgp.hr/event/zrk-porec/
LOCATION:Istra
CATEGORIES:Veli Jože
END:VEVENT
BEGIN:VEVENT
DTSTART;TZID=Europe/Budapest:20240426T163000
DTEND;TZID=Europe/Budapest:20240426T213000
DTSTAMP:20260423T000458
CREATED:20240423T214111Z
LAST-MODIFIED:20240423T220408Z
UID:16900-1714149000-1714167000@szgp.hr
SUMMARY:RK POREČ PREMIERLIGA
DESCRIPTION:
URL:https://szgp.hr/event/rk-porec-premierliga/
LOCATION:SRC Veli Jože\, SRC Veli Jože\, Poreč\, Istra\, 52440\, Croatia (Local Name: Hrvatska)
CATEGORIES:Veli Jože
END:VEVENT
BEGIN:VEVENT
DTSTART;TZID=Europe/Budapest:20240330T090000
DTEND;TZID=Europe/Budapest:20240331T230000
DTSTAMP:20260423T000458
CREATED:20240315T111448Z
LAST-MODIFIED:20240324T085211Z
UID:9691-1711789200-1711926000@szgp.hr
SUMMARY:Košarkaški turnir (agencija Gat)
DESCRIPTION:
URL:https://szgp.hr/event/kosarkaski-turnir-agencija-gat/
LOCATION:SRC Veli Jože\, SRC Veli Jože\, Poreč\, Istra\, 52440\, Croatia (Local Name: Hrvatska)
CATEGORIES:Dvorana Žatika
END:VEVENT
BEGIN:VEVENT
DTSTART;VALUE=DATE:20240314
DTEND;VALUE=DATE:20240320
DTSTAMP:20260423T000458
CREATED:20240225T082820Z
LAST-MODIFIED:20240225T082820Z
UID:9409-1710378000-1710809999@szgp.hr
SUMMARY:JUDO
DESCRIPTION:
URL:https://szgp.hr/event/judo/
LOCATION:Dvorana Žatika\, Dvorana Žatika\, Poreč\, Istra\, 52440\, Croatia (Local Name: Hrvatska)
END:VEVENT
BEGIN:VEVENT
DTSTART;VALUE=DATE:20240308
DTEND;VALUE=DATE:20240312
DTSTAMP:20260423T000458
CREATED:20240225T082739Z
LAST-MODIFIED:20240913T090129Z
UID:9407-1709859600-1710118799@szgp.hr
SUMMARY:Međunarodni turnir u ritmičkoj gimnastici - KRSG Poreč
DESCRIPTION:
URL:https://szgp.hr/event/medunarodni-turnir-u-ritmickoj-gimnastici-krsg-porec/
LOCATION:Dvorana Žatika\, Dvorana Žatika\, Poreč\, Istra\, 52440\, Croatia (Local Name: Hrvatska)
CATEGORIES:Dvorana Žatika
END:VEVENT
END:VCALENDAR