BEGIN:VCALENDAR
VERSION:2.0
PRODID:-//SZGP - ECPv6.15.20//NONSGML v1.0//EN
CALSCALE:GREGORIAN
METHOD:PUBLISH
X-WR-CALNAME:SZGP
X-ORIGINAL-URL:https://szgp.hr
X-WR-CALDESC:Događaji za SZGP
REFRESH-INTERVAL;VALUE=DURATION:PT1H
X-Robots-Tag:noindex
X-PUBLISHED-TTL:PT1H
BEGIN:VTIMEZONE
TZID:Europe/Budapest
BEGIN:DAYLIGHT
TZOFFSETFROM:+0100
TZOFFSETTO:+0200
TZNAME:CEST
DTSTART:20240331T010000
END:DAYLIGHT
BEGIN:STANDARD
TZOFFSETFROM:+0200
TZOFFSETTO:+0100
TZNAME:CET
DTSTART:20241027T010000
END:STANDARD
BEGIN:DAYLIGHT
TZOFFSETFROM:+0100
TZOFFSETTO:+0200
TZNAME:CEST
DTSTART:20250330T010000
END:DAYLIGHT
BEGIN:STANDARD
TZOFFSETFROM:+0200
TZOFFSETTO:+0100
TZNAME:CET
DTSTART:20251026T010000
END:STANDARD
BEGIN:DAYLIGHT
TZOFFSETFROM:+0100
TZOFFSETTO:+0200
TZNAME:CEST
DTSTART:20260329T010000
END:DAYLIGHT
BEGIN:STANDARD
TZOFFSETFROM:+0200
TZOFFSETTO:+0100
TZNAME:CET
DTSTART:20261025T010000
END:STANDARD
END:VTIMEZONE
BEGIN:VEVENT
DTSTART;TZID=Europe/Budapest:20250323T183000
DTEND;TZID=Europe/Budapest:20250323T213000
DTSTAMP:20260420T144005
CREATED:20250122T073410Z
LAST-MODIFIED:20250318T123717Z
UID:23760-1742754600-1742765400@szgp.hr
SUMMARY:II HKL zapad KK Adria - KK Pula 1981
DESCRIPTION:
URL:https://szgp.hr/event/ii-hkl-zapad-kk-adria-kk-pula-1981/
LOCATION:Osnovna škola Finida\, Rovinjska 12\, Poreč\, Istra\, 52440\, Croatia (Local Name: Hrvatska)
CATEGORIES:Finida
ATTACH;FMTTYPE=image/png:https://szgp.hr/wp-content/uploads/2025/01/KK-Adria.png
END:VEVENT
BEGIN:VEVENT
DTSTART;TZID=Europe/Budapest:20250323T143000
DTEND;TZID=Europe/Budapest:20250323T180000
DTSTAMP:20260420T144005
CREATED:20250303T071844Z
LAST-MODIFIED:20250303T071844Z
UID:24349-1742740200-1742752800@szgp.hr
SUMMARY:RK POREČ 2.HRL zapad prvenstvena utakmica
DESCRIPTION:
URL:https://szgp.hr/event/rk-porec-2-hrl-zapad-prvenstvena-utakmica/
LOCATION:SRC Veli Jože\, SRC Veli Jože\, Poreč\, Istra\, 52440\, Croatia (Local Name: Hrvatska)
CATEGORIES:Veli Jože
ATTACH;FMTTYPE=image/png:https://szgp.hr/wp-content/uploads/2024/09/RK-Porec.png
END:VEVENT
BEGIN:VEVENT
DTSTART;TZID=Europe/Budapest:20250323T090000
DTEND;TZID=Europe/Budapest:20250323T150000
DTSTAMP:20260420T144005
CREATED:20250129T102355Z
LAST-MODIFIED:20250129T102355Z
UID:23867-1742720400-1742742000@szgp.hr
SUMMARY:KK Finida Županijsko prvenstvo - kate
DESCRIPTION:
URL:https://szgp.hr/event/kk-finida-zupanijsko-prvenstvo-kate/
LOCATION:Dvorana Žatika\, Dvorana Žatika\, Poreč\, Istra\, 52440\, Croatia (Local Name: Hrvatska)
CATEGORIES:Dvorana Žatika
ATTACH;FMTTYPE=image/png:https://szgp.hr/wp-content/uploads/2024/11/KK-FINIDA.png
ORGANIZER;CN="KK Finida":MAILTO:kkfinida@yahoo.com
END:VEVENT
BEGIN:VEVENT
DTSTART;TZID=Europe/Budapest:20250323T090000
DTEND;TZID=Europe/Budapest:20250323T140000
DTSTAMP:20260420T144005
CREATED:20250122T100628Z
LAST-MODIFIED:20250313T065246Z
UID:23793-1742720400-1742738400@szgp.hr
SUMMARY:ŽRK Poreč 1.HRL U11
DESCRIPTION:
URL:https://szgp.hr/event/zrk-porec-zl-u13/
LOCATION:SRC Veli Jože\, SRC Veli Jože\, Poreč\, Istra\, 52440\, Croatia (Local Name: Hrvatska)
CATEGORIES:Veli Jože
ATTACH;FMTTYPE=image/jpeg:https://szgp.hr/wp-content/uploads/2025/01/ZRK-Porec.jpg
ORGANIZER;CN="%C5%BDRK PORE%C4%8C":MAILTO:zrk.porec@inet.h
END:VEVENT
BEGIN:VEVENT
DTSTART;TZID=Europe/Budapest:20250323T080000
DTEND;TZID=Europe/Budapest:20250323T160000
DTSTAMP:20260420T144005
CREATED:20250128T082108Z
LAST-MODIFIED:20250319T073213Z
UID:23855-1742716800-1742745600@szgp.hr
SUMMARY:KK Poreč U11 turnir Županijske lige
DESCRIPTION:
URL:https://szgp.hr/event/kk-porec-finalni-turnir-zupanijske-lige/
LOCATION:Osnovna škola Finida\, Rovinjska 12\, Poreč\, Istra\, 52440\, Croatia (Local Name: Hrvatska)
CATEGORIES:Finida
ATTACH;FMTTYPE=image/jpeg:https://szgp.hr/wp-content/uploads/2025/01/KK-Porec.jpg
ORGANIZER;CN="Ko%C5%A1arka%C5%A1ki klub Pore%C4%8D":MAILTO:kkporec@gmail.com
END:VEVENT
BEGIN:VEVENT
DTSTART;TZID=Europe/Budapest:20250322T170000
DTEND;TZID=Europe/Budapest:20250322T193000
DTSTAMP:20260420T144005
CREATED:20250314T083810Z
LAST-MODIFIED:20250317T072124Z
UID:24451-1742662800-1742671800@szgp.hr
SUMMARY:OK POREČ 2.HOL OK Poreč 2 - OK Pazin
DESCRIPTION:
URL:https://szgp.hr/event/ok-porec-2-hol-ok-porec-2-ok-pazin/
LOCATION:Osnovna škola Finida\, Rovinjska 12\, Poreč\, Istra\, 52440\, Croatia (Local Name: Hrvatska)
CATEGORIES:Finida
ATTACH;FMTTYPE=image/jpeg:https://szgp.hr/wp-content/uploads/2025/01/ok-porec-logo-1.jpg
ORGANIZER;CN="Odbojka%C5%A1ki klub Pore%C4%8D":MAILTO:tajnikokporec@gmail.com
END:VEVENT
BEGIN:VEVENT
DTSTART;TZID=Europe/Budapest:20250322T160000
DTEND;TZID=Europe/Budapest:20250322T220000
DTSTAMP:20260420T144005
CREATED:20250220T072332Z
LAST-MODIFIED:20250220T072332Z
UID:24213-1742659200-1742680800@szgp.hr
SUMMARY:RK POREČ  liga za prvaka RK Poreč - RK Bjelin Spačva
DESCRIPTION:
URL:https://szgp.hr/event/rk-porec-liga-za-prvaka-rk-porec-rk-bjelin-spacva-2/
LOCATION:SRC Veli Jože\, SRC Veli Jože\, Poreč\, Istra\, 52440\, Croatia (Local Name: Hrvatska)
CATEGORIES:Veli Jože
ATTACH;FMTTYPE=image/png:https://szgp.hr/wp-content/uploads/2024/09/RK-Porec.png
END:VEVENT
BEGIN:VEVENT
DTSTART;TZID=Europe/Budapest:20250322T130000
DTEND;TZID=Europe/Budapest:20250322T170000
DTSTAMP:20260420T144005
CREATED:20240913T085653Z
LAST-MODIFIED:20240913T085750Z
UID:21708-1742648400-1742662800@szgp.hr
SUMMARY:1.HBL BK Špadići - BK Rijeka
DESCRIPTION:
URL:https://szgp.hr/event/1-hbl-bk-spadici-bk-rijeka/
LOCATION:Boćarska dvorana Veli Jože\, POREČ\, Istarska županija\, 52440\, Croatia (Local Name: Hrvatska)
CATEGORIES:Boćarska dvorana Veli Jože
END:VEVENT
BEGIN:VEVENT
DTSTART;TZID=Europe/Budapest:20250322T090000
DTEND;TZID=Europe/Budapest:20250322T120000
DTSTAMP:20260420T144005
CREATED:20250317T071824Z
LAST-MODIFIED:20250317T071824Z
UID:24509-1742634000-1742644800@szgp.hr
SUMMARY:OK POREČ Žl mala odbojka
DESCRIPTION:
URL:https://szgp.hr/event/ok-porec-zl-mala-odbojka/
LOCATION:Osnovna škola Finida\, Rovinjska 12\, Poreč\, Istra\, 52440\, Croatia (Local Name: Hrvatska)
CATEGORIES:Finida
ATTACH;FMTTYPE=image/jpeg:https://szgp.hr/wp-content/uploads/2025/01/ok-porec-logo-1.jpg
ORGANIZER;CN="Odbojka%C5%A1ki klub Pore%C4%8D":MAILTO:tajnikokporec@gmail.com
END:VEVENT
BEGIN:VEVENT
DTSTART;TZID=Europe/Budapest:20250322T080000
DTEND;TZID=Europe/Budapest:20250322T140000
DTSTAMP:20260420T144005
CREATED:20250224T102353Z
LAST-MODIFIED:20250321T122942Z
UID:24267-1742630400-1742652000@szgp.hr
SUMMARY:HRVANJE Županijsko prvenstvo seniori
DESCRIPTION:
URL:https://szgp.hr/event/hrvanje-zupanijsko-prvenstvo-seniori/
LOCATION:Dvorana Žatika\, Dvorana Žatika\, Poreč\, Istra\, 52440\, Croatia (Local Name: Hrvatska)
CATEGORIES:Dvorana Žatika
ATTACH;FMTTYPE=image/png:https://szgp.hr/wp-content/uploads/2025/02/HK-Porec.png
ORGANIZER;CN="Hrva%C4%8Dki klub Pore%C4%8D":MAILTO:hrvanje.porec@gmail.com
END:VEVENT
BEGIN:VEVENT
DTSTART;TZID=Europe/Budapest:20250321T083000
DTEND;TZID=Europe/Budapest:20250321T150000
DTSTAMP:20260420T144005
CREATED:20240912T111147Z
LAST-MODIFIED:20240912T111147Z
UID:21639-1742545800-1742569200@szgp.hr
SUMMARY:KOŠARKA djevojke srednje škole IŽ
DESCRIPTION:
URL:https://szgp.hr/event/kosarka-djevojke-srednje-skole-iz/
LOCATION:Dvorana Žatika\, Dvorana Žatika\, Poreč\, Istra\, 52440\, Croatia (Local Name: Hrvatska)
CATEGORIES:Dvorana Žatika
ORGANIZER;CN="%C5%A0kolski sportski savez I%C5%BD":MAILTO:skolski.sport.istra@gmail.com
END:VEVENT
BEGIN:VEVENT
DTSTART;TZID=Europe/Budapest:20250320T083000
DTEND;TZID=Europe/Budapest:20250320T150000
DTSTAMP:20260420T144005
CREATED:20240912T105811Z
LAST-MODIFIED:20240912T110957Z
UID:21634-1742459400-1742482800@szgp.hr
SUMMARY:KOŠARKA djevojčice osnovne škole IŽ
DESCRIPTION:
URL:https://szgp.hr/event/kosarka-djevojcice-osnovne-skole-iz/
LOCATION:Dvorana Žatika\, Dvorana Žatika\, Poreč\, Istra\, 52440\, Croatia (Local Name: Hrvatska)
CATEGORIES:Dvorana Žatika
ORGANIZER;CN="%C5%A0kolski sportski savez I%C5%BD":MAILTO:skolski.sport.istra@gmail.com
END:VEVENT
BEGIN:VEVENT
DTSTART;TZID=Europe/Budapest:20250320T080000
DTEND;TZID=Europe/Budapest:20250320T140000
DTSTAMP:20260420T144005
CREATED:20240913T091450Z
LAST-MODIFIED:20240913T091450Z
UID:21730-1742457600-1742479200@szgp.hr
SUMMARY:HŠSS atletika djeca s IT
DESCRIPTION:
URL:https://szgp.hr/event/hsss-atletika-djeca-s-it/
LOCATION:Stadion NK Jadran
CATEGORIES:Stadion NK Jadran
END:VEVENT
BEGIN:VEVENT
DTSTART;TZID=Europe/Budapest:20250319T190000
DTEND;TZID=Europe/Budapest:20250319T210000
DTSTAMP:20260420T144005
CREATED:20250304T100520Z
LAST-MODIFIED:20250312T093426Z
UID:24368-1742410800-1742418000@szgp.hr
SUMMARY:ŽRK POREČ 3.HRL ŽRK Poreč 2 - ŽRK Rudar 2
DESCRIPTION:
URL:https://szgp.hr/event/zrk-porec-3-hrl-zrk-porec-2-zrk-rudar-2/
LOCATION:SRC Veli Jože\, SRC Veli Jože\, Poreč\, Istra\, 52440\, Croatia (Local Name: Hrvatska)
CATEGORIES:Veli Jože
ATTACH;FMTTYPE=image/jpeg:https://szgp.hr/wp-content/uploads/2025/01/ZRK-Porec.jpg
ORGANIZER;CN="%C5%BDRK PORE%C4%8C":MAILTO:zrk.porec@inet.h
END:VEVENT
BEGIN:VEVENT
DTSTART;TZID=Europe/Budapest:20250316T150000
DTEND;TZID=Europe/Budapest:20250316T183000
DTSTAMP:20260420T144005
CREATED:20250312T093340Z
LAST-MODIFIED:20250312T093340Z
UID:24440-1742137200-1742149800@szgp.hr
SUMMARY:OK POREČ 2.HOL OK Poreč - OK Gornja Vežica
DESCRIPTION:
URL:https://szgp.hr/event/ok-porec-2-hol-ok-porec-ok-gornja-vezica-2/
LOCATION:Osnovna škola Finida\, Rovinjska 12\, Poreč\, Istra\, 52440\, Croatia (Local Name: Hrvatska)
CATEGORIES:Finida
ATTACH;FMTTYPE=image/jpeg:https://szgp.hr/wp-content/uploads/2025/01/ok-porec-logo-1.jpg
ORGANIZER;CN="Odbojka%C5%A1ki klub Pore%C4%8D":MAILTO:tajnikokporec@gmail.com
END:VEVENT
BEGIN:VEVENT
DTSTART;TZID=Europe/Budapest:20250316T150000
DTEND;TZID=Europe/Budapest:20250316T180000
DTSTAMP:20260420T144005
CREATED:20250122T100449Z
LAST-MODIFIED:20250312T142709Z
UID:23789-1742137200-1742148000@szgp.hr
SUMMARY:ŽRK Poreč III HRL zapad
DESCRIPTION:
URL:https://szgp.hr/event/zrk-porec-iii-hrl-zapad/
LOCATION:SRC Veli Jože\, SRC Veli Jože\, Poreč\, Istra\, 52440\, Croatia (Local Name: Hrvatska)
CATEGORIES:Veli Jože
ATTACH;FMTTYPE=image/jpeg:https://szgp.hr/wp-content/uploads/2025/01/ZRK-Porec.jpg
ORGANIZER;CN="%C5%BDRK PORE%C4%8C":MAILTO:zrk.porec@inet.h
END:VEVENT
BEGIN:VEVENT
DTSTART;TZID=Europe/Budapest:20250315T173000
DTEND;TZID=Europe/Budapest:20250315T210000
DTSTAMP:20260420T144005
CREATED:20250122T100352Z
LAST-MODIFIED:20250312T094354Z
UID:23787-1742059800-1742072400@szgp.hr
SUMMARY:ŽRK Poreč II HRL zapad
DESCRIPTION:
URL:https://szgp.hr/event/zrk-porec-ii-hrl-zapad-3/
LOCATION:SRC Veli Jože\, SRC Veli Jože\, Poreč\, Istra\, 52440\, Croatia (Local Name: Hrvatska)
CATEGORIES:Veli Jože
ATTACH;FMTTYPE=image/jpeg:https://szgp.hr/wp-content/uploads/2025/01/ZRK-Porec.jpg
ORGANIZER;CN="%C5%BDRK PORE%C4%8C":MAILTO:zrk.porec@inet.h
END:VEVENT
BEGIN:VEVENT
DTSTART;TZID=Europe/Budapest:20250315T130000
DTEND;TZID=Europe/Budapest:20250315T180000
DTSTAMP:20260420T144005
CREATED:20240913T090949Z
LAST-MODIFIED:20250312T094310Z
UID:21726-1742043600-1742061600@szgp.hr
SUMMARY:BK Istra Poreč- BK Zrinjevac
DESCRIPTION:
URL:https://szgp.hr/event/bk-istra-porec-bk-zrinjevac/
LOCATION:Boćarska dvorana Veli Jože\, POREČ\, Istarska županija\, 52440\, Croatia (Local Name: Hrvatska)
CATEGORIES:Boćarska dvorana Veli Jože
ATTACH;FMTTYPE=image/jpeg:https://szgp.hr/wp-content/uploads/2024/09/bk-istraporec-1-1.jpg
END:VEVENT
BEGIN:VEVENT
DTSTART;VALUE=DATE:20250312
DTEND;VALUE=DATE:20250319
DTSTAMP:20260420T144005
CREATED:20240719T112509Z
LAST-MODIFIED:20250312T094729Z
UID:20911-1741737600-1742342399@szgp.hr
SUMMARY:Hrvatski Judo savez - kadetski kup
DESCRIPTION:
URL:https://szgp.hr/event/hrvatski-judo-savez-kadetski-kup/
LOCATION:Dvorana Žatika\, Dvorana Žatika\, Poreč\, Istra\, 52440\, Croatia (Local Name: Hrvatska)
CATEGORIES:Dvorana Žatika
ATTACH;FMTTYPE=image/jpeg:https://szgp.hr/wp-content/uploads/2024/07/cro-judo_web-horizontal.jpg
END:VEVENT
BEGIN:VEVENT
DTSTART;TZID=Europe/Budapest:20250309T200000
DTEND;TZID=Europe/Budapest:20250309T220000
DTSTAMP:20260420T144005
CREATED:20250227T075831Z
LAST-MODIFIED:20250303T071444Z
UID:24334-1741550400-1741557600@szgp.hr
SUMMARY:OK POREČ 2.HOL OK Poreč - OK Kastav
DESCRIPTION:
URL:https://szgp.hr/event/ok-porec-2-hol-ok-porec-ok-kastav/
LOCATION:Osnovna škola Finida\, Rovinjska 12\, Poreč\, Istra\, 52440\, Croatia (Local Name: Hrvatska)
CATEGORIES:Finida
ATTACH;FMTTYPE=image/jpeg:https://szgp.hr/wp-content/uploads/2025/01/ok-porec-logo-1.jpg
ORGANIZER;CN="Odbojka%C5%A1ki klub Pore%C4%8D":MAILTO:tajnikokporec@gmail.com
END:VEVENT
BEGIN:VEVENT
DTSTART;TZID=Europe/Budapest:20250309T160000
DTEND;TZID=Europe/Budapest:20250309T200000
DTSTAMP:20260420T144005
CREATED:20250227T080011Z
LAST-MODIFIED:20250303T071336Z
UID:24336-1741536000-1741550400@szgp.hr
SUMMARY:OK POREČ 2.HOL OK Poreč 2 - OK Škurinje
DESCRIPTION:
URL:https://szgp.hr/event/ok-porec-2-hol-ok-porec-2-ok-skurinje/
LOCATION:Osnovna škola Finida\, Rovinjska 12\, Poreč\, Istra\, 52440\, Croatia (Local Name: Hrvatska)
CATEGORIES:Finida
ATTACH;FMTTYPE=image/jpeg:https://szgp.hr/wp-content/uploads/2025/01/ok-porec-logo-1.jpg
ORGANIZER;CN="Odbojka%C5%A1ki klub Pore%C4%8D":MAILTO:tajnikokporec@gmail.com
END:VEVENT
BEGIN:VEVENT
DTSTART;TZID=Europe/Budapest:20250309T090000
DTEND;TZID=Europe/Budapest:20250309T143000
DTSTAMP:20260420T144005
CREATED:20250122T100254Z
LAST-MODIFIED:20250122T100254Z
UID:23785-1741510800-1741530600@szgp.hr
SUMMARY:ŽRK Poreč U15 I HRL
DESCRIPTION:
URL:https://szgp.hr/event/zrk-porec-u15-i-hrl/
LOCATION:SRC Veli Jože\, SRC Veli Jože\, Poreč\, Istra\, 52440\, Croatia (Local Name: Hrvatska)
CATEGORIES:Veli Jože
ORGANIZER;CN="%C5%BDRK PORE%C4%8C":MAILTO:zrk.porec@inet.h
END:VEVENT
BEGIN:VEVENT
DTSTART;TZID=Europe/Budapest:20250308T130000
DTEND;TZID=Europe/Budapest:20250308T170000
DTSTAMP:20260420T144005
CREATED:20240913T085550Z
LAST-MODIFIED:20240913T085819Z
UID:21706-1741438800-1741453200@szgp.hr
SUMMARY:1.HBL BK Špadići - BK Sv. Rok Klana
DESCRIPTION:
URL:https://szgp.hr/event/1-hbl-bk-spadici-bk-sv-rok-klana/
LOCATION:Boćarska dvorana Veli Jože\, POREČ\, Istarska županija\, 52440\, Croatia (Local Name: Hrvatska)
CATEGORIES:Boćarska dvorana Veli Jože
END:VEVENT
BEGIN:VEVENT
DTSTART;TZID=Europe/Budapest:20250308T130000
DTEND;TZID=Europe/Budapest:20250308T163000
DTSTAMP:20260420T144005
CREATED:20250120T082453Z
LAST-MODIFIED:20250303T071039Z
UID:23671-1741438800-1741451400@szgp.hr
SUMMARY:KK Poreč dječaci ŽL Poreč - Stoja
DESCRIPTION:
URL:https://szgp.hr/event/kk-porec-djecaci-zl-porec-stoja/
LOCATION:Osnovna škola Finida\, Rovinjska 12\, Poreč\, Istra\, 52440\, Croatia (Local Name: Hrvatska)
CATEGORIES:Finida
ORGANIZER;CN="Ko%C5%A1arka%C5%A1ki klub Pore%C4%8D":MAILTO:kkporec@gmail.com
END:VEVENT
BEGIN:VEVENT
DTSTART;TZID=Europe/Budapest:20250308T090000
DTEND;TZID=Europe/Budapest:20250308T123000
DTSTAMP:20260420T144005
CREATED:20250227T075536Z
LAST-MODIFIED:20250227T075536Z
UID:24328-1741424400-1741437000@szgp.hr
SUMMARY:OK POREČ ml.kadetkinje Žl
DESCRIPTION:
URL:https://szgp.hr/event/ok-porec-ml-kadetkinje-zl/
LOCATION:Osnovna škola Finida\, Rovinjska 12\, Poreč\, Istra\, 52440\, Croatia (Local Name: Hrvatska)
CATEGORIES:Finida
ATTACH;FMTTYPE=image/jpeg:https://szgp.hr/wp-content/uploads/2025/01/ok-porec-logo-1.jpg
ORGANIZER;CN="Odbojka%C5%A1ki klub Pore%C4%8D":MAILTO:tajnikokporec@gmail.com
END:VEVENT
BEGIN:VEVENT
DTSTART;TZID=Europe/Budapest:20250308T083000
DTEND;TZID=Europe/Budapest:20250308T153000
DTSTAMP:20260420T144005
CREATED:20250218T204927Z
LAST-MODIFIED:20250218T204927Z
UID:24172-1741422600-1741447800@szgp.hr
SUMMARY:RK POREČ U15 1.HRL
DESCRIPTION:
URL:https://szgp.hr/event/rk-porec-u15-1-hrl/
LOCATION:SRC Veli Jože\, SRC Veli Jože\, Poreč\, Istra\, 52440\, Croatia (Local Name: Hrvatska)
CATEGORIES:Veli Jože
ATTACH;FMTTYPE=image/png:https://szgp.hr/wp-content/uploads/2024/09/RK-Porec.png
END:VEVENT
BEGIN:VEVENT
DTSTART;TZID=Europe/Budapest:20250306T180000
DTEND;TZID=Europe/Budapest:20250306T210000
DTSTAMP:20260420T144005
CREATED:20250224T124621Z
LAST-MODIFIED:20250224T124621Z
UID:24272-1741284000-1741294800@szgp.hr
SUMMARY:RK POREČ 2.HRL RK Poreč - RK Karlovac
DESCRIPTION:
URL:https://szgp.hr/event/rk-porec-2-hrl-rk-porec-rk-karlovac/
LOCATION:SRC Veli Jože\, SRC Veli Jože\, Poreč\, Istra\, 52440\, Croatia (Local Name: Hrvatska)
CATEGORIES:Veli Jože
ATTACH;FMTTYPE=image/png:https://szgp.hr/wp-content/uploads/2024/09/RK-Porec.png
END:VEVENT
BEGIN:VEVENT
DTSTART;TZID=Europe/Budapest:20250306T073000
DTEND;TZID=Europe/Budapest:20250306T153000
DTSTAMP:20260420T144005
CREATED:20240913T081518Z
LAST-MODIFIED:20240913T081518Z
UID:21679-1741246200-1741275000@szgp.hr
SUMMARY:HŠSS rukomet završnica srednje škole
DESCRIPTION:
URL:https://szgp.hr/event/hsss-rukomet-zavrsnica-srednje-skole/
LOCATION:SRC Veli Jože\, SRC Veli Jože\, Poreč\, Istra\, 52440\, Croatia (Local Name: Hrvatska)
CATEGORIES:Finida,Veli Jože
END:VEVENT
BEGIN:VEVENT
DTSTART;TZID=Europe/Budapest:20250305T190000
DTEND;TZID=Europe/Budapest:20250305T210000
DTSTAMP:20260420T144005
CREATED:20250304T100315Z
LAST-MODIFIED:20250304T100315Z
UID:24366-1741201200-1741208400@szgp.hr
SUMMARY:ŽRK POREČ U15 Županijska liga
DESCRIPTION:
URL:https://szgp.hr/event/zrk-porec-u15-zupanijska-liga/
LOCATION:SRC Veli Jože\, SRC Veli Jože\, Poreč\, Istra\, 52440\, Croatia (Local Name: Hrvatska)
CATEGORIES:Veli Jože
ATTACH;FMTTYPE=image/jpeg:https://szgp.hr/wp-content/uploads/2025/01/ZRK-Porec.jpg
ORGANIZER;CN="%C5%BDRK PORE%C4%8C":MAILTO:zrk.porec@inet.h
END:VEVENT
BEGIN:VEVENT
DTSTART;TZID=Europe/Budapest:20250304T073000
DTEND;TZID=Europe/Budapest:20250304T153000
DTSTAMP:20260420T144005
CREATED:20240913T081359Z
LAST-MODIFIED:20241217T074457Z
UID:21676-1741073400-1741102200@szgp.hr
SUMMARY:HŠSS rukomet završnica osnovne škole
DESCRIPTION:
URL:https://szgp.hr/event/hsss-rukomet-zavrsnica-osnovne-skole/
LOCATION:SRC Veli Jože\, SRC Veli Jože\, Poreč\, Istra\, 52440\, Croatia (Local Name: Hrvatska)
CATEGORIES:Finida,Veli Jože
ATTACH;FMTTYPE=image/webp:https://szgp.hr/wp-content/uploads/2024/09/HSSS_logotip_primarni_centrirani.webp
END:VEVENT
END:VCALENDAR