BEGIN:VCALENDAR
VERSION:2.0
PRODID:-//SZGP - ECPv6.15.20//NONSGML v1.0//EN
CALSCALE:GREGORIAN
METHOD:PUBLISH
X-WR-CALNAME:SZGP
X-ORIGINAL-URL:https://szgp.hr
X-WR-CALDESC:Događaji za SZGP
REFRESH-INTERVAL;VALUE=DURATION:PT1H
X-Robots-Tag:noindex
X-PUBLISHED-TTL:PT1H
BEGIN:VTIMEZONE
TZID:Europe/Budapest
BEGIN:DAYLIGHT
TZOFFSETFROM:+0100
TZOFFSETTO:+0200
TZNAME:CEST
DTSTART:20240331T010000
END:DAYLIGHT
BEGIN:STANDARD
TZOFFSETFROM:+0200
TZOFFSETTO:+0100
TZNAME:CET
DTSTART:20241027T010000
END:STANDARD
BEGIN:DAYLIGHT
TZOFFSETFROM:+0100
TZOFFSETTO:+0200
TZNAME:CEST
DTSTART:20250330T010000
END:DAYLIGHT
BEGIN:STANDARD
TZOFFSETFROM:+0200
TZOFFSETTO:+0100
TZNAME:CET
DTSTART:20251026T010000
END:STANDARD
BEGIN:DAYLIGHT
TZOFFSETFROM:+0100
TZOFFSETTO:+0200
TZNAME:CEST
DTSTART:20260329T010000
END:DAYLIGHT
BEGIN:STANDARD
TZOFFSETFROM:+0200
TZOFFSETTO:+0100
TZNAME:CET
DTSTART:20261025T010000
END:STANDARD
END:VTIMEZONE
BEGIN:VEVENT
DTSTART;TZID=Europe/Budapest:20250426T150000
DTEND;TZID=Europe/Budapest:20250426T220000
DTSTAMP:20260420T100456
CREATED:20250402T080824Z
LAST-MODIFIED:20250423T115959Z
UID:24793-1745679600-1745704800@szgp.hr
SUMMARY:RK POREČ Liga za prvaka RK Poreč - RK Sesvete
DESCRIPTION:
URL:https://szgp.hr/event/rk-porec-liga-za-prvaka-rk-porec-rk-sesvete/
LOCATION:SRC Veli Jože\, SRC Veli Jože\, Poreč\, Istra\, 52440\, Croatia (Local Name: Hrvatska)
CATEGORIES:Veli Jože
ATTACH;FMTTYPE=image/png:https://szgp.hr/wp-content/uploads/2024/09/RK-Porec.png
END:VEVENT
BEGIN:VEVENT
DTSTART;TZID=Europe/Budapest:20250419T080000
DTEND;TZID=Europe/Budapest:20250421T120000
DTSTAMP:20260420T100456
CREATED:20241011T131442Z
LAST-MODIFIED:20250415T111618Z
UID:22168-1745049600-1745236800@szgp.hr
SUMMARY:Košarka turnir GAT
DESCRIPTION:
URL:https://szgp.hr/event/kosarka-turnir-gat/
LOCATION:SRC Veli Jože\, SRC Veli Jože\, Poreč\, Istra\, 52440\, Croatia (Local Name: Hrvatska)
CATEGORIES:Veli Jože
END:VEVENT
BEGIN:VEVENT
DTSTART;VALUE=DATE:20250417
DTEND;VALUE=DATE:20250419
DTSTAMP:20260420T100456
CREATED:20250411T085410Z
LAST-MODIFIED:20250411T091905Z
UID:24949-1744848000-1745020799@szgp.hr
SUMMARY:RK POREČ Uskršnji turnir
DESCRIPTION:RJ
URL:https://szgp.hr/event/rk-porec-uskrsnji-turnir/
LOCATION:Dvorana Žatika\, Dvorana Žatika\, Poreč\, Istra\, 52440\, Croatia (Local Name: Hrvatska)
CATEGORIES:Dvorana Žatika
ATTACH;FMTTYPE=image/png:https://szgp.hr/wp-content/uploads/2024/09/RK-Porec.png
END:VEVENT
BEGIN:VEVENT
DTSTART;TZID=Europe/Budapest:20250416T083000
DTEND;TZID=Europe/Budapest:20250416T140000
DTSTAMP:20260420T100456
CREATED:20240912T114347Z
LAST-MODIFIED:20250411T120857Z
UID:21666-1744792200-1744812000@szgp.hr
SUMMARY:ATLETIKA 5. i 6. razredi osnovne škole i učenici s intelektualnim teškoćama
DESCRIPTION:  \n 
URL:https://szgp.hr/event/atletika-5-i-6-razredi-osnovne-skole-i-ucenici-s-intelektualnim-teskocama/
LOCATION:Stadion NK Jadran
CATEGORIES:Stadion NK Jadran
ATTACH;FMTTYPE=image/webp:https://szgp.hr/wp-content/uploads/2024/09/HSSS_logotip_primarni_centrirani.webp
ORGANIZER;CN="%C5%A0kolski sportski savez I%C5%BD":MAILTO:skolski.sport.istra@gmail.com
END:VEVENT
BEGIN:VEVENT
DTSTART;TZID=Europe/Budapest:20250415T173000
DTEND;TZID=Europe/Budapest:20250415T193000
DTSTAMP:20260420T100456
CREATED:20250404T075555Z
LAST-MODIFIED:20250404T075555Z
UID:24824-1744738200-1744745400@szgp.hr
SUMMARY:ŽRK POREČ 3.HRL ŽRK Poreč - ŽRK Murvica
DESCRIPTION:ŽRK POREČ  \n 
URL:https://szgp.hr/event/zrk-porec-3-hrl-zrk-porec-zrk-murvica/
LOCATION:SRC Veli Jože\, SRC Veli Jože\, Poreč\, Istra\, 52440\, Croatia (Local Name: Hrvatska)
CATEGORIES:Veli Jože
ORGANIZER;CN="%C5%BDRK PORE%C4%8C":MAILTO:zrk.porec@inet.h
END:VEVENT
BEGIN:VEVENT
DTSTART;TZID=Europe/Budapest:20250413T170000
DTEND;TZID=Europe/Budapest:20250413T200000
DTSTAMP:20260420T100456
CREATED:20250122T100952Z
LAST-MODIFIED:20250404T075651Z
UID:23799-1744563600-1744574400@szgp.hr
SUMMARY:ŽRK Poreč Il HRL zapad
DESCRIPTION:
URL:https://szgp.hr/event/zrk-porec-il-hrl-zapad-2/
LOCATION:SRC Veli Jože\, SRC Veli Jože\, Poreč\, Istra\, 52440\, Croatia (Local Name: Hrvatska)
CATEGORIES:Veli Jože
ATTACH;FMTTYPE=image/jpeg:https://szgp.hr/wp-content/uploads/2025/01/ZRK-Porec.jpg
ORGANIZER;CN="%C5%BDRK PORE%C4%8C":MAILTO:zrk.porec@inet.h
END:VEVENT
BEGIN:VEVENT
DTSTART;TZID=Europe/Budapest:20250413T120000
DTEND;TZID=Europe/Budapest:20250413T160000
DTSTAMP:20260420T100456
CREATED:20250326T072859Z
LAST-MODIFIED:20250407T074814Z
UID:24688-1744545600-1744560000@szgp.hr
SUMMARY:RK POREČ 2.HRL zapad
DESCRIPTION:
URL:https://szgp.hr/event/rk-porec-2-hrl-zapad-2/
LOCATION:SRC Veli Jože\, SRC Veli Jože\, Poreč\, Istra\, 52440\, Croatia (Local Name: Hrvatska)
CATEGORIES:Veli Jože
ATTACH;FMTTYPE=image/png:https://szgp.hr/wp-content/uploads/2024/09/RK-Porec.png
END:VEVENT
BEGIN:VEVENT
DTSTART;TZID=Europe/Budapest:20250413T090000
DTEND;TZID=Europe/Budapest:20250413T120000
DTSTAMP:20260420T100456
CREATED:20250408T065310Z
LAST-MODIFIED:20250408T065310Z
UID:24878-1744534800-1744545600@szgp.hr
SUMMARY:ŽRK POREČ - Selekcija IŽ
DESCRIPTION:
URL:https://szgp.hr/event/zrk-porec-selekcija-iz/
LOCATION:SRC Veli Jože\, SRC Veli Jože\, Poreč\, Istra\, 52440\, Croatia (Local Name: Hrvatska)
CATEGORIES:Veli Jože
ATTACH;FMTTYPE=image/jpeg:https://szgp.hr/wp-content/uploads/2025/01/ZRK-Porec.jpg
ORGANIZER;CN="%C5%BDRK PORE%C4%8C":MAILTO:zrk.porec@inet.h
END:VEVENT
BEGIN:VEVENT
DTSTART;TZID=Europe/Budapest:20250413T080000
DTEND;TZID=Europe/Budapest:20250413T123000
DTSTAMP:20260420T100456
CREATED:20250319T072808Z
LAST-MODIFIED:20250319T072808Z
UID:24537-1744531200-1744547400@szgp.hr
SUMMARY:KK POREČ U11 Žl
DESCRIPTION:  \n 
URL:https://szgp.hr/event/kk-porec-u11-zl/
LOCATION:Osnovna škola Finida\, Rovinjska 12\, Poreč\, Istra\, 52440\, Croatia (Local Name: Hrvatska)
CATEGORIES:Finida
ATTACH;FMTTYPE=image/jpeg:https://szgp.hr/wp-content/uploads/2025/01/KK-Porec.jpg
ORGANIZER;CN="Ko%C5%A1arka%C5%A1ki klub Pore%C4%8D":MAILTO:kkporec@gmail.com
END:VEVENT
BEGIN:VEVENT
DTSTART;TZID=Europe/Budapest:20250412T163000
DTEND;TZID=Europe/Budapest:20250412T220000
DTSTAMP:20260420T100456
CREATED:20250326T073420Z
LAST-MODIFIED:20250326T073420Z
UID:24692-1744475400-1744495200@szgp.hr
SUMMARY:RK POREČ Liga za prvaka RK Poreč - RK Zagreb
DESCRIPTION:
URL:https://szgp.hr/event/rk-porec-liga-za-prvaka-rk-porec-rk-zagreb-2/
LOCATION:SRC Veli Jože\, SRC Veli Jože\, Poreč\, Istra\, 52440\, Croatia (Local Name: Hrvatska)
CATEGORIES:Veli Jože
ATTACH;FMTTYPE=image/png:https://szgp.hr/wp-content/uploads/2024/09/RK-Porec.png
END:VEVENT
BEGIN:VEVENT
DTSTART;VALUE=DATE:20250412
DTEND;VALUE=DATE:20250413
DTSTAMP:20260420T100456
CREATED:20250319T090314Z
LAST-MODIFIED:20250319T115752Z
UID:24542-1744416000-1744502399@szgp.hr
SUMMARY:ŠK "V.Goratan" kadetsko prvenstvo
DESCRIPTION:Prostorije za sjednice (press centar) \n 
URL:https://szgp.hr/event/sk-v-goratan-kadetsko-prvenstvo/
LOCATION:Dvorana Žatika\, Dvorana Žatika\, Poreč\, Istra\, 52440\, Croatia (Local Name: Hrvatska)
CATEGORIES:Dvorana Žatika
ATTACH;FMTTYPE=image/png:https://szgp.hr/wp-content/uploads/2025/03/Sahovski-klub-Grb2.png
ORGANIZER;CN="%C5%A0ahovski klub 'Vladimir Gortan'":MAILTO:ivica.grbac89@gmail.com
END:VEVENT
BEGIN:VEVENT
DTSTART;TZID=Europe/Budapest:20250410T073000
DTEND;TZID=Europe/Budapest:20250410T160000
DTSTAMP:20260420T100456
CREATED:20240913T081823Z
LAST-MODIFIED:20240913T081823Z
UID:21683-1744270200-1744300800@szgp.hr
SUMMARY:HŠSS futsal završnica srednje škole
DESCRIPTION:
URL:https://szgp.hr/event/hsss-futsal-zavrsnica-srednje-skole/
LOCATION:SRC Veli Jože\, SRC Veli Jože\, Poreč\, Istra\, 52440\, Croatia (Local Name: Hrvatska)
CATEGORIES:Finida,Veli Jože
END:VEVENT
BEGIN:VEVENT
DTSTART;VALUE=DATE:20250410
DTEND;VALUE=DATE:20250414
DTSTAMP:20260420T100456
CREATED:20240807T102159Z
LAST-MODIFIED:20250403T104520Z
UID:21125-1744243200-1744588799@szgp.hr
SUMMARY:HRS - završnica djevojke U17
DESCRIPTION:
URL:https://szgp.hr/event/hrs-z-u17/
LOCATION:Dvorana Žatika\, Dvorana Žatika\, Poreč\, Istra\, 52440\, Croatia (Local Name: Hrvatska)
CATEGORIES:Dvorana Žatika
ATTACH;FMTTYPE=image/jpeg:https://szgp.hr/wp-content/uploads/2024/08/HRS.jpg
END:VEVENT
BEGIN:VEVENT
DTSTART;TZID=Europe/Budapest:20250408T073000
DTEND;TZID=Europe/Budapest:20250408T153000
DTSTAMP:20260420T100456
CREATED:20240913T081644Z
LAST-MODIFIED:20240913T081644Z
UID:21681-1744097400-1744126200@szgp.hr
SUMMARY:HŠSS futsal završnica osnovne škole
DESCRIPTION:
URL:https://szgp.hr/event/hsss-futsal-zavrsnica-osnovne-skole/
LOCATION:Istra
CATEGORIES:Dvorana Žatika,Finida,Veli Jože
END:VEVENT
BEGIN:VEVENT
DTSTART;TZID=Europe/Budapest:20250408T073000
DTEND;TZID=Europe/Budapest:20250408T153000
DTSTAMP:20260420T100456
CREATED:20240807T101834Z
LAST-MODIFIED:20240807T101834Z
UID:21123-1744097400-1744126200@szgp.hr
SUMMARY:Futsal OŠ - HŠSS
DESCRIPTION:
URL:https://szgp.hr/event/futsal-os-hsss/
LOCATION:Dvorana Žatika\, Dvorana Žatika\, Poreč\, Istra\, 52440\, Croatia (Local Name: Hrvatska)
CATEGORIES:Dvorana Žatika
END:VEVENT
BEGIN:VEVENT
DTSTART;TZID=Europe/Budapest:20250406T170000
DTEND;TZID=Europe/Budapest:20250406T200000
DTSTAMP:20260420T100456
CREATED:20250122T073658Z
LAST-MODIFIED:20250331T130748Z
UID:23762-1743958800-1743969600@szgp.hr
SUMMARY:II HKL zapad KK Adria - KK Rudar
DESCRIPTION:
URL:https://szgp.hr/event/ii-hkl-zapad-kk-adria-kk-rudar/
LOCATION:Osnovna škola Finida\, Rovinjska 12\, Poreč\, Istra\, 52440\, Croatia (Local Name: Hrvatska)
CATEGORIES:Finida
ATTACH;FMTTYPE=image/png:https://szgp.hr/wp-content/uploads/2025/01/KK-Adria.png
END:VEVENT
BEGIN:VEVENT
DTSTART;TZID=Europe/Budapest:20250406T130000
DTEND;TZID=Europe/Budapest:20250406T163000
DTSTAMP:20260420T100456
CREATED:20250328T092239Z
LAST-MODIFIED:20250328T093548Z
UID:24736-1743944400-1743957000@szgp.hr
SUMMARY:OK POREČ 2.HOL prvenstvena OK Poreč - OK Škurinje
DESCRIPTION:
URL:https://szgp.hr/event/ok-porec-2-hol-prvenstvena-ok-porec-ok-skurinje/
LOCATION:Osnovna škola Finida\, Rovinjska 12\, Poreč\, Istra\, 52440\, Croatia (Local Name: Hrvatska)
CATEGORIES:Finida
ATTACH;FMTTYPE=image/jpeg:https://szgp.hr/wp-content/uploads/2024/08/ok-porec-logo.jpg
ORGANIZER;CN="Odbojka%C5%A1ki klub Pore%C4%8D":MAILTO:tajnikokporec@gmail.com
END:VEVENT
BEGIN:VEVENT
DTSTART;TZID=Europe/Budapest:20250405T163000
DTEND;TZID=Europe/Budapest:20250405T213000
DTSTAMP:20260420T100456
CREATED:20250312T132134Z
LAST-MODIFIED:20250312T132134Z
UID:24447-1743870600-1743888600@szgp.hr
SUMMARY:RK POREČ Premijer liga za prvaka RK Poreč - RK Nexe
DESCRIPTION:
URL:https://szgp.hr/event/rk-porec-premijer-liga-za-prvaka-rk-porec-rk-nexe/
LOCATION:SRC Veli Jože\, SRC Veli Jože\, Poreč\, Istra\, 52440\, Croatia (Local Name: Hrvatska)
CATEGORIES:Veli Jože
ATTACH;FMTTYPE=image/png:https://szgp.hr/wp-content/uploads/2024/09/RK-Porec.png
END:VEVENT
BEGIN:VEVENT
DTSTART;TZID=Europe/Budapest:20250405T100000
DTEND;TZID=Europe/Budapest:20250405T190000
DTSTAMP:20260420T100456
CREATED:20250103T101322Z
LAST-MODIFIED:20250327T134533Z
UID:23538-1743847200-1743879600@szgp.hr
SUMMARY:STK Jadran Memorijal "Luka Otočan"
DESCRIPTION:
URL:https://szgp.hr/event/stk-jadran-memorijal-luka-otocan/
LOCATION:Osnovna škola Finida\, Rovinjska 12\, Poreč\, Istra\, 52440\, Croatia (Local Name: Hrvatska)
CATEGORIES:Finida
ATTACH;FMTTYPE=image/jpeg:https://szgp.hr/wp-content/uploads/2024/02/stk-jadran-porec.jpg
ORGANIZER;CN="Stolno teniski klub Jadran":MAILTO:miroslavzuti@gmail.com
END:VEVENT
BEGIN:VEVENT
DTSTART;TZID=Europe/Budapest:20250405T083000
DTEND;TZID=Europe/Budapest:20250405T150000
DTSTAMP:20260420T100456
CREATED:20250312T131729Z
LAST-MODIFIED:20250312T131729Z
UID:24445-1743841800-1743865200@szgp.hr
SUMMARY:RK POREČ 1.HRL U15
DESCRIPTION:
URL:https://szgp.hr/event/rk-porec-1-hrl-u15/
LOCATION:SRC Veli Jože\, SRC Veli Jože\, Poreč\, Istra\, 52440\, Croatia (Local Name: Hrvatska)
CATEGORIES:Veli Jože
ATTACH;FMTTYPE=image/png:https://szgp.hr/wp-content/uploads/2024/09/RK-Porec.png
END:VEVENT
BEGIN:VEVENT
DTSTART;VALUE=DATE:20250405
DTEND;VALUE=DATE:20250407
DTSTAMP:20260420T100456
CREATED:20250324T125649Z
LAST-MODIFIED:20250324T125649Z
UID:24602-1743811200-1743983999@szgp.hr
SUMMARY:POREČ CUP 2025 - Ritmička gimnastika
DESCRIPTION:
URL:https://szgp.hr/event/porec-cup-2025-ritmicka-gimnastika/
LOCATION:Dvorana Žatika\, Dvorana Žatika\, Poreč\, Istra\, 52440\, Croatia (Local Name: Hrvatska)
CATEGORIES:Dvorana Žatika
END:VEVENT
BEGIN:VEVENT
DTSTART;TZID=Europe/Budapest:20250404T193000
DTEND;TZID=Europe/Budapest:20250404T220000
DTSTAMP:20260420T100456
CREATED:20250326T122753Z
LAST-MODIFIED:20250326T122753Z
UID:24723-1743795000-1743804000@szgp.hr
SUMMARY:RK POREČ 2.HRL zapad RK Poreč - RK Mornar Dramalj Crikvenica
DESCRIPTION:
URL:https://szgp.hr/event/rk-porec-2-hrl-zapad-rk-porec-rk-mornar-dramalj-crikvenica/
LOCATION:SRC Veli Jože\, SRC Veli Jože\, Poreč\, Istra\, 52440\, Croatia (Local Name: Hrvatska)
CATEGORIES:Veli Jože
ATTACH;FMTTYPE=image/png:https://szgp.hr/wp-content/uploads/2024/09/RK-Porec.png
END:VEVENT
BEGIN:VEVENT
DTSTART;TZID=Europe/Budapest:20250401T200000
DTEND;TZID=Europe/Budapest:20250401T220000
DTSTAMP:20260420T100456
CREATED:20250122T100854Z
LAST-MODIFIED:20250328T083708Z
UID:23797-1743537600-1743544800@szgp.hr
SUMMARY:ŽRK Poreč IlI HRL zapad
DESCRIPTION:
URL:https://szgp.hr/event/zrk-porec-ili-hrl-zapad/
LOCATION:SRC Veli Jože\, SRC Veli Jože\, Poreč\, Istra\, 52440\, Croatia (Local Name: Hrvatska)
CATEGORIES:Veli Jože
ATTACH;FMTTYPE=image/jpeg:https://szgp.hr/wp-content/uploads/2025/01/ZRK-Porec.jpg
ORGANIZER;CN="%C5%BDRK PORE%C4%8C":MAILTO:zrk.porec@inet.h
END:VEVENT
BEGIN:VEVENT
DTSTART;TZID=Europe/Budapest:20250401T083000
DTEND;TZID=Europe/Budapest:20250401T150000
DTSTAMP:20260420T100456
CREATED:20240912T112041Z
LAST-MODIFIED:20240912T112041Z
UID:21653-1743496200-1743519600@szgp.hr
SUMMARY:KOŠARKA 3X3 mladići srednje škole IŽ
DESCRIPTION:
URL:https://szgp.hr/event/kosarka-3x3-mladici-srednje-skole-iz/
LOCATION:Dvorana Žatika\, Dvorana Žatika\, Poreč\, Istra\, 52440\, Croatia (Local Name: Hrvatska)
CATEGORIES:Dvorana Žatika
ORGANIZER;CN="%C5%A0kolski sportski savez I%C5%BD":MAILTO:skolski.sport.istra@gmail.com
END:VEVENT
BEGIN:VEVENT
DTSTART;TZID=Europe/Budapest:20250331T083000
DTEND;TZID=Europe/Budapest:20250331T150000
DTSTAMP:20260420T100456
CREATED:20240912T111931Z
LAST-MODIFIED:20240912T111931Z
UID:21651-1743409800-1743433200@szgp.hr
SUMMARY:KOŠARKA 3X3 djevojke srednje škole IŽ
DESCRIPTION:
URL:https://szgp.hr/event/kosarka-3x3-djevojke-srednje-skole-iz/
LOCATION:Dvorana Žatika\, Dvorana Žatika\, Poreč\, Istra\, 52440\, Croatia (Local Name: Hrvatska)
CATEGORIES:Dvorana Žatika
ORGANIZER;CN="%C5%A0kolski sportski savez I%C5%BD":MAILTO:skolski.sport.istra@gmail.com
END:VEVENT
BEGIN:VEVENT
DTSTART;TZID=Europe/Budapest:20250330T100000
DTEND;TZID=Europe/Budapest:20250330T120000
DTSTAMP:20260420T100456
CREATED:20250326T073837Z
LAST-MODIFIED:20250326T073837Z
UID:24694-1743328800-1743336000@szgp.hr
SUMMARY:OK POREČ mini odbojka Žl
DESCRIPTION:OK  \n 
URL:https://szgp.hr/event/ok-porec-mini-odbojka-zl/
LOCATION:Osnovna škola Finida\, Rovinjska 12\, Poreč\, Istra\, 52440\, Croatia (Local Name: Hrvatska)
CATEGORIES:Finida
ATTACH;FMTTYPE=image/jpeg:https://szgp.hr/wp-content/uploads/2025/01/ok-porec-logo-1.jpg
ORGANIZER;CN="Odbojka%C5%A1ki klub Pore%C4%8D":MAILTO:tajnikokporec@gmail.com
END:VEVENT
BEGIN:VEVENT
DTSTART;TZID=Europe/Budapest:20250329T173000
DTEND;TZID=Europe/Budapest:20250329T210000
DTSTAMP:20260420T100456
CREATED:20250122T100743Z
LAST-MODIFIED:20250327T134806Z
UID:23795-1743269400-1743282000@szgp.hr
SUMMARY:ŽRK Poreč Il HRL zapad
DESCRIPTION:
URL:https://szgp.hr/event/zrk-porec-il-hrl-zapad/
LOCATION:SRC Veli Jože\, SRC Veli Jože\, Poreč\, Istra\, 52440\, Croatia (Local Name: Hrvatska)
CATEGORIES:Veli Jože
ATTACH;FMTTYPE=image/jpeg:https://szgp.hr/wp-content/uploads/2025/01/ZRK-Porec.jpg
ORGANIZER;CN="%C5%BDRK PORE%C4%8C":MAILTO:zrk.porec@inet.h
END:VEVENT
BEGIN:VEVENT
DTSTART;TZID=Europe/Budapest:20250329T093000
DTEND;TZID=Europe/Budapest:20250329T123000
DTSTAMP:20260420T100456
CREATED:20250320T120822Z
LAST-MODIFIED:20250324T080439Z
UID:24563-1743240600-1743251400@szgp.hr
SUMMARY:KK POREČ predkadeti KK Poreč - KK Stoja Žl
DESCRIPTION:
URL:https://szgp.hr/event/kk-porec-predkadeti-kk-porec-kk-stoja-zl/
LOCATION:Dvorana Žatika\, Dvorana Žatika\, Poreč\, Istra\, 52440\, Croatia (Local Name: Hrvatska)
CATEGORIES:Dvorana Žatika
ATTACH;FMTTYPE=image/jpeg:https://szgp.hr/wp-content/uploads/2025/01/KK-Porec.jpg
ORGANIZER;CN="Ko%C5%A1arka%C5%A1ki klub Pore%C4%8D":MAILTO:kkporec@gmail.com
END:VEVENT
BEGIN:VEVENT
DTSTART;TZID=Europe/Budapest:20250329T080000
DTEND;TZID=Europe/Budapest:20250329T170000
DTSTAMP:20260420T100456
CREATED:20241217T101023Z
LAST-MODIFIED:20250327T134627Z
UID:23397-1743235200-1743267600@szgp.hr
SUMMARY:Stolnoteniski klub Jadran I HSTL
DESCRIPTION:
URL:https://szgp.hr/event/stolnoteniski-klub-jadran-i-hstl-3/
LOCATION:Osnovna škola Finida\, Rovinjska 12\, Poreč\, Istra\, 52440\, Croatia (Local Name: Hrvatska)
CATEGORIES:Finida
ATTACH;FMTTYPE=image/jpeg:https://szgp.hr/wp-content/uploads/2024/02/stk-jadran-porec.jpg
ORGANIZER;CN="Stolno teniski klub Jadran":MAILTO:miroslavzuti@gmail.com
END:VEVENT
BEGIN:VEVENT
DTSTART;TZID=Europe/Budapest:20250329T080000
DTEND;TZID=Europe/Budapest:20250329T130000
DTSTAMP:20260420T100456
CREATED:20250214T141145Z
LAST-MODIFIED:20250321T122858Z
UID:23993-1743235200-1743253200@szgp.hr
SUMMARY:HRVAČKI KLUB POREČ Županijsko prvenstvo ml.dobne skupine
DESCRIPTION:
URL:https://szgp.hr/event/hrvacki-klub-porec-zupanijsko-prvenstvo-ml-dobne-skupine/
LOCATION:Dvorana Žatika\, Dvorana Žatika\, Poreč\, Istra\, 52440\, Croatia (Local Name: Hrvatska)
CATEGORIES:Dvorana Žatika
ATTACH;FMTTYPE=image/png:https://szgp.hr/wp-content/uploads/2025/02/HK-Porec.png
ORGANIZER;CN="Hrva%C4%8Dki klub Pore%C4%8D":MAILTO:hrvanje.porec@gmail.com
END:VEVENT
END:VCALENDAR