BEGIN:VCALENDAR
VERSION:2.0
PRODID:-//SZGP - ECPv6.15.20//NONSGML v1.0//EN
CALSCALE:GREGORIAN
METHOD:PUBLISH
X-WR-CALNAME:SZGP
X-ORIGINAL-URL:https://szgp.hr
X-WR-CALDESC:Događaji za SZGP
REFRESH-INTERVAL;VALUE=DURATION:PT1H
X-Robots-Tag:noindex
X-PUBLISHED-TTL:PT1H
BEGIN:VTIMEZONE
TZID:Europe/Budapest
BEGIN:DAYLIGHT
TZOFFSETFROM:+0100
TZOFFSETTO:+0200
TZNAME:CEST
DTSTART:20240331T010000
END:DAYLIGHT
BEGIN:STANDARD
TZOFFSETFROM:+0200
TZOFFSETTO:+0100
TZNAME:CET
DTSTART:20241027T010000
END:STANDARD
BEGIN:DAYLIGHT
TZOFFSETFROM:+0100
TZOFFSETTO:+0200
TZNAME:CEST
DTSTART:20250330T010000
END:DAYLIGHT
BEGIN:STANDARD
TZOFFSETFROM:+0200
TZOFFSETTO:+0100
TZNAME:CET
DTSTART:20251026T010000
END:STANDARD
BEGIN:DAYLIGHT
TZOFFSETFROM:+0100
TZOFFSETTO:+0200
TZNAME:CEST
DTSTART:20260329T010000
END:DAYLIGHT
BEGIN:STANDARD
TZOFFSETFROM:+0200
TZOFFSETTO:+0100
TZNAME:CET
DTSTART:20261025T010000
END:STANDARD
END:VTIMEZONE
BEGIN:VEVENT
DTSTART;TZID=Europe/Budapest:20251017T170000
DTEND;TZID=Europe/Budapest:20251017T203000
DTSTAMP:20260420T024011
CREATED:20250710T134108Z
LAST-MODIFIED:20250929T084435Z
UID:26757-1760720400-1760733000@szgp.hr
SUMMARY:RK POREČ 1.HRL Jug RK POREČ 2 - RK Karlovac
DESCRIPTION:
URL:https://szgp.hr/event/rk-porec-1-hrl-jug-rk-porec-2-rk-karlovac/
LOCATION:SRC Veli Jože\, SRC Veli Jože\, Poreč\, Istra\, 52440\, Croatia (Local Name: Hrvatska)
CATEGORIES:Veli Jože
ATTACH;FMTTYPE=image/png:https://szgp.hr/wp-content/uploads/2024/09/RK-Porec.png
END:VEVENT
BEGIN:VEVENT
DTSTART;VALUE=DATE:20251014
DTEND;VALUE=DATE:20251022
DTSTAMP:20260420T024011
CREATED:20240807T104101Z
LAST-MODIFIED:20250829T115736Z
UID:21153-1760400000-1761091199@szgp.hr
SUMMARY:SPORTFEST
DESCRIPTION:
URL:https://szgp.hr/event/sportfest/
LOCATION:Dvorana Žatika\, Dvorana Žatika\, Poreč\, Istra\, 52440\, Croatia (Local Name: Hrvatska)
CATEGORIES:Dvorana Žatika
ATTACH;FMTTYPE=image/jpeg:https://szgp.hr/wp-content/uploads/2024/08/sport-fest-porec-2025-653a_hu77b2a8657dd05d62cd716925f95702b0_703447_0x700_resize_q75_box.jpg
END:VEVENT
BEGIN:VEVENT
DTSTART;TZID=Europe/Budapest:20251012T150000
DTEND;TZID=Europe/Budapest:20251012T200000
DTSTAMP:20260420T024011
CREATED:20250922T133859Z
LAST-MODIFIED:20250922T133859Z
UID:27195-1760281200-1760299200@szgp.hr
SUMMARY:ŽRK Poreč - ŽRK Trešnjavka 2.HRL zapad
DESCRIPTION:
URL:https://szgp.hr/event/zrk-porec-zrk-tresnjavka-2-hrl-zapad/
LOCATION:SRC Veli Jože\, SRC Veli Jože\, Poreč\, Istra\, 52440\, Croatia (Local Name: Hrvatska)
CATEGORIES:Veli Jože
ATTACH;FMTTYPE=image/jpeg:https://szgp.hr/wp-content/uploads/2025/01/ZRK-Porec.jpg
ORGANIZER;CN="%C5%BDRK PORE%C4%8C":MAILTO:zrk.porec@inet.h
END:VEVENT
BEGIN:VEVENT
DTSTART;TZID=Europe/Budapest:20251012T100000
DTEND;TZID=Europe/Budapest:20251012T133000
DTSTAMP:20260420T024011
CREATED:20251001T080657Z
LAST-MODIFIED:20251006T062858Z
UID:27339-1760263200-1760275800@szgp.hr
SUMMARY:OK Poreč 2 - OK Marčana II.HOL zapad
DESCRIPTION:
URL:https://szgp.hr/event/ok-porec-mala-odbojka-zl-2/
LOCATION:Osnovna škola Finida\, Rovinjska 12\, Poreč\, Istra\, 52440\, Croatia (Local Name: Hrvatska)
CATEGORIES:Finida
ATTACH;FMTTYPE=image/jpeg:https://szgp.hr/wp-content/uploads/2025/01/ok-porec-logo-1.jpg
ORGANIZER;CN="Odbojka%C5%A1ki klub Pore%C4%8D":MAILTO:tajnikokporec@gmail.com
END:VEVENT
BEGIN:VEVENT
DTSTART;TZID=Europe/Budapest:20251011T150000
DTEND;TZID=Europe/Budapest:20251011T210000
DTSTAMP:20260420T024011
CREATED:20250710T132544Z
LAST-MODIFIED:20250710T132544Z
UID:26745-1760194800-1760216400@szgp.hr
SUMMARY:RK POREČ 6.kolo Premierliga RK Poreč - RK Osijek
DESCRIPTION:
URL:https://szgp.hr/event/rk-porec-6-kolo-premierliga-rk-porec-rk-osijek/
LOCATION:SRC Veli Jože\, SRC Veli Jože\, Poreč\, Istra\, 52440\, Croatia (Local Name: Hrvatska)
CATEGORIES:Veli Jože
ATTACH;FMTTYPE=image/png:https://szgp.hr/wp-content/uploads/2024/09/RK-Porec.png
END:VEVENT
BEGIN:VEVENT
DTSTART;VALUE=DATE:20251006
DTEND;VALUE=DATE:20251013
DTSTAMP:20260420T024011
CREATED:20240807T104028Z
LAST-MODIFIED:20250829T115351Z
UID:21151-1759708800-1760313599@szgp.hr
SUMMARY:27. Svjetsko seniorsko i 17. omladinsko svjetsko ITF Taekwon-Do prvenstvo
DESCRIPTION:
URL:https://szgp.hr/event/27-svjetsko-seniorsko-i-17-omladinsko-svjetsko-itf-taekwon-do-prvenstvo/
LOCATION:Dvorana Žatika\, Dvorana Žatika\, Poreč\, Istra\, 52440\, Croatia (Local Name: Hrvatska)
CATEGORIES:Dvorana Žatika
ATTACH;FMTTYPE=image/jpeg:https://szgp.hr/wp-content/uploads/2024/08/WC2025_socialmedia-768x576-1.jpg
END:VEVENT
BEGIN:VEVENT
DTSTART;TZID=Europe/Budapest:20251005T160000
DTEND;TZID=Europe/Budapest:20251005T200000
DTSTAMP:20260420T024011
CREATED:20250710T133944Z
LAST-MODIFIED:20250710T134915Z
UID:26754-1759680000-1759694400@szgp.hr
SUMMARY:RK POREČ 1.HRL Jug RK POREČ 2 - RK Zadar 1954
DESCRIPTION:
URL:https://szgp.hr/event/rk-porec-1-hrl-jug-rk-porec-2-rk-zadar-1954/
LOCATION:SRC Veli Jože\, SRC Veli Jože\, Poreč\, Istra\, 52440\, Croatia (Local Name: Hrvatska)
CATEGORIES:Veli Jože
ATTACH;FMTTYPE=image/png:https://szgp.hr/wp-content/uploads/2024/09/RK-Porec.png
END:VEVENT
BEGIN:VEVENT
DTSTART;TZID=Europe/Budapest:20251005T153000
DTEND;TZID=Europe/Budapest:20251005T190000
DTSTAMP:20260420T024011
CREATED:20250929T070433Z
LAST-MODIFIED:20250929T070433Z
UID:27286-1759678200-1759690800@szgp.hr
SUMMARY:OK POREČ 2 – OK NOVIGRAD
DESCRIPTION:
URL:https://szgp.hr/event/ok-porec-2-ok-novigrad/
LOCATION:Osnovna škola Finida\, Rovinjska 12\, Poreč\, Istra\, 52440\, Croatia (Local Name: Hrvatska)
CATEGORIES:Finida
ATTACH;FMTTYPE=image/jpeg:https://szgp.hr/wp-content/uploads/2025/01/ok-porec-logo-1.jpg
ORGANIZER;CN="Odbojka%C5%A1ki klub Pore%C4%8D":MAILTO:tajnikokporec@gmail.com
END:VEVENT
BEGIN:VEVENT
DTSTART;TZID=Europe/Budapest:20251005T090000
DTEND;TZID=Europe/Budapest:20251005T140000
DTSTAMP:20260420T024011
CREATED:20250922T133616Z
LAST-MODIFIED:20250930T081623Z
UID:27193-1759654800-1759672800@szgp.hr
SUMMARY:ŽRK Poreč U12 Županijska liga
DESCRIPTION:
URL:https://szgp.hr/event/zrk-porec-u12-zupanijska-liga/
LOCATION:SRC Veli Jože\, SRC Veli Jože\, Poreč\, Istra\, 52440\, Croatia (Local Name: Hrvatska)
CATEGORIES:Veli Jože
ATTACH;FMTTYPE=image/jpeg:https://szgp.hr/wp-content/uploads/2025/01/ZRK-Porec.jpg
ORGANIZER;CN="%C5%BDRK PORE%C4%8C":MAILTO:zrk.porec@inet.h
END:VEVENT
BEGIN:VEVENT
DTSTART;TZID=Europe/Budapest:20251005T083000
DTEND;TZID=Europe/Budapest:20251005T213000
DTSTAMP:20260420T024011
CREATED:20250929T082542Z
LAST-MODIFIED:20250929T082542Z
UID:27294-1759653000-1759699800@szgp.hr
SUMMARY:Šahovski klub V. Gortan 2.juniorska liga
DESCRIPTION:
URL:https://szgp.hr/event/sahovski-klub-v-gortan-2-juniorska-liga/
LOCATION:Dvorana Žatika\, Dvorana Žatika\, Poreč\, Istra\, 52440\, Croatia (Local Name: Hrvatska)
CATEGORIES:Dvorana Žatika
ATTACH;FMTTYPE=image/png:https://szgp.hr/wp-content/uploads/2025/03/Sahovski-klub-Grb2.png
ORGANIZER;CN="%C5%A0ahovski klub 'Vladimir Gortan'":MAILTO:ivica.grbac89@gmail.com
END:VEVENT
BEGIN:VEVENT
DTSTART;TZID=Europe/Budapest:20251004T153000
DTEND;TZID=Europe/Budapest:20251004T193000
DTSTAMP:20260420T024011
CREATED:20250821T061037Z
LAST-MODIFIED:20250929T070100Z
UID:26965-1759591800-1759606200@szgp.hr
SUMMARY:OK Poreč 1.B liga zapad OK Poreč - OK Pazin
DESCRIPTION:
URL:https://szgp.hr/event/ok-porec-1-b-liga-zapad-ok-porec-ok-pazin/
LOCATION:Osnovna škola Finida\, Rovinjska 12\, Poreč\, Istra\, 52440\, Croatia (Local Name: Hrvatska)
CATEGORIES:Finida
ATTACH;FMTTYPE=image/jpeg:https://szgp.hr/wp-content/uploads/2025/01/ok-porec-logo-1.jpg
ORGANIZER;CN="Odbojka%C5%A1ki klub Pore%C4%8D":MAILTO:tajnikokporec@gmail.com
END:VEVENT
BEGIN:VEVENT
DTSTART;TZID=Europe/Budapest:20251004T150000
DTEND;TZID=Europe/Budapest:20251004T210000
DTSTAMP:20260420T024011
CREATED:20250710T132357Z
LAST-MODIFIED:20250717T065947Z
UID:26743-1759590000-1759611600@szgp.hr
SUMMARY:RK POREČ 5.kolo Premierliga RK Poreč - RK Metković - Zalmo
DESCRIPTION:
URL:https://szgp.hr/event/rk-porec-5-kolo-premierliga-rk-porec-rk-metkovic-zalmo/
LOCATION:SRC Veli Jože\, SRC Veli Jože\, Poreč\, Istra\, 52440\, Croatia (Local Name: Hrvatska)
CATEGORIES:Veli Jože
ATTACH;FMTTYPE=image/png:https://szgp.hr/wp-content/uploads/2024/09/RK-Porec.png
END:VEVENT
BEGIN:VEVENT
DTSTART;VALUE=DATE:20251003
DTEND;VALUE=DATE:20251005
DTSTAMP:20260420T024011
CREATED:20241119T081257Z
LAST-MODIFIED:20250829T114403Z
UID:22849-1759449600-1759622399@szgp.hr
SUMMARY:HHS / VALAMAR CUP hrvanje
DESCRIPTION:1/2 dvorane SD Žatika
URL:https://szgp.hr/event/hhs-valamar-cup-hrvanje/
LOCATION:Dvorana Žatika\, Dvorana Žatika\, Poreč\, Istra\, 52440\, Croatia (Local Name: Hrvatska)
CATEGORIES:Dvorana Žatika
ATTACH;FMTTYPE=image/jpeg:https://szgp.hr/wp-content/uploads/2024/11/valamar-cup-2024-box.jpg
ORGANIZER;CN="Valamar d.d.":MAILTO:nikola.kordic@valamar.com
END:VEVENT
BEGIN:VEVENT
DTSTART;TZID=Europe/Budapest:20250928T093000
DTEND;TZID=Europe/Budapest:20250928T140000
DTSTAMP:20260420T024011
CREATED:20250923T094348Z
LAST-MODIFIED:20250923T094348Z
UID:27239-1759051800-1759068000@szgp.hr
SUMMARY:ŽRK Poreč U12 1.HRL
DESCRIPTION:
URL:https://szgp.hr/event/zrk-porec-u12-1-hrl/
LOCATION:SRC Veli Jože\, SRC Veli Jože\, Poreč\, Istra\, 52440\, Croatia (Local Name: Hrvatska)
CATEGORIES:Veli Jože
ATTACH;FMTTYPE=image/jpeg:https://szgp.hr/wp-content/uploads/2025/01/ZRK-Porec.jpg
ORGANIZER;CN="%C5%BDRK PORE%C4%8C":MAILTO:zrk.porec@inet.h
END:VEVENT
BEGIN:VEVENT
DTSTART;TZID=Europe/Budapest:20250927T160000
DTEND;TZID=Europe/Budapest:20250927T210000
DTSTAMP:20260420T024011
CREATED:20250922T133347Z
LAST-MODIFIED:20250922T133347Z
UID:27191-1758988800-1759006800@szgp.hr
SUMMARY:ŽRK Poreč - RŠ Karlovac 2.HRL zapad
DESCRIPTION:
URL:https://szgp.hr/event/zrk-porec-rs-karlovac-2-hrl-zapad/
LOCATION:SRC Veli Jože\, SRC Veli Jože\, Poreč\, Istra\, 52440\, Croatia (Local Name: Hrvatska)
CATEGORIES:Veli Jože
ATTACH;FMTTYPE=image/jpeg:https://szgp.hr/wp-content/uploads/2025/01/ZRK-Porec.jpg
ORGANIZER;CN="%C5%BDRK PORE%C4%8C":MAILTO:zrk.porec@inet.h
END:VEVENT
BEGIN:VEVENT
DTSTART;TZID=Europe/Budapest:20250927T100000
DTEND;TZID=Europe/Budapest:20250927T140000
DTSTAMP:20260420T024011
CREATED:20250917T131744Z
LAST-MODIFIED:20250923T094451Z
UID:27133-1758967200-1758981600@szgp.hr
SUMMARY:RK POREČ U13 ŽL
DESCRIPTION:
URL:https://szgp.hr/event/rk-porec-u13-zl/
LOCATION:SRC Veli Jože\, SRC Veli Jože\, Poreč\, Istra\, 52440\, Croatia (Local Name: Hrvatska)
CATEGORIES:Veli Jože
ATTACH;FMTTYPE=image/png:https://szgp.hr/wp-content/uploads/2024/09/RK-Porec.png
END:VEVENT
BEGIN:VEVENT
DTSTART;VALUE=DATE:20250927
DTEND;VALUE=DATE:20250929
DTSTAMP:20260420T024011
CREATED:20250828T103232Z
LAST-MODIFIED:20250828T103323Z
UID:27000-1758931200-1759103999@szgp.hr
SUMMARY:OK POREČ turnir
DESCRIPTION:
URL:https://szgp.hr/event/ok-porec-turnir-2/
LOCATION:Osnovna škola Finida\, Rovinjska 12\, Poreč\, Istra\, 52440\, Croatia (Local Name: Hrvatska)
CATEGORIES:Finida
ATTACH;FMTTYPE=image/jpeg:https://szgp.hr/wp-content/uploads/2025/01/ok-porec-logo-1.jpg
ORGANIZER;CN="Odbojka%C5%A1ki klub Pore%C4%8D":MAILTO:tajnikokporec@gmail.com
END:VEVENT
BEGIN:VEVENT
DTSTART;TZID=Europe/Budapest:20250926T163000
DTEND;TZID=Europe/Budapest:20250926T210000
DTSTAMP:20260420T024011
CREATED:20250710T132052Z
LAST-MODIFIED:20250916T072435Z
UID:26741-1758904200-1758920400@szgp.hr
SUMMARY:RK POREČ 3.kolo Premierliga RK Poreč - RK Nexe
DESCRIPTION:
URL:https://szgp.hr/event/rk-porec-3-kolo-premierliga-rk-porec-rk-nexe/
LOCATION:SRC Veli Jože\, SRC Veli Jože\, Poreč\, Istra\, 52440\, Croatia (Local Name: Hrvatska)
CATEGORIES:Veli Jože
ATTACH;FMTTYPE=image/png:https://szgp.hr/wp-content/uploads/2024/09/RK-Porec.png
END:VEVENT
BEGIN:VEVENT
DTSTART;VALUE=DATE:20250925
DTEND;VALUE=DATE:20250929
DTSTAMP:20260420T024011
CREATED:20240807T103904Z
LAST-MODIFIED:20250829T114016Z
UID:21147-1758758400-1759103999@szgp.hr
SUMMARY:CORNHOL WC
DESCRIPTION:
URL:https://szgp.hr/event/cornhol-ep/
LOCATION:Dvorana Žatika\, Dvorana Žatika\, Poreč\, Istra\, 52440\, Croatia (Local Name: Hrvatska)
CATEGORIES:Dvorana Žatika
ATTACH;FMTTYPE=image/jpeg:https://szgp.hr/wp-content/uploads/2024/08/CORNHOL-WC.jpg
END:VEVENT
BEGIN:VEVENT
DTSTART;TZID=Europe/Budapest:20250920T083000
DTEND;TZID=Europe/Budapest:20250920T143000
DTSTAMP:20260420T024011
CREATED:20250912T075219Z
LAST-MODIFIED:20250912T075219Z
UID:27091-1758357000-1758378600@szgp.hr
SUMMARY:RK POREČ 1.HRL U13
DESCRIPTION:
URL:https://szgp.hr/event/rk-porec-1-hrl-u13-3/
LOCATION:SRC Veli Jože\, SRC Veli Jože\, Poreč\, Istra\, 52440\, Croatia (Local Name: Hrvatska)
CATEGORIES:Veli Jože
ATTACH;FMTTYPE=image/png:https://szgp.hr/wp-content/uploads/2024/09/RK-Porec.png
END:VEVENT
BEGIN:VEVENT
DTSTART;TZID=Europe/Budapest:20250920T080000
DTEND;TZID=Europe/Budapest:20250920T170000
DTSTAMP:20260420T024011
CREATED:20250702T104530Z
LAST-MODIFIED:20250702T104530Z
UID:26683-1758355200-1758387600@szgp.hr
SUMMARY:STK Jadran 1.Hrvatska liga
DESCRIPTION:
URL:https://szgp.hr/event/stk-jadran-1-hrvatska-liga/
LOCATION:Osnovna škola Finida\, Rovinjska 12\, Poreč\, Istra\, 52440\, Croatia (Local Name: Hrvatska)
CATEGORIES:Finida
ATTACH;FMTTYPE=image/jpeg:https://szgp.hr/wp-content/uploads/2024/02/stk-jadran-porec.jpg
ORGANIZER;CN="Stolno teniski klub Jadran":MAILTO:miroslavzuti@gmail.com
END:VEVENT
BEGIN:VEVENT
DTSTART;TZID=Europe/Budapest:20250914T153000
DTEND;TZID=Europe/Budapest:20250914T213000
DTSTAMP:20260420T024011
CREATED:20250710T131809Z
LAST-MODIFIED:20250909T081632Z
UID:26739-1757863800-1757885400@szgp.hr
SUMMARY:RK POREČ 1.kolo Premierliga RK Poreč - RK Moslavina
DESCRIPTION:
URL:https://szgp.hr/event/rk-porec-1-kolo-premierliga-rk-porec-rk-moslavina/
LOCATION:SRC Veli Jože\, SRC Veli Jože\, Poreč\, Istra\, 52440\, Croatia (Local Name: Hrvatska)
CATEGORIES:Veli Jože
ATTACH;FMTTYPE=image/png:https://szgp.hr/wp-content/uploads/2024/09/RK-Porec.png
END:VEVENT
BEGIN:VEVENT
DTSTART;VALUE=DATE:20250913
DTEND;VALUE=DATE:20250914
DTSTAMP:20260420T024011
CREATED:20250702T060923Z
LAST-MODIFIED:20250702T060923Z
UID:26681-1757721600-1757807999@szgp.hr
SUMMARY:OK POREČ Seminar trenera Istarske županije
DESCRIPTION:
URL:https://szgp.hr/event/ok-porec-seminar-trenera-istarske-zupanije/
LOCATION:Osnovna škola Finida\, Rovinjska 12\, Poreč\, Istra\, 52440\, Croatia (Local Name: Hrvatska)
CATEGORIES:Finida
ATTACH;FMTTYPE=image/jpeg:https://szgp.hr/wp-content/uploads/2025/01/ok-porec-logo-1.jpg
ORGANIZER;CN="Odbojka%C5%A1ki klub Pore%C4%8D":MAILTO:tajnikokporec@gmail.com
END:VEVENT
BEGIN:VEVENT
DTSTART;VALUE=DATE:20250911
DTEND;VALUE=DATE:20250925
DTSTAMP:20260420T024011
CREATED:20240807T103806Z
LAST-MODIFIED:20250901T095749Z
UID:21145-1757548800-1758758399@szgp.hr
SUMMARY:Promoarh
DESCRIPTION:
URL:https://szgp.hr/event/promoarh-2/
LOCATION:Dvorana Žatika\, Dvorana Žatika\, Poreč\, Istra\, 52440\, Croatia (Local Name: Hrvatska)
CATEGORIES:Dvorana Žatika
ATTACH;FMTTYPE=image/png:https://szgp.hr/wp-content/uploads/2024/08/PROMOARH1.png
END:VEVENT
BEGIN:VEVENT
DTSTART;TZID=Europe/Budapest:20250906T110000
DTEND;TZID=Europe/Budapest:20250906T190000
DTSTAMP:20260420T024011
CREATED:20250901T095427Z
LAST-MODIFIED:20250901T095427Z
UID:27035-1757156400-1757185200@szgp.hr
SUMMARY:HRVAČKI KLUB POREČ
DESCRIPTION:
URL:https://szgp.hr/event/hrvacki-klub-porec/
LOCATION:Dvorana Žatika\, Dvorana Žatika\, Poreč\, Istra\, 52440\, Croatia (Local Name: Hrvatska)
CATEGORIES:Dvorana Žatika
ATTACH;FMTTYPE=image/png:https://szgp.hr/wp-content/uploads/2025/02/HK-Porec.png
ORGANIZER;CN="Hrva%C4%8Dki klub Pore%C4%8D":MAILTO:hrvanje.porec@gmail.com
END:VEVENT
BEGIN:VEVENT
DTSTART;TZID=Europe/Budapest:20250826T080000
DTEND;TZID=Europe/Budapest:20250831T170000
DTSTAMP:20260420T024011
CREATED:20250715T123953Z
LAST-MODIFIED:20250811T121737Z
UID:26788-1756195200-1756659600@szgp.hr
SUMMARY:Taekwondo
DESCRIPTION:1/2 dvorane  8\,30 – 11\,30 h i 15\,30 – 18\,30 (ili 16\,00 – 19\,00).  \n  \n 
URL:https://szgp.hr/event/pred-rezervacija-taekwondo/
LOCATION:Dvorana Žatika\, Dvorana Žatika\, Poreč\, Istra\, 52440\, Croatia (Local Name: Hrvatska)
CATEGORIES:Dvorana Žatika
ORGANIZER;CN="Valamar d.d.":MAILTO:nikola.kordic@valamar.com
END:VEVENT
BEGIN:VEVENT
DTSTART;TZID=Europe/Budapest:20250714T080000
DTEND;TZID=Europe/Budapest:20250726T120000
DTSTAMP:20260420T024011
CREATED:20250611T073913Z
LAST-MODIFIED:20250611T073913Z
UID:26460-1752480000-1753531200@szgp.hr
SUMMARY:Ljetni kamp KRSG Poreč
DESCRIPTION:
URL:https://szgp.hr/event/ljetni-kamp-krsg-porec/
LOCATION:Dvorana Žatika\, Dvorana Žatika\, Poreč\, Istra\, 52440\, Croatia (Local Name: Hrvatska)
CATEGORIES:Dvorana Žatika
END:VEVENT
BEGIN:VEVENT
DTSTART;TZID=Europe/Budapest:20250714T080000
DTEND;TZID=Europe/Budapest:20250725T110000
DTSTAMP:20260420T024011
CREATED:20250221T141615Z
LAST-MODIFIED:20250221T141615Z
UID:24249-1752480000-1753441200@szgp.hr
SUMMARY:RK POREČ rukometni kamp
DESCRIPTION:
URL:https://szgp.hr/event/rk-porec-rukometni-kamp/
LOCATION:Dvorana Žatika\, Dvorana Žatika\, Poreč\, Istra\, 52440\, Croatia (Local Name: Hrvatska)
CATEGORIES:Dvorana Žatika
ATTACH;FMTTYPE=image/png:https://szgp.hr/wp-content/uploads/2024/09/RK-Porec.png
END:VEVENT
BEGIN:VEVENT
DTSTART;VALUE=DATE:20250702
DTEND;VALUE=DATE:20250708
DTSTAMP:20260420T024011
CREATED:20240807T103712Z
LAST-MODIFIED:20240807T103712Z
UID:21143-1751414400-1751932799@szgp.hr
SUMMARY:TANGO
DESCRIPTION:
URL:https://szgp.hr/event/tango/
LOCATION:Dvorana Žatika\, Dvorana Žatika\, Poreč\, Istra\, 52440\, Croatia (Local Name: Hrvatska)
CATEGORIES:Dvorana Žatika
END:VEVENT
BEGIN:VEVENT
DTSTART;VALUE=DATE:20250622
DTEND;VALUE=DATE:20250701
DTSTAMP:20260420T024011
CREATED:20250108T134249Z
LAST-MODIFIED:20250108T134326Z
UID:23547-1750550400-1751327999@szgp.hr
SUMMARY:KARATE YOUTH CUP &  KARATE-1 YOUTH LEAGUE.
DESCRIPTION:
URL:https://szgp.hr/event/karate-youth-cup-karate-1-youth-league/
LOCATION:Dvorana Žatika\, Dvorana Žatika\, Poreč\, Istra\, 52440\, Croatia (Local Name: Hrvatska)
CATEGORIES:Dvorana Žatika
ATTACH;FMTTYPE=image/jpeg:https://szgp.hr/wp-content/uploads/2025/01/hks.jpeg
ORGANIZER;CN="Hrvatski karate savez":MAILTO:karate.tajnistvo@karate.hr
END:VEVENT
END:VCALENDAR