BEGIN:VCALENDAR
VERSION:2.0
PRODID:-//SZGP - ECPv6.15.20//NONSGML v1.0//EN
CALSCALE:GREGORIAN
METHOD:PUBLISH
X-WR-CALNAME:SZGP
X-ORIGINAL-URL:https://szgp.hr
X-WR-CALDESC:Događaji za SZGP
REFRESH-INTERVAL;VALUE=DURATION:PT1H
X-Robots-Tag:noindex
X-PUBLISHED-TTL:PT1H
BEGIN:VTIMEZONE
TZID:Europe/Budapest
BEGIN:DAYLIGHT
TZOFFSETFROM:+0100
TZOFFSETTO:+0200
TZNAME:CEST
DTSTART:20240331T010000
END:DAYLIGHT
BEGIN:STANDARD
TZOFFSETFROM:+0200
TZOFFSETTO:+0100
TZNAME:CET
DTSTART:20241027T010000
END:STANDARD
BEGIN:DAYLIGHT
TZOFFSETFROM:+0100
TZOFFSETTO:+0200
TZNAME:CEST
DTSTART:20250330T010000
END:DAYLIGHT
BEGIN:STANDARD
TZOFFSETFROM:+0200
TZOFFSETTO:+0100
TZNAME:CET
DTSTART:20251026T010000
END:STANDARD
BEGIN:DAYLIGHT
TZOFFSETFROM:+0100
TZOFFSETTO:+0200
TZNAME:CEST
DTSTART:20260329T010000
END:DAYLIGHT
BEGIN:STANDARD
TZOFFSETFROM:+0200
TZOFFSETTO:+0100
TZNAME:CET
DTSTART:20261025T010000
END:STANDARD
END:VTIMEZONE
BEGIN:VEVENT
DTSTART;VALUE=DATE:20250601
DTEND;VALUE=DATE:20250605
DTSTAMP:20260421T155841
CREATED:20240807T103301Z
LAST-MODIFIED:20250403T104414Z
UID:21135-1748736000-1749081599@szgp.hr
SUMMARY:HRS -završnica djevojčice U13
DESCRIPTION:
URL:https://szgp.hr/event/hrs-m-u13/
LOCATION:Dvorana Žatika\, Dvorana Žatika\, Poreč\, Istra\, 52440\, Croatia (Local Name: Hrvatska)
CATEGORIES:Dvorana Žatika
ATTACH;FMTTYPE=image/jpeg:https://szgp.hr/wp-content/uploads/2024/08/HRS.jpg
END:VEVENT
BEGIN:VEVENT
DTSTART;VALUE=DATE:20250606
DTEND;VALUE=DATE:20250610
DTSTAMP:20260421T155841
CREATED:20240807T103341Z
LAST-MODIFIED:20250403T104450Z
UID:21137-1749168000-1749513599@szgp.hr
SUMMARY:HRS - završnica djevojčice U11
DESCRIPTION:
URL:https://szgp.hr/event/hrs-z-u13/
LOCATION:Dvorana Žatika\, Dvorana Žatika\, Poreč\, Istra\, 52440\, Croatia (Local Name: Hrvatska)
CATEGORIES:Dvorana Žatika
ATTACH;FMTTYPE=image/jpeg:https://szgp.hr/wp-content/uploads/2024/08/HRS.jpg
END:VEVENT
BEGIN:VEVENT
DTSTART;TZID=Europe/Budapest:20250607T080000
DTEND;TZID=Europe/Budapest:20250607T200000
DTSTAMP:20260421T155841
CREATED:20250103T140444Z
LAST-MODIFIED:20250108T112512Z
UID:23540-1749283200-1749326400@szgp.hr
SUMMARY:Badminton - igre bankara SL
DESCRIPTION:
URL:https://szgp.hr/event/badminton-igre-bankara-sl/
LOCATION:SRC Veli Jože\, SRC Veli Jože\, Poreč\, Istra\, 52440\, Croatia (Local Name: Hrvatska)
CATEGORIES:Veli Jože
END:VEVENT
BEGIN:VEVENT
DTSTART;TZID=Europe/Budapest:20250609T080000
DTEND;TZID=Europe/Budapest:20250609T170000
DTSTAMP:20260421T155841
CREATED:20250516T123009Z
LAST-MODIFIED:20250605T103144Z
UID:25682-1749456000-1749488400@szgp.hr
SUMMARY:USB završna priredba
DESCRIPTION:
URL:https://szgp.hr/event/usb-zavrsna-priredba/
LOCATION:Osnovna škola Finida\, Rovinjska 12\, Poreč\, Istra\, 52440\, Croatia (Local Name: Hrvatska)
CATEGORIES:Finida
END:VEVENT
BEGIN:VEVENT
DTSTART;VALUE=DATE:20250611
DTEND;VALUE=DATE:20250615
DTSTAMP:20260421T155841
CREATED:20240807T103412Z
LAST-MODIFIED:20250403T104655Z
UID:21139-1749600000-1749945599@szgp.hr
SUMMARY:HRS - završnica dječaci U13
DESCRIPTION:
URL:https://szgp.hr/event/hrs-z-u11/
LOCATION:Dvorana Žatika\, Dvorana Žatika\, Poreč\, Istra\, 52440\, Croatia (Local Name: Hrvatska)
CATEGORIES:Dvorana Žatika
ATTACH;FMTTYPE=image/jpeg:https://szgp.hr/wp-content/uploads/2024/08/HRS.jpg
END:VEVENT
BEGIN:VEVENT
DTSTART;TZID=Europe/Budapest:20250613T080000
DTEND;TZID=Europe/Budapest:20250613T130000
DTSTAMP:20260421T155841
CREATED:20250505T124532Z
LAST-MODIFIED:20250505T124532Z
UID:25428-1749801600-1749819600@szgp.hr
SUMMARY:Završna priredba O.Š.Poreč
DESCRIPTION:
URL:https://szgp.hr/event/zavrsna-priredba-o-s-porec/
LOCATION:SRC Veli Jože\, SRC Veli Jože\, Poreč\, Istra\, 52440\, Croatia (Local Name: Hrvatska)
CATEGORIES:Veli Jože
END:VEVENT
BEGIN:VEVENT
DTSTART;VALUE=DATE:20250616
DTEND;VALUE=DATE:20250620
DTSTAMP:20260421T155841
CREATED:20240807T103444Z
LAST-MODIFIED:20250403T104614Z
UID:21141-1750032000-1750377599@szgp.hr
SUMMARY:HRS - završnica dečki U15
DESCRIPTION:
URL:https://szgp.hr/event/hrs-m-u11-2/
LOCATION:Dvorana Žatika\, Dvorana Žatika\, Poreč\, Istra\, 52440\, Croatia (Local Name: Hrvatska)
CATEGORIES:Dvorana Žatika
ATTACH;FMTTYPE=image/jpeg:https://szgp.hr/wp-content/uploads/2024/08/HRS.jpg
END:VEVENT
BEGIN:VEVENT
DTSTART;VALUE=DATE:20250622
DTEND;VALUE=DATE:20250701
DTSTAMP:20260421T155841
CREATED:20250108T134249Z
LAST-MODIFIED:20250108T134326Z
UID:23547-1750550400-1751327999@szgp.hr
SUMMARY:KARATE YOUTH CUP &  KARATE-1 YOUTH LEAGUE.
DESCRIPTION:
URL:https://szgp.hr/event/karate-youth-cup-karate-1-youth-league/
LOCATION:Dvorana Žatika\, Dvorana Žatika\, Poreč\, Istra\, 52440\, Croatia (Local Name: Hrvatska)
CATEGORIES:Dvorana Žatika
ATTACH;FMTTYPE=image/jpeg:https://szgp.hr/wp-content/uploads/2025/01/hks.jpeg
ORGANIZER;CN="Hrvatski karate savez":MAILTO:karate.tajnistvo@karate.hr
END:VEVENT
END:VCALENDAR