BEGIN:VCALENDAR
VERSION:2.0
PRODID:-//SZGP - ECPv6.15.20//NONSGML v1.0//EN
CALSCALE:GREGORIAN
METHOD:PUBLISH
X-WR-CALNAME:SZGP
X-ORIGINAL-URL:https://szgp.hr
X-WR-CALDESC:Događaji za SZGP
REFRESH-INTERVAL;VALUE=DURATION:PT1H
X-Robots-Tag:noindex
X-PUBLISHED-TTL:PT1H
BEGIN:VTIMEZONE
TZID:Europe/Budapest
BEGIN:DAYLIGHT
TZOFFSETFROM:+0100
TZOFFSETTO:+0200
TZNAME:CEST
DTSTART:20230326T010000
END:DAYLIGHT
BEGIN:STANDARD
TZOFFSETFROM:+0200
TZOFFSETTO:+0100
TZNAME:CET
DTSTART:20231029T010000
END:STANDARD
BEGIN:DAYLIGHT
TZOFFSETFROM:+0100
TZOFFSETTO:+0200
TZNAME:CEST
DTSTART:20240331T010000
END:DAYLIGHT
BEGIN:STANDARD
TZOFFSETFROM:+0200
TZOFFSETTO:+0100
TZNAME:CET
DTSTART:20241027T010000
END:STANDARD
BEGIN:DAYLIGHT
TZOFFSETFROM:+0100
TZOFFSETTO:+0200
TZNAME:CEST
DTSTART:20250330T010000
END:DAYLIGHT
BEGIN:STANDARD
TZOFFSETFROM:+0200
TZOFFSETTO:+0100
TZNAME:CET
DTSTART:20251026T010000
END:STANDARD
END:VTIMEZONE
BEGIN:VEVENT
DTSTART;VALUE=DATE:20240912
DTEND;VALUE=DATE:20240926
DTSTAMP:20260422T061008
CREATED:20240624T112925Z
LAST-MODIFIED:20240624T112925Z
UID:20694-1726099200-1727308799@szgp.hr
SUMMARY:PromoArh
DESCRIPTION:
URL:https://szgp.hr/event/promoarh/
LOCATION:Dvorana Žatika\, Dvorana Žatika\, Poreč\, Istra\, 52440\, Croatia (Local Name: Hrvatska)
CATEGORIES:Dvorana Žatika
END:VEVENT
BEGIN:VEVENT
DTSTART;TZID=Europe/Budapest:20240914T130000
DTEND;TZID=Europe/Budapest:20240914T160000
DTSTAMP:20260422T061008
CREATED:20240912T113747Z
LAST-MODIFIED:20240912T113747Z
UID:21655-1726318800-1726329600@szgp.hr
SUMMARY:HEP Hrvatska kuglačka superliga 1. kolo  ŽKK Istra - KK Rijeka
DESCRIPTION:
URL:https://szgp.hr/event/hep-hrvatska-kuglacka-superliga-1-kolo-zkk-istra-kk-rijeka/
LOCATION:Dom obrtnika Poreč\, Udruženje obrtnika Poreč\, Poreč\, Istra\, 52440\, Croatia (Local Name: Hrvatska)
CATEGORIES:Kuglana Obrtnički dom
END:VEVENT
BEGIN:VEVENT
DTSTART;TZID=Europe/Budapest:20240921T150000
DTEND;TZID=Europe/Budapest:20240921T210000
DTSTAMP:20260422T061008
CREATED:20240912T103755Z
LAST-MODIFIED:20240912T103755Z
UID:21613-1726930800-1726952400@szgp.hr
SUMMARY:EHF 1.kolo EUROPSKI CUP  Spor Toto SK (Turska) - RK Poreč
DESCRIPTION:Prva utakmica / početak 18:00 sati 
URL:https://szgp.hr/event/ehf-1-kolo-europski-cup-spor-toto-sk-turska-rk-porec/
LOCATION:Istra
CATEGORIES:Veli Jože
END:VEVENT
BEGIN:VEVENT
DTSTART;TZID=Europe/Budapest:20240922T150000
DTEND;TZID=Europe/Budapest:20240922T210000
DTSTAMP:20260422T061008
CREATED:20240912T103926Z
LAST-MODIFIED:20240912T103926Z
UID:21615-1727017200-1727038800@szgp.hr
SUMMARY:EHF 1.kolo EUROPSKI CUP  RK Poreč - Spor Toto SK (Turska)
DESCRIPTION:Uzvratna utakmica / Početak 18:00 sati
URL:https://szgp.hr/event/ehf-1-kolo-europski-cup-rk-porec-spor-toto-sk-turska/
LOCATION:Istra
CATEGORIES:Veli Jože
END:VEVENT
BEGIN:VEVENT
DTSTART;TZID=Europe/Budapest:20240928T130000
DTEND;TZID=Europe/Budapest:20240928T170000
DTSTAMP:20260422T061008
CREATED:20240926T125032Z
LAST-MODIFIED:20240926T125032Z
UID:21894-1727528400-1727542800@szgp.hr
SUMMARY:HEP Hrvatska kuglačka Superliga -žene ŽKK Istra - Siscia
DESCRIPTION:
URL:https://szgp.hr/event/hep-hrvatska-kuglacka-superliga-zene-zkk-istra-siscia/
LOCATION:Dom obrtnika Poreč\, Udruženje obrtnika Poreč\, Poreč\, Istra\, 52440\, Croatia (Local Name: Hrvatska)
CATEGORIES:Kuglana Obrtnički dom
END:VEVENT
BEGIN:VEVENT
DTSTART;TZID=Europe/Budapest:20240928T170000
DTEND;TZID=Europe/Budapest:20240928T183000
DTSTAMP:20260422T061008
CREATED:20240926T124315Z
LAST-MODIFIED:20240926T124315Z
UID:21891-1727542800-1727548200@szgp.hr
SUMMARY:2.HRL - zapad ŽRK POREČ - ŽRK SAMOBOR
DESCRIPTION:
URL:https://szgp.hr/event/2-hrl-zapad-zrk-porec-zrk-samobor/
LOCATION:SRC Veli Jože\, SRC Veli Jože\, Poreč\, Istra\, 52440\, Croatia (Local Name: Hrvatska)
CATEGORIES:Veli Jože
ORGANIZER;CN="%C5%BDRK PORE%C4%8C":MAILTO:zrk.porec@inet.h
END:VEVENT
END:VCALENDAR