BEGIN:VCALENDAR
VERSION:2.0
PRODID:-//SZGP - ECPv6.15.20//NONSGML v1.0//EN
CALSCALE:GREGORIAN
METHOD:PUBLISH
X-WR-CALNAME:SZGP
X-ORIGINAL-URL:https://szgp.hr
X-WR-CALDESC:Događaji za SZGP
REFRESH-INTERVAL;VALUE=DURATION:PT1H
X-Robots-Tag:noindex
X-PUBLISHED-TTL:PT1H
BEGIN:VTIMEZONE
TZID:Europe/Budapest
BEGIN:DAYLIGHT
TZOFFSETFROM:+0100
TZOFFSETTO:+0200
TZNAME:CEST
DTSTART:20250330T010000
END:DAYLIGHT
BEGIN:STANDARD
TZOFFSETFROM:+0200
TZOFFSETTO:+0100
TZNAME:CET
DTSTART:20251026T010000
END:STANDARD
BEGIN:DAYLIGHT
TZOFFSETFROM:+0100
TZOFFSETTO:+0200
TZNAME:CEST
DTSTART:20260329T010000
END:DAYLIGHT
BEGIN:STANDARD
TZOFFSETFROM:+0200
TZOFFSETTO:+0100
TZNAME:CET
DTSTART:20261025T010000
END:STANDARD
BEGIN:DAYLIGHT
TZOFFSETFROM:+0100
TZOFFSETTO:+0200
TZNAME:CEST
DTSTART:20270328T010000
END:DAYLIGHT
BEGIN:STANDARD
TZOFFSETFROM:+0200
TZOFFSETTO:+0100
TZNAME:CET
DTSTART:20271031T010000
END:STANDARD
END:VTIMEZONE
BEGIN:VEVENT
DTSTART;TZID=Europe/Budapest:20260422T080000
DTEND;TZID=Europe/Budapest:20260426T170000
DTSTAMP:20260425T020242
CREATED:20250611T133518Z
LAST-MODIFIED:20250611T133518Z
UID:26472-1776844800-1777222800@szgp.hr
SUMMARY:HRS U17 djevojke PH
DESCRIPTION:
URL:https://szgp.hr/event/hrs-u17-djevojke-ph/
LOCATION:Dvorana Žatika\, Dvorana Žatika\, Poreč\, Istra\, 52440\, Croatia (Local Name: Hrvatska)
CATEGORIES:Dvorana Žatika
END:VEVENT
BEGIN:VEVENT
DTSTART;TZID=Europe/Budapest:20260425T090000
DTEND;TZID=Europe/Budapest:20260425T123000
DTSTAMP:20260425T020242
CREATED:20260407T110206Z
LAST-MODIFIED:20260407T110206Z
UID:29690-1777107600-1777120200@szgp.hr
SUMMARY:ŽRK Poreč - Gospić i Rab U14 1.Hrl
DESCRIPTION:
URL:https://szgp.hr/event/zrk-porec-gospic-i-rab-u14-1-hrl/
LOCATION:SRC Veli Jože\, SRC Veli Jože\, Poreč\, Istra\, 52440\, Croatia (Local Name: Hrvatska)
CATEGORIES:Veli Jože
ATTACH;FMTTYPE=image/jpeg:https://szgp.hr/wp-content/uploads/2025/01/ZRK-Porec.jpg
ORGANIZER;CN="%C5%BDRK PORE%C4%8C":MAILTO:zrk.porec@inet.h
END:VEVENT
BEGIN:VEVENT
DTSTART;TZID=Europe/Budapest:20260425T100000
DTEND;TZID=Europe/Budapest:20260425T130000
DTSTAMP:20260425T020242
CREATED:20260420T124727Z
LAST-MODIFIED:20260420T124727Z
UID:29876-1777111200-1777122000@szgp.hr
SUMMARY:KK Poreč - Trst\, Pretkadeti
DESCRIPTION:
URL:https://szgp.hr/event/kk-porec-trst-pretkadeti/
LOCATION:Osnovna škola Finida\, Rovinjska 12\, Poreč\, Istra\, 52440\, Croatia (Local Name: Hrvatska)
CATEGORIES:Finida
ATTACH;FMTTYPE=image/jpeg:https://szgp.hr/wp-content/uploads/2025/01/KK-Porec.jpg
ORGANIZER;CN="Ko%C5%A1arka%C5%A1ki klub Pore%C4%8D":MAILTO:kkporec@gmail.com
END:VEVENT
BEGIN:VEVENT
DTSTART;TZID=Europe/Budapest:20260425T123000
DTEND;TZID=Europe/Budapest:20260425T140000
DTSTAMP:20260425T020242
CREATED:20260421T092926Z
LAST-MODIFIED:20260421T092926Z
UID:29880-1777120200-1777125600@szgp.hr
SUMMARY:RK POREČ - RK GRUBIŠNO  U11
DESCRIPTION:
URL:https://szgp.hr/event/rk-porec-rk-grubisno-u11/
LOCATION:SRC Veli Jože\, SRC Veli Jože\, Poreč\, Istra\, 52440\, Croatia (Local Name: Hrvatska)
CATEGORIES:Veli Jože
ATTACH;FMTTYPE=image/png:https://szgp.hr/wp-content/uploads/2024/09/RK-Porec.png
END:VEVENT
BEGIN:VEVENT
DTSTART;TZID=Europe/Budapest:20260425T150000
DTEND;TZID=Europe/Budapest:20260425T200000
DTSTAMP:20260425T020242
CREATED:20260407T110348Z
LAST-MODIFIED:20260407T110348Z
UID:29692-1777129200-1777147200@szgp.hr
SUMMARY:ŽRK Poreč-Senj 2.Hrl
DESCRIPTION:
URL:https://szgp.hr/event/zrk-porec-senj-2-hrl/
LOCATION:SRC Veli Jože\, SRC Veli Jože\, Poreč\, Istra\, 52440\, Croatia (Local Name: Hrvatska)
CATEGORIES:Veli Jože
ATTACH;FMTTYPE=image/jpeg:https://szgp.hr/wp-content/uploads/2025/01/ZRK-Porec.jpg
ORGANIZER;CN="%C5%BDRK PORE%C4%8C":MAILTO:zrk.porec@inet.h
END:VEVENT
END:VCALENDAR