BEGIN:VCALENDAR
VERSION:2.0
PRODID:-//SZGP - ECPv6.15.20//NONSGML v1.0//EN
CALSCALE:GREGORIAN
METHOD:PUBLISH
X-WR-CALNAME:SZGP
X-ORIGINAL-URL:https://szgp.hr
X-WR-CALDESC:Događaji za SZGP
REFRESH-INTERVAL;VALUE=DURATION:PT1H
X-Robots-Tag:noindex
X-PUBLISHED-TTL:PT1H
BEGIN:VTIMEZONE
TZID:Europe/Budapest
BEGIN:DAYLIGHT
TZOFFSETFROM:+0100
TZOFFSETTO:+0200
TZNAME:CEST
DTSTART:20250330T010000
END:DAYLIGHT
BEGIN:STANDARD
TZOFFSETFROM:+0200
TZOFFSETTO:+0100
TZNAME:CET
DTSTART:20251026T010000
END:STANDARD
BEGIN:DAYLIGHT
TZOFFSETFROM:+0100
TZOFFSETTO:+0200
TZNAME:CEST
DTSTART:20260329T010000
END:DAYLIGHT
BEGIN:STANDARD
TZOFFSETFROM:+0200
TZOFFSETTO:+0100
TZNAME:CET
DTSTART:20261025T010000
END:STANDARD
BEGIN:DAYLIGHT
TZOFFSETFROM:+0100
TZOFFSETTO:+0200
TZNAME:CEST
DTSTART:20270328T010000
END:DAYLIGHT
BEGIN:STANDARD
TZOFFSETFROM:+0200
TZOFFSETTO:+0100
TZNAME:CET
DTSTART:20271031T010000
END:STANDARD
END:VTIMEZONE
BEGIN:VEVENT
DTSTART;VALUE=DATE:20260306
DTEND;VALUE=DATE:20260327
DTSTAMP:20260420T210443
CREATED:20240916T091649Z
LAST-MODIFIED:20260209T081026Z
UID:21745-1772755200-1774569599@szgp.hr
SUMMARY:Europsko prvenstvo gluhih FUTSAL
DESCRIPTION:
URL:https://szgp.hr/event/europsko-prvenstvo-gluhih-futsal/
LOCATION:Dvorana Žatika\, Dvorana Žatika\, Poreč\, Istra\, 52440\, Croatia (Local Name: Hrvatska)
CATEGORIES:Dvorana Žatika
ATTACH;FMTTYPE=image/jpeg:https://szgp.hr/wp-content/uploads/2024/09/EP-futsal-26.jpg
ORGANIZER;CN="Hrvatski sportski savez gluhih":MAILTO:hssg@hssg.hr
END:VEVENT
BEGIN:VEVENT
DTSTART;TZID=Europe/Budapest:20260319T073000
DTEND;TZID=Europe/Budapest:20260319T150000
DTSTAMP:20260420T210443
CREATED:20260219T072501Z
LAST-MODIFIED:20260314T082403Z
UID:28972-1773905400-1773932400@szgp.hr
SUMMARY:HŠSS srednje škole završnica futsal
DESCRIPTION:
URL:https://szgp.hr/event/hsss-srednje-skole-zavrsnica-futsal/
LOCATION:Osnovna škola Finida\, Rovinjska 12\, Poreč\, Istra\, 52440\, Croatia (Local Name: Hrvatska)
CATEGORIES:Finida,Veli Jože
ATTACH;FMTTYPE=image/webp:https://szgp.hr/wp-content/uploads/2024/09/HSSS_logotip_primarni_centrirani.webp
END:VEVENT
END:VCALENDAR