BEGIN:VCALENDAR
VERSION:2.0
PRODID:-//SZGP - ECPv6.15.20//NONSGML v1.0//EN
CALSCALE:GREGORIAN
METHOD:PUBLISH
X-WR-CALNAME:SZGP
X-ORIGINAL-URL:https://szgp.hr
X-WR-CALDESC:Događaji za SZGP
REFRESH-INTERVAL;VALUE=DURATION:PT1H
X-Robots-Tag:noindex
X-PUBLISHED-TTL:PT1H
BEGIN:VTIMEZONE
TZID:Europe/Budapest
BEGIN:DAYLIGHT
TZOFFSETFROM:+0100
TZOFFSETTO:+0200
TZNAME:CEST
DTSTART:20250330T010000
END:DAYLIGHT
BEGIN:STANDARD
TZOFFSETFROM:+0200
TZOFFSETTO:+0100
TZNAME:CET
DTSTART:20251026T010000
END:STANDARD
BEGIN:DAYLIGHT
TZOFFSETFROM:+0100
TZOFFSETTO:+0200
TZNAME:CEST
DTSTART:20260329T010000
END:DAYLIGHT
BEGIN:STANDARD
TZOFFSETFROM:+0200
TZOFFSETTO:+0100
TZNAME:CET
DTSTART:20261025T010000
END:STANDARD
BEGIN:DAYLIGHT
TZOFFSETFROM:+0100
TZOFFSETTO:+0200
TZNAME:CEST
DTSTART:20270328T010000
END:DAYLIGHT
BEGIN:STANDARD
TZOFFSETFROM:+0200
TZOFFSETTO:+0100
TZNAME:CET
DTSTART:20271031T010000
END:STANDARD
END:VTIMEZONE
BEGIN:VEVENT
DTSTART;VALUE=DATE:20260306
DTEND;VALUE=DATE:20260327
DTSTAMP:20260420T210441
CREATED:20240916T091649Z
LAST-MODIFIED:20260209T081026Z
UID:21745-1772755200-1774569599@szgp.hr
SUMMARY:Europsko prvenstvo gluhih FUTSAL
DESCRIPTION:
URL:https://szgp.hr/event/europsko-prvenstvo-gluhih-futsal/
LOCATION:Dvorana Žatika\, Dvorana Žatika\, Poreč\, Istra\, 52440\, Croatia (Local Name: Hrvatska)
CATEGORIES:Dvorana Žatika
ATTACH;FMTTYPE=image/jpeg:https://szgp.hr/wp-content/uploads/2024/09/EP-futsal-26.jpg
ORGANIZER;CN="Hrvatski sportski savez gluhih":MAILTO:hssg@hssg.hr
END:VEVENT
BEGIN:VEVENT
DTSTART;TZID=Europe/Budapest:20260315T080000
DTEND;TZID=Europe/Budapest:20260315T150000
DTSTAMP:20260420T210441
CREATED:20260225T072157Z
LAST-MODIFIED:20260225T072157Z
UID:29071-1773561600-1773586800@szgp.hr
SUMMARY:EP trening futsal
DESCRIPTION:
URL:https://szgp.hr/event/ep-trening-futsal-2/
LOCATION:SRC Veli Jože\, SRC Veli Jože\, Poreč\, Istra\, 52440\, Croatia (Local Name: Hrvatska)
CATEGORIES:Veli Jože
ORGANIZER;CN="Hrvatski sportski savez gluhih":MAILTO:hssg@hssg.hr
END:VEVENT
BEGIN:VEVENT
DTSTART;TZID=Europe/Budapest:20260315T083000
DTEND;TZID=Europe/Budapest:20260315T143000
DTSTAMP:20260420T210441
CREATED:20260303T140344Z
LAST-MODIFIED:20260303T140344Z
UID:29144-1773563400-1773585000@szgp.hr
SUMMARY:RK Poreč U11 1.HRL
DESCRIPTION:
URL:https://szgp.hr/event/rk-porec-u11-1-hrl/
LOCATION:Osnovna škola Finida\, Rovinjska 12\, Poreč\, Istra\, 52440\, Croatia (Local Name: Hrvatska)
CATEGORIES:Finida
ATTACH;FMTTYPE=image/png:https://szgp.hr/wp-content/uploads/2024/09/RK-Porec.png
END:VEVENT
BEGIN:VEVENT
DTSTART;TZID=Europe/Budapest:20260315T143000
DTEND;TZID=Europe/Budapest:20260315T170000
DTSTAMP:20260420T210441
CREATED:20260310T092510Z
LAST-MODIFIED:20260310T092510Z
UID:29237-1773585000-1773594000@szgp.hr
SUMMARY:KK Poreč - KK Pula 1981 ŽL
DESCRIPTION:
URL:https://szgp.hr/event/kk-porec-kk-pula-1981-zl/
LOCATION:Osnovna škola Finida\, Rovinjska 12\, Poreč\, Istra\, 52440\, Croatia (Local Name: Hrvatska)
CATEGORIES:Finida
ATTACH;FMTTYPE=image/jpeg:https://szgp.hr/wp-content/uploads/2025/01/KK-Porec.jpg
ORGANIZER;CN="Ko%C5%A1arka%C5%A1ki klub Pore%C4%8D":MAILTO:kkporec@gmail.com
END:VEVENT
BEGIN:VEVENT
DTSTART;TZID=Europe/Budapest:20260315T160000
DTEND;TZID=Europe/Budapest:20260315T200000
DTSTAMP:20260420T210441
CREATED:20260303T123137Z
LAST-MODIFIED:20260303T123923Z
UID:29137-1773590400-1773604800@szgp.hr
SUMMARY:ŽRK Poreč U14 1.HRL Zamet / Murvice
DESCRIPTION:
URL:https://szgp.hr/event/zrk-porec-u14-1-hrl-zamet-murvice/
LOCATION:SRC Veli Jože\, SRC Veli Jože\, Poreč\, Istra\, 52440\, Croatia (Local Name: Hrvatska)
CATEGORIES:Veli Jože
ATTACH;FMTTYPE=image/jpeg:https://szgp.hr/wp-content/uploads/2025/01/ZRK-Porec.jpg
ORGANIZER;CN="%C5%BDRK PORE%C4%8C":MAILTO:zrk.porec@inet.h
END:VEVENT
BEGIN:VEVENT
DTSTART;TZID=Europe/Budapest:20260315T170000
DTEND;TZID=Europe/Budapest:20260315T200000
DTSTAMP:20260420T210441
CREATED:20260310T091614Z
LAST-MODIFIED:20260310T091614Z
UID:29235-1773594000-1773604800@szgp.hr
SUMMARY:KK Adria - KK Kvarner 2.A HKL zapad
DESCRIPTION:
URL:https://szgp.hr/event/kk-adria-kk-kvarner-2-a-hkl-zapad/
LOCATION:Osnovna škola Finida\, Rovinjska 12\, Poreč\, Istra\, 52440\, Croatia (Local Name: Hrvatska)
CATEGORIES:Finida
ATTACH;FMTTYPE=image/png:https://szgp.hr/wp-content/uploads/2025/01/KK-Adria.png
END:VEVENT
END:VCALENDAR