BEGIN:VCALENDAR
VERSION:2.0
PRODID:-//SZGP - ECPv6.15.20//NONSGML v1.0//EN
CALSCALE:GREGORIAN
METHOD:PUBLISH
X-ORIGINAL-URL:https://szgp.hr
X-WR-CALDESC:Događaji za SZGP
REFRESH-INTERVAL;VALUE=DURATION:PT1H
X-Robots-Tag:noindex
X-PUBLISHED-TTL:PT1H
BEGIN:VTIMEZONE
TZID:Europe/Budapest
BEGIN:DAYLIGHT
TZOFFSETFROM:+0100
TZOFFSETTO:+0200
TZNAME:CEST
DTSTART:20250330T010000
END:DAYLIGHT
BEGIN:STANDARD
TZOFFSETFROM:+0200
TZOFFSETTO:+0100
TZNAME:CET
DTSTART:20251026T010000
END:STANDARD
BEGIN:DAYLIGHT
TZOFFSETFROM:+0100
TZOFFSETTO:+0200
TZNAME:CEST
DTSTART:20260329T010000
END:DAYLIGHT
BEGIN:STANDARD
TZOFFSETFROM:+0200
TZOFFSETTO:+0100
TZNAME:CET
DTSTART:20261025T010000
END:STANDARD
BEGIN:DAYLIGHT
TZOFFSETFROM:+0100
TZOFFSETTO:+0200
TZNAME:CEST
DTSTART:20270328T010000
END:DAYLIGHT
BEGIN:STANDARD
TZOFFSETFROM:+0200
TZOFFSETTO:+0100
TZNAME:CET
DTSTART:20271031T010000
END:STANDARD
END:VTIMEZONE
BEGIN:VEVENT
DTSTART;VALUE=DATE:20260220
DTEND;VALUE=DATE:20260223
DTSTAMP:20260420T224648
CREATED:20250326T114433Z
LAST-MODIFIED:20250328T082322Z
UID:24720-1771545600-1771804799@szgp.hr
SUMMARY:HNS - Veteransko PH futsal
DESCRIPTION:
URL:https://szgp.hr/event/hns-veteransko-ph-futsal/
LOCATION:Dvorana Žatika\, Dvorana Žatika\, Poreč\, Istra\, 52440\, Croatia (Local Name: Hrvatska)
CATEGORIES:Dvorana Žatika
ATTACH;FMTTYPE=image/jpeg:https://szgp.hr/wp-content/uploads/2024/07/HNS.jpg
END:VEVENT
BEGIN:VEVENT
DTSTART;TZID=Europe/Budapest:20260221T083000
DTEND;TZID=Europe/Budapest:20260221T123000
DTSTAMP:20260420T224648
CREATED:20260211T064700Z
LAST-MODIFIED:20260211T064700Z
UID:28839-1771662600-1771677000@szgp.hr
SUMMARY:OK Poreč Ml. kadetkinje Žl
DESCRIPTION:
URL:https://szgp.hr/event/ok-porec-ml-kadetkinje-zl-2/
LOCATION:Osnovna škola Finida\, Rovinjska 12\, Poreč\, Istra\, 52440\, Croatia (Local Name: Hrvatska)
CATEGORIES:Finida
ATTACH;FMTTYPE=image/jpeg:https://szgp.hr/wp-content/uploads/2025/01/ok-porec-logo-1.jpg
ORGANIZER;CN="Odbojka%C5%A1ki klub Pore%C4%8D":MAILTO:tajnikokporec@gmail.com
END:VEVENT
BEGIN:VEVENT
DTSTART;TZID=Europe/Budapest:20260221T140000
DTEND;TZID=Europe/Budapest:20260221T190000
DTSTAMP:20260420T224648
CREATED:20260217T082124Z
LAST-MODIFIED:20260217T082124Z
UID:28907-1771682400-1771700400@szgp.hr
SUMMARY:NSIŽ U11 Zimska liga
DESCRIPTION:
URL:https://szgp.hr/event/nsiz-u11-zimska-liga/
LOCATION:Osnovna škola Finida\, Rovinjska 12\, Poreč\, Istra\, 52440\, Croatia (Local Name: Hrvatska)
CATEGORIES:Finida
ATTACH;FMTTYPE=image/webp:https://szgp.hr/wp-content/uploads/2026/02/grb-NSZI.webp
ORGANIZER;CN="Nogometni savez Istarske %C5%BEupanije":MAILTO:nogometni.savez.zupanije.istarske@pu.t-com.hr
END:VEVENT
BEGIN:VEVENT
DTSTART;TZID=Europe/Budapest:20260221T143000
DTEND;TZID=Europe/Budapest:20260221T183000
DTSTAMP:20260420T224648
CREATED:20260202T074352Z
LAST-MODIFIED:20260219T113708Z
UID:28757-1771684200-1771698600@szgp.hr
SUMMARY:ŽRK Poreč - RK Lokomotiva 2 2.HRL
DESCRIPTION:Početak utakmice u 16:00 sati \n 
URL:https://szgp.hr/event/zrk-porec-rk-lokomotiva-2-2-hrl/
LOCATION:SRC Veli Jože\, SRC Veli Jože\, Poreč\, Istra\, 52440\, Croatia (Local Name: Hrvatska)
CATEGORIES:Veli Jože
ATTACH;FMTTYPE=image/jpeg:https://szgp.hr/wp-content/uploads/2025/01/ZRK-Porec.jpg
ORGANIZER;CN="%C5%BDRK PORE%C4%8C":MAILTO:zrk.porec@inet.h
END:VEVENT
END:VCALENDAR