BEGIN:VCALENDAR
VERSION:2.0
PRODID:-//SZGP - ECPv6.15.20//NONSGML v1.0//EN
CALSCALE:GREGORIAN
METHOD:PUBLISH
X-WR-CALNAME:SZGP
X-ORIGINAL-URL:https://szgp.hr
X-WR-CALDESC:Događaji za SZGP
REFRESH-INTERVAL;VALUE=DURATION:PT1H
X-Robots-Tag:noindex
X-PUBLISHED-TTL:PT1H
BEGIN:VTIMEZONE
TZID:Europe/Budapest
BEGIN:DAYLIGHT
TZOFFSETFROM:+0100
TZOFFSETTO:+0200
TZNAME:CEST
DTSTART:20250330T010000
END:DAYLIGHT
BEGIN:STANDARD
TZOFFSETFROM:+0200
TZOFFSETTO:+0100
TZNAME:CET
DTSTART:20251026T010000
END:STANDARD
BEGIN:DAYLIGHT
TZOFFSETFROM:+0100
TZOFFSETTO:+0200
TZNAME:CEST
DTSTART:20260329T010000
END:DAYLIGHT
BEGIN:STANDARD
TZOFFSETFROM:+0200
TZOFFSETTO:+0100
TZNAME:CET
DTSTART:20261025T010000
END:STANDARD
BEGIN:DAYLIGHT
TZOFFSETFROM:+0100
TZOFFSETTO:+0200
TZNAME:CEST
DTSTART:20270328T010000
END:DAYLIGHT
BEGIN:STANDARD
TZOFFSETFROM:+0200
TZOFFSETTO:+0100
TZNAME:CET
DTSTART:20271031T010000
END:STANDARD
END:VTIMEZONE
BEGIN:VEVENT
DTSTART;VALUE=DATE:20260203
DTEND;VALUE=DATE:20260219
DTSTAMP:20260420T223534
CREATED:20250326T100820Z
LAST-MODIFIED:20250326T100820Z
UID:24706-1770076800-1771459199@szgp.hr
SUMMARY:PROMOHOTEL sajam
DESCRIPTION:  \n 
URL:https://szgp.hr/event/promohotel-sajam/
LOCATION:Dvorana Žatika\, Dvorana Žatika\, Poreč\, Istra\, 52440\, Croatia (Local Name: Hrvatska)
CATEGORIES:Dvorana Žatika
ATTACH;FMTTYPE=image/jpeg:https://szgp.hr/wp-content/uploads/2025/03/promohotel_web.jpg
ORGANIZER;CN="Studio 053":MAILTO:ivana@promohotel.hr
END:VEVENT
BEGIN:VEVENT
DTSTART;TZID=Europe/Budapest:20260215T090000
DTEND;TZID=Europe/Budapest:20260215T123000
DTSTAMP:20260420T223534
CREATED:20260202T074207Z
LAST-MODIFIED:20260212T083220Z
UID:28755-1771146000-1771158600@szgp.hr
SUMMARY:ŽRK Poreč U14 1.HRL RK Buzet-ŽRK Rudar
DESCRIPTION:
URL:https://szgp.hr/event/zrk-porec-u14-1-hrl-rk-buzet-zrk-rudar/
LOCATION:SRC Veli Jože\, SRC Veli Jože\, Poreč\, Istra\, 52440\, Croatia (Local Name: Hrvatska)
CATEGORIES:Veli Jože
ATTACH;FMTTYPE=image/jpeg:https://szgp.hr/wp-content/uploads/2025/01/ZRK-Porec.jpg
ORGANIZER;CN="%C5%BDRK PORE%C4%8C":MAILTO:zrk.porec@inet.h
END:VEVENT
BEGIN:VEVENT
DTSTART;TZID=Europe/Budapest:20260215T090000
DTEND;TZID=Europe/Budapest:20260215T160000
DTSTAMP:20260420T223534
CREATED:20260109T103456Z
LAST-MODIFIED:20260109T103456Z
UID:28602-1771146000-1771171200@szgp.hr
SUMMARY:KK FINIDA  Županijsko prvenstvo
DESCRIPTION:
URL:https://szgp.hr/event/kk-finida-zupanijsko-prvenstvo/
LOCATION:Osnovna škola Finida\, Rovinjska 12\, Poreč\, Istra\, 52440\, Croatia (Local Name: Hrvatska)
CATEGORIES:Finida
ATTACH;FMTTYPE=image/png:https://szgp.hr/wp-content/uploads/2024/11/KK-FINIDA.png
ORGANIZER;CN="KK Finida":MAILTO:kkfinida@yahoo.com
END:VEVENT
BEGIN:VEVENT
DTSTART;TZID=Europe/Budapest:20260215T160000
DTEND;TZID=Europe/Budapest:20260215T210000
DTSTAMP:20260420T223534
CREATED:20251216T071839Z
LAST-MODIFIED:20251216T071839Z
UID:28315-1771171200-1771189200@szgp.hr
SUMMARY:RK POREČ 2- RK SPLIT 1.HRL
DESCRIPTION:
URL:https://szgp.hr/event/rk-porec-2-rk-split-1-hrl/
LOCATION:SRC Veli Jože\, SRC Veli Jože\, Poreč\, Istra\, 52440\, Croatia (Local Name: Hrvatska)
CATEGORIES:Veli Jože
ATTACH;FMTTYPE=image/png:https://szgp.hr/wp-content/uploads/2024/09/RK-Porec.png
END:VEVENT
END:VCALENDAR