BEGIN:VCALENDAR
VERSION:2.0
PRODID:-//SZGP - ECPv6.15.20//NONSGML v1.0//EN
CALSCALE:GREGORIAN
METHOD:PUBLISH
X-ORIGINAL-URL:https://szgp.hr
X-WR-CALDESC:Događaji za SZGP
REFRESH-INTERVAL;VALUE=DURATION:PT1H
X-Robots-Tag:noindex
X-PUBLISHED-TTL:PT1H
BEGIN:VTIMEZONE
TZID:Europe/Budapest
BEGIN:DAYLIGHT
TZOFFSETFROM:+0100
TZOFFSETTO:+0200
TZNAME:CEST
DTSTART:20240331T010000
END:DAYLIGHT
BEGIN:STANDARD
TZOFFSETFROM:+0200
TZOFFSETTO:+0100
TZNAME:CET
DTSTART:20241027T010000
END:STANDARD
BEGIN:DAYLIGHT
TZOFFSETFROM:+0100
TZOFFSETTO:+0200
TZNAME:CEST
DTSTART:20250330T010000
END:DAYLIGHT
BEGIN:STANDARD
TZOFFSETFROM:+0200
TZOFFSETTO:+0100
TZNAME:CET
DTSTART:20251026T010000
END:STANDARD
BEGIN:DAYLIGHT
TZOFFSETFROM:+0100
TZOFFSETTO:+0200
TZNAME:CEST
DTSTART:20260329T010000
END:DAYLIGHT
BEGIN:STANDARD
TZOFFSETFROM:+0200
TZOFFSETTO:+0100
TZNAME:CET
DTSTART:20261025T010000
END:STANDARD
END:VTIMEZONE
BEGIN:VEVENT
DTSTART;TZID=Europe/Budapest:20251213T080000
DTEND;TZID=Europe/Budapest:20251214T140000
DTSTAMP:20260421T015755
CREATED:20251121T103944Z
LAST-MODIFIED:20251121T103944Z
UID:27999-1765612800-1765720800@szgp.hr
SUMMARY:NK JADRAN Božićni turnir
DESCRIPTION:
URL:https://szgp.hr/event/nk-jadran-bozicni-turnir-2/
LOCATION:Osnovna škola Finida\, Rovinjska 12\, Poreč\, Istra\, 52440\, Croatia (Local Name: Hrvatska)
CATEGORIES:Finida
ATTACH;FMTTYPE=image/png:https://szgp.hr/wp-content/uploads/2025/11/nk-jadran.png
END:VEVENT
BEGIN:VEVENT
DTSTART;TZID=Europe/Budapest:20251213T080000
DTEND;TZID=Europe/Budapest:20251214T170000
DTSTAMP:20260421T015755
CREATED:20241216T085040Z
LAST-MODIFIED:20241216T085040Z
UID:23336-1765612800-1765731600@szgp.hr
SUMMARY:NK JADRAN Božićni turnir
DESCRIPTION:
URL:https://szgp.hr/event/nk-jadran-bozicni-turnir/
LOCATION:Dvorana Žatika\, Dvorana Žatika\, Poreč\, Istra\, 52440\, Croatia (Local Name: Hrvatska)
CATEGORIES:Dvorana Žatika
END:VEVENT
BEGIN:VEVENT
DTSTART;TZID=Europe/Budapest:20251214T090000
DTEND;TZID=Europe/Budapest:20251214T140000
DTSTAMP:20260421T015755
CREATED:20251204T082247Z
LAST-MODIFIED:20251204T082247Z
UID:28188-1765702800-1765720800@szgp.hr
SUMMARY:ŽRK Poreč U12
DESCRIPTION:
URL:https://szgp.hr/event/zrk-porec-u12/
LOCATION:SRC Veli Jože\, SRC Veli Jože\, Poreč\, Istra\, 52440\, Croatia (Local Name: Hrvatska)
CATEGORIES:Veli Jože
ORGANIZER;CN="%C5%BDRK PORE%C4%8C":MAILTO:zrk.porec@inet.h
END:VEVENT
BEGIN:VEVENT
DTSTART;TZID=Europe/Budapest:20251214T130000
DTEND;TZID=Europe/Budapest:20251214T160000
DTSTAMP:20260421T015755
CREATED:20251210T103820Z
LAST-MODIFIED:20251210T103820Z
UID:28236-1765717200-1765728000@szgp.hr
SUMMARY:KK POREČ ŽL predkadeti KK Umag
DESCRIPTION:
URL:https://szgp.hr/event/kk-porec-zl-predkadeti-kk-umag/
LOCATION:Osnovna škola Finida\, Rovinjska 12\, Poreč\, Istra\, 52440\, Croatia (Local Name: Hrvatska)
CATEGORIES:Finida
ATTACH;FMTTYPE=image/jpeg:https://szgp.hr/wp-content/uploads/2025/01/KK-Porec.jpg
ORGANIZER;CN="Ko%C5%A1arka%C5%A1ki klub Pore%C4%8D":MAILTO:kkporec@gmail.com
END:VEVENT
BEGIN:VEVENT
DTSTART;TZID=Europe/Budapest:20251214T150000
DTEND;TZID=Europe/Budapest:20251214T200000
DTSTAMP:20260421T015755
CREATED:20250710T134636Z
LAST-MODIFIED:20250710T134636Z
UID:26763-1765724400-1765742400@szgp.hr
SUMMARY:RK POREČ 1.HRL Jug RK POREČ 2 - RK Ardiaei
DESCRIPTION:
URL:https://szgp.hr/event/rk-porec-1-hrl-jug-rk-porec-2-rk-ardiaei/
LOCATION:SRC Veli Jože\, SRC Veli Jože\, Poreč\, Istra\, 52440\, Croatia (Local Name: Hrvatska)
CATEGORIES:Veli Jože
ATTACH;FMTTYPE=image/png:https://szgp.hr/wp-content/uploads/2024/09/RK-Porec.png
END:VEVENT
BEGIN:VEVENT
DTSTART;TZID=Europe/Budapest:20251214T190000
DTEND;TZID=Europe/Budapest:20251214T210000
DTSTAMP:20260421T015755
CREATED:20251209T082103Z
LAST-MODIFIED:20251209T082103Z
UID:28209-1765738800-1765746000@szgp.hr
SUMMARY:ŽRK POREČ - ŽRK BUZET 2.HRL
DESCRIPTION:
URL:https://szgp.hr/event/zrk-porec-zrk-buzet-2-hrl/
LOCATION:SRC Veli Jože\, SRC Veli Jože\, Poreč\, Istra\, 52440\, Croatia (Local Name: Hrvatska)
CATEGORIES:Veli Jože
ATTACH;FMTTYPE=image/jpeg:https://szgp.hr/wp-content/uploads/2025/01/ZRK-Porec.jpg
ORGANIZER;CN="%C5%BDRK PORE%C4%8C":MAILTO:zrk.porec@inet.h
END:VEVENT
END:VCALENDAR