BEGIN:VCALENDAR
VERSION:2.0
PRODID:-//SZGP - ECPv6.15.20//NONSGML v1.0//EN
CALSCALE:GREGORIAN
METHOD:PUBLISH
X-WR-CALNAME:SZGP
X-ORIGINAL-URL:https://szgp.hr
X-WR-CALDESC:Događaji za SZGP
REFRESH-INTERVAL;VALUE=DURATION:PT1H
X-Robots-Tag:noindex
X-PUBLISHED-TTL:PT1H
BEGIN:VTIMEZONE
TZID:Europe/Budapest
BEGIN:DAYLIGHT
TZOFFSETFROM:+0100
TZOFFSETTO:+0200
TZNAME:CEST
DTSTART:20240331T010000
END:DAYLIGHT
BEGIN:STANDARD
TZOFFSETFROM:+0200
TZOFFSETTO:+0100
TZNAME:CET
DTSTART:20241027T010000
END:STANDARD
BEGIN:DAYLIGHT
TZOFFSETFROM:+0100
TZOFFSETTO:+0200
TZNAME:CEST
DTSTART:20250330T010000
END:DAYLIGHT
BEGIN:STANDARD
TZOFFSETFROM:+0200
TZOFFSETTO:+0100
TZNAME:CET
DTSTART:20251026T010000
END:STANDARD
BEGIN:DAYLIGHT
TZOFFSETFROM:+0100
TZOFFSETTO:+0200
TZNAME:CEST
DTSTART:20260329T010000
END:DAYLIGHT
BEGIN:STANDARD
TZOFFSETFROM:+0200
TZOFFSETTO:+0100
TZNAME:CET
DTSTART:20261025T010000
END:STANDARD
END:VTIMEZONE
BEGIN:VEVENT
DTSTART;TZID=Europe/Budapest:20251213T080000
DTEND;TZID=Europe/Budapest:20251214T140000
DTSTAMP:20260421T033824
CREATED:20251121T103944Z
LAST-MODIFIED:20251121T103944Z
UID:27999-1765612800-1765720800@szgp.hr
SUMMARY:NK JADRAN Božićni turnir
DESCRIPTION:
URL:https://szgp.hr/event/nk-jadran-bozicni-turnir-2/
LOCATION:Osnovna škola Finida\, Rovinjska 12\, Poreč\, Istra\, 52440\, Croatia (Local Name: Hrvatska)
CATEGORIES:Finida
ATTACH;FMTTYPE=image/png:https://szgp.hr/wp-content/uploads/2025/11/nk-jadran.png
END:VEVENT
BEGIN:VEVENT
DTSTART;TZID=Europe/Budapest:20251213T080000
DTEND;TZID=Europe/Budapest:20251214T170000
DTSTAMP:20260421T033824
CREATED:20241216T085040Z
LAST-MODIFIED:20241216T085040Z
UID:23336-1765612800-1765731600@szgp.hr
SUMMARY:NK JADRAN Božićni turnir
DESCRIPTION:
URL:https://szgp.hr/event/nk-jadran-bozicni-turnir/
LOCATION:Dvorana Žatika\, Dvorana Žatika\, Poreč\, Istra\, 52440\, Croatia (Local Name: Hrvatska)
CATEGORIES:Dvorana Žatika
END:VEVENT
BEGIN:VEVENT
DTSTART;TZID=Europe/Budapest:20251213T130000
DTEND;TZID=Europe/Budapest:20251213T160000
DTSTAMP:20260421T033824
CREATED:20251210T103635Z
LAST-MODIFIED:20251210T103635Z
UID:28234-1765630800-1765641600@szgp.hr
SUMMARY:KK POREČ ŽL dječaci - Oliva Vodnjan
DESCRIPTION:
URL:https://szgp.hr/event/kk-porec-zl-djecaci-oliva-vodnjan/
LOCATION:Osnovna škola Finida\, Rovinjska 12\, Poreč\, Istra\, 52440\, Croatia (Local Name: Hrvatska)
CATEGORIES:Finida
ATTACH;FMTTYPE=image/jpeg:https://szgp.hr/wp-content/uploads/2025/01/KK-Porec.jpg
ORGANIZER;CN="Ko%C5%A1arka%C5%A1ki klub Pore%C4%8D":MAILTO:kkporec@gmail.com
END:VEVENT
BEGIN:VEVENT
DTSTART;TZID=Europe/Budapest:20251213T153000
DTEND;TZID=Europe/Budapest:20251213T210000
DTSTAMP:20260421T033824
CREATED:20250710T133402Z
LAST-MODIFIED:20251208T081311Z
UID:26752-1765639800-1765659600@szgp.hr
SUMMARY:RK POREČ 14.kolo Premierliga RK Poreč - RK Zamet
DESCRIPTION:
URL:https://szgp.hr/event/rk-porec-14-kolo-premierliga-rk-porec-rk-zamet/
LOCATION:SRC Veli Jože\, SRC Veli Jože\, Poreč\, Istra\, 52440\, Croatia (Local Name: Hrvatska)
CATEGORIES:Veli Jože
ATTACH;FMTTYPE=image/png:https://szgp.hr/wp-content/uploads/2024/09/RK-Porec.png
END:VEVENT
END:VCALENDAR