BEGIN:VCALENDAR
VERSION:2.0
PRODID:-//SZGP - ECPv6.15.20//NONSGML v1.0//EN
CALSCALE:GREGORIAN
METHOD:PUBLISH
X-WR-CALNAME:SZGP
X-ORIGINAL-URL:https://szgp.hr
X-WR-CALDESC:Događaji za SZGP
REFRESH-INTERVAL;VALUE=DURATION:PT1H
X-Robots-Tag:noindex
X-PUBLISHED-TTL:PT1H
BEGIN:VTIMEZONE
TZID:Europe/Budapest
BEGIN:DAYLIGHT
TZOFFSETFROM:+0100
TZOFFSETTO:+0200
TZNAME:CEST
DTSTART:20240331T010000
END:DAYLIGHT
BEGIN:STANDARD
TZOFFSETFROM:+0200
TZOFFSETTO:+0100
TZNAME:CET
DTSTART:20241027T010000
END:STANDARD
BEGIN:DAYLIGHT
TZOFFSETFROM:+0100
TZOFFSETTO:+0200
TZNAME:CEST
DTSTART:20250330T010000
END:DAYLIGHT
BEGIN:STANDARD
TZOFFSETFROM:+0200
TZOFFSETTO:+0100
TZNAME:CET
DTSTART:20251026T010000
END:STANDARD
BEGIN:DAYLIGHT
TZOFFSETFROM:+0100
TZOFFSETTO:+0200
TZNAME:CEST
DTSTART:20260329T010000
END:DAYLIGHT
BEGIN:STANDARD
TZOFFSETFROM:+0200
TZOFFSETTO:+0100
TZNAME:CET
DTSTART:20261025T010000
END:STANDARD
END:VTIMEZONE
BEGIN:VEVENT
DTSTART;VALUE=DATE:20251113
DTEND;VALUE=DATE:20251127
DTSTAMP:20260421T033832
CREATED:20240807T104237Z
LAST-MODIFIED:20240807T104237Z
UID:21157-1762992000-1764201599@szgp.hr
SUMMARY:Crofish
DESCRIPTION:
URL:https://szgp.hr/event/crofish-2/
LOCATION:Dvorana Žatika\, Dvorana Žatika\, Poreč\, Istra\, 52440\, Croatia (Local Name: Hrvatska)
CATEGORIES:Dvorana Žatika
END:VEVENT
BEGIN:VEVENT
DTSTART;TZID=Europe/Budapest:20251121T160000
DTEND;TZID=Europe/Budapest:20251121T203000
DTSTAMP:20260421T033832
CREATED:20250710T133208Z
LAST-MODIFIED:20251114T111928Z
UID:26750-1763740800-1763757000@szgp.hr
SUMMARY:RK POREČ 11.kolo Premierliga RK Poreč - RK Sesvete
DESCRIPTION:
URL:https://szgp.hr/event/rk-porec-11-kolo-premierliga-rk-porec-rk-sesvete/
LOCATION:SRC Veli Jože\, SRC Veli Jože\, Poreč\, Istra\, 52440\, Croatia (Local Name: Hrvatska)
CATEGORIES:Veli Jože
ATTACH;FMTTYPE=image/png:https://szgp.hr/wp-content/uploads/2024/09/RK-Porec.png
END:VEVENT
BEGIN:VEVENT
DTSTART;TZID=Europe/Budapest:20251121T190000
DTEND;TZID=Europe/Budapest:20251121T220000
DTSTAMP:20260421T033832
CREATED:20251103T130754Z
LAST-MODIFIED:20251116T202257Z
UID:27802-1763751600-1763762400@szgp.hr
SUMMARY:OK Poreč - OK Pula2 1B.HOL
DESCRIPTION:
URL:https://szgp.hr/event/ok-porec-ok-pula2-1b-hol/
LOCATION:Osnovna škola Finida\, Rovinjska 12\, Poreč\, Istra\, 52440\, Croatia (Local Name: Hrvatska)
CATEGORIES:Finida
ATTACH;FMTTYPE=image/jpeg:https://szgp.hr/wp-content/uploads/2025/01/ok-porec-logo-1.jpg
ORGANIZER;CN="Odbojka%C5%A1ki klub Pore%C4%8D":MAILTO:tajnikokporec@gmail.com
END:VEVENT
END:VCALENDAR