BEGIN:VCALENDAR
VERSION:2.0
PRODID:-//SZGP - ECPv6.15.20//NONSGML v1.0//EN
CALSCALE:GREGORIAN
METHOD:PUBLISH
X-WR-CALNAME:SZGP
X-ORIGINAL-URL:https://szgp.hr
X-WR-CALDESC:Događaji za SZGP
REFRESH-INTERVAL;VALUE=DURATION:PT1H
X-Robots-Tag:noindex
X-PUBLISHED-TTL:PT1H
BEGIN:VTIMEZONE
TZID:Europe/Budapest
BEGIN:DAYLIGHT
TZOFFSETFROM:+0100
TZOFFSETTO:+0200
TZNAME:CEST
DTSTART:20240331T010000
END:DAYLIGHT
BEGIN:STANDARD
TZOFFSETFROM:+0200
TZOFFSETTO:+0100
TZNAME:CET
DTSTART:20241027T010000
END:STANDARD
BEGIN:DAYLIGHT
TZOFFSETFROM:+0100
TZOFFSETTO:+0200
TZNAME:CEST
DTSTART:20250330T010000
END:DAYLIGHT
BEGIN:STANDARD
TZOFFSETFROM:+0200
TZOFFSETTO:+0100
TZNAME:CET
DTSTART:20251026T010000
END:STANDARD
BEGIN:DAYLIGHT
TZOFFSETFROM:+0100
TZOFFSETTO:+0200
TZNAME:CEST
DTSTART:20260329T010000
END:DAYLIGHT
BEGIN:STANDARD
TZOFFSETFROM:+0200
TZOFFSETTO:+0100
TZNAME:CET
DTSTART:20261025T010000
END:STANDARD
END:VTIMEZONE
BEGIN:VEVENT
DTSTART;VALUE=DATE:20251113
DTEND;VALUE=DATE:20251127
DTSTAMP:20260421T033822
CREATED:20240807T104237Z
LAST-MODIFIED:20240807T104237Z
UID:21157-1762992000-1764201599@szgp.hr
SUMMARY:Crofish
DESCRIPTION:
URL:https://szgp.hr/event/crofish-2/
LOCATION:Dvorana Žatika\, Dvorana Žatika\, Poreč\, Istra\, 52440\, Croatia (Local Name: Hrvatska)
CATEGORIES:Dvorana Žatika
END:VEVENT
BEGIN:VEVENT
DTSTART;TZID=Europe/Budapest:20251115T083000
DTEND;TZID=Europe/Budapest:20251115T143000
DTSTAMP:20260421T033822
CREATED:20251031T094843Z
LAST-MODIFIED:20251031T094843Z
UID:27782-1763195400-1763217000@szgp.hr
SUMMARY:RK POREČ 1.HRL U11
DESCRIPTION:
URL:https://szgp.hr/event/rk-porec-1-hrl-u11-3/
LOCATION:SRC Veli Jože\, SRC Veli Jože\, Poreč\, Istra\, 52440\, Croatia (Local Name: Hrvatska)
CATEGORIES:Veli Jože
ATTACH;FMTTYPE=image/png:https://szgp.hr/wp-content/uploads/2024/09/RK-Porec.png
END:VEVENT
BEGIN:VEVENT
DTSTART;TZID=Europe/Budapest:20251115T100000
DTEND;TZID=Europe/Budapest:20251115T130000
DTSTAMP:20260421T033822
CREATED:20251111T093602Z
LAST-MODIFIED:20251111T093602Z
UID:27858-1763200800-1763211600@szgp.hr
SUMMARY:KK Poreč predkadeti ŽL
DESCRIPTION:
URL:https://szgp.hr/event/kk-porec-predkadeti-zl-2/
LOCATION:Osnovna škola Finida\, Rovinjska 12\, Poreč\, Istra\, 52440\, Croatia (Local Name: Hrvatska)
CATEGORIES:Finida
ATTACH;FMTTYPE=image/jpeg:https://szgp.hr/wp-content/uploads/2025/01/KK-Porec.jpg
ORGANIZER;CN="Ko%C5%A1arka%C5%A1ki klub Pore%C4%8D":MAILTO:kkporec@gmail.com
END:VEVENT
BEGIN:VEVENT
DTSTART;TZID=Europe/Budapest:20251115T160000
DTEND;TZID=Europe/Budapest:20251115T200000
DTSTAMP:20260421T033822
CREATED:20251103T125632Z
LAST-MODIFIED:20251103T125632Z
UID:27794-1763222400-1763236800@szgp.hr
SUMMARY:ŽRK POREČ - ŽRK Umag 2.HRL
DESCRIPTION:
URL:https://szgp.hr/event/zrk-porec-zrk-umag-2-hrl/
LOCATION:SRC Veli Jože\, SRC Veli Jože\, Poreč\, Istra\, 52440\, Croatia (Local Name: Hrvatska)
CATEGORIES:Veli Jože
ATTACH;FMTTYPE=image/jpeg:https://szgp.hr/wp-content/uploads/2025/01/ZRK-Porec.jpg
ORGANIZER;CN="%C5%BDRK PORE%C4%8C":MAILTO:zrk.porec@inet.h
END:VEVENT
BEGIN:VEVENT
DTSTART;TZID=Europe/Budapest:20251115T163000
DTEND;TZID=Europe/Budapest:20251115T193000
DTSTAMP:20260421T033822
CREATED:20251111T114709Z
LAST-MODIFIED:20251111T114709Z
UID:27860-1763224200-1763235000@szgp.hr
SUMMARY:KK ADRIA - KK KRALJEVICA
DESCRIPTION:
URL:https://szgp.hr/event/kk-adria-kk-kraljevica/
LOCATION:Osnovna škola Finida\, Rovinjska 12\, Poreč\, Istra\, 52440\, Croatia (Local Name: Hrvatska)
CATEGORIES:Finida
ATTACH;FMTTYPE=image/png:https://szgp.hr/wp-content/uploads/2025/01/KK-Adria.png
END:VEVENT
END:VCALENDAR