BEGIN:VCALENDAR
VERSION:2.0
PRODID:-//SZGP - ECPv6.15.20//NONSGML v1.0//EN
CALSCALE:GREGORIAN
METHOD:PUBLISH
X-WR-CALNAME:SZGP
X-ORIGINAL-URL:https://szgp.hr
X-WR-CALDESC:Događaji za SZGP
REFRESH-INTERVAL;VALUE=DURATION:PT1H
X-Robots-Tag:noindex
X-PUBLISHED-TTL:PT1H
BEGIN:VTIMEZONE
TZID:Europe/Budapest
BEGIN:DAYLIGHT
TZOFFSETFROM:+0100
TZOFFSETTO:+0200
TZNAME:CEST
DTSTART:20240331T010000
END:DAYLIGHT
BEGIN:STANDARD
TZOFFSETFROM:+0200
TZOFFSETTO:+0100
TZNAME:CET
DTSTART:20241027T010000
END:STANDARD
BEGIN:DAYLIGHT
TZOFFSETFROM:+0100
TZOFFSETTO:+0200
TZNAME:CEST
DTSTART:20250330T010000
END:DAYLIGHT
BEGIN:STANDARD
TZOFFSETFROM:+0200
TZOFFSETTO:+0100
TZNAME:CET
DTSTART:20251026T010000
END:STANDARD
BEGIN:DAYLIGHT
TZOFFSETFROM:+0100
TZOFFSETTO:+0200
TZNAME:CEST
DTSTART:20260329T010000
END:DAYLIGHT
BEGIN:STANDARD
TZOFFSETFROM:+0200
TZOFFSETTO:+0100
TZNAME:CET
DTSTART:20261025T010000
END:STANDARD
END:VTIMEZONE
BEGIN:VEVENT
DTSTART;VALUE=DATE:20251006
DTEND;VALUE=DATE:20251013
DTSTAMP:20260421T065404
CREATED:20240807T104028Z
LAST-MODIFIED:20250829T115351Z
UID:21151-1759708800-1760313599@szgp.hr
SUMMARY:27. Svjetsko seniorsko i 17. omladinsko svjetsko ITF Taekwon-Do prvenstvo
DESCRIPTION:
URL:https://szgp.hr/event/27-svjetsko-seniorsko-i-17-omladinsko-svjetsko-itf-taekwon-do-prvenstvo/
LOCATION:Dvorana Žatika\, Dvorana Žatika\, Poreč\, Istra\, 52440\, Croatia (Local Name: Hrvatska)
CATEGORIES:Dvorana Žatika
ATTACH;FMTTYPE=image/jpeg:https://szgp.hr/wp-content/uploads/2024/08/WC2025_socialmedia-768x576-1.jpg
END:VEVENT
BEGIN:VEVENT
DTSTART;TZID=Europe/Budapest:20251012T100000
DTEND;TZID=Europe/Budapest:20251012T133000
DTSTAMP:20260421T065404
CREATED:20251001T080657Z
LAST-MODIFIED:20251006T062858Z
UID:27339-1760263200-1760275800@szgp.hr
SUMMARY:OK Poreč 2 - OK Marčana II.HOL zapad
DESCRIPTION:
URL:https://szgp.hr/event/ok-porec-mala-odbojka-zl-2/
LOCATION:Osnovna škola Finida\, Rovinjska 12\, Poreč\, Istra\, 52440\, Croatia (Local Name: Hrvatska)
CATEGORIES:Finida
ATTACH;FMTTYPE=image/jpeg:https://szgp.hr/wp-content/uploads/2025/01/ok-porec-logo-1.jpg
ORGANIZER;CN="Odbojka%C5%A1ki klub Pore%C4%8D":MAILTO:tajnikokporec@gmail.com
END:VEVENT
BEGIN:VEVENT
DTSTART;TZID=Europe/Budapest:20251012T150000
DTEND;TZID=Europe/Budapest:20251012T200000
DTSTAMP:20260421T065404
CREATED:20250922T133859Z
LAST-MODIFIED:20250922T133859Z
UID:27195-1760281200-1760299200@szgp.hr
SUMMARY:ŽRK Poreč - ŽRK Trešnjavka 2.HRL zapad
DESCRIPTION:
URL:https://szgp.hr/event/zrk-porec-zrk-tresnjavka-2-hrl-zapad/
LOCATION:SRC Veli Jože\, SRC Veli Jože\, Poreč\, Istra\, 52440\, Croatia (Local Name: Hrvatska)
CATEGORIES:Veli Jože
ATTACH;FMTTYPE=image/jpeg:https://szgp.hr/wp-content/uploads/2025/01/ZRK-Porec.jpg
ORGANIZER;CN="%C5%BDRK PORE%C4%8C":MAILTO:zrk.porec@inet.h
END:VEVENT
END:VCALENDAR