BEGIN:VCALENDAR
VERSION:2.0
PRODID:-//SZGP - ECPv6.15.20//NONSGML v1.0//EN
CALSCALE:GREGORIAN
METHOD:PUBLISH
X-ORIGINAL-URL:https://szgp.hr
X-WR-CALDESC:Događaji za SZGP
REFRESH-INTERVAL;VALUE=DURATION:PT1H
X-Robots-Tag:noindex
X-PUBLISHED-TTL:PT1H
BEGIN:VTIMEZONE
TZID:Europe/Budapest
BEGIN:DAYLIGHT
TZOFFSETFROM:+0100
TZOFFSETTO:+0200
TZNAME:CEST
DTSTART:20240331T010000
END:DAYLIGHT
BEGIN:STANDARD
TZOFFSETFROM:+0200
TZOFFSETTO:+0100
TZNAME:CET
DTSTART:20241027T010000
END:STANDARD
BEGIN:DAYLIGHT
TZOFFSETFROM:+0100
TZOFFSETTO:+0200
TZNAME:CEST
DTSTART:20250330T010000
END:DAYLIGHT
BEGIN:STANDARD
TZOFFSETFROM:+0200
TZOFFSETTO:+0100
TZNAME:CET
DTSTART:20251026T010000
END:STANDARD
BEGIN:DAYLIGHT
TZOFFSETFROM:+0100
TZOFFSETTO:+0200
TZNAME:CEST
DTSTART:20260329T010000
END:DAYLIGHT
BEGIN:STANDARD
TZOFFSETFROM:+0200
TZOFFSETTO:+0100
TZNAME:CET
DTSTART:20261025T010000
END:STANDARD
END:VTIMEZONE
BEGIN:VEVENT
DTSTART;TZID=Europe/Budapest:20251005T083000
DTEND;TZID=Europe/Budapest:20251005T213000
DTSTAMP:20260421T070021
CREATED:20250929T082542Z
LAST-MODIFIED:20250929T082542Z
UID:27294-1759653000-1759699800@szgp.hr
SUMMARY:Šahovski klub V. Gortan 2.juniorska liga
DESCRIPTION:
URL:https://szgp.hr/event/sahovski-klub-v-gortan-2-juniorska-liga/
LOCATION:Dvorana Žatika\, Dvorana Žatika\, Poreč\, Istra\, 52440\, Croatia (Local Name: Hrvatska)
CATEGORIES:Dvorana Žatika
ATTACH;FMTTYPE=image/png:https://szgp.hr/wp-content/uploads/2025/03/Sahovski-klub-Grb2.png
ORGANIZER;CN="%C5%A0ahovski klub 'Vladimir Gortan'":MAILTO:ivica.grbac89@gmail.com
END:VEVENT
BEGIN:VEVENT
DTSTART;TZID=Europe/Budapest:20251005T090000
DTEND;TZID=Europe/Budapest:20251005T140000
DTSTAMP:20260421T070021
CREATED:20250922T133616Z
LAST-MODIFIED:20250930T081623Z
UID:27193-1759654800-1759672800@szgp.hr
SUMMARY:ŽRK Poreč U12 Županijska liga
DESCRIPTION:
URL:https://szgp.hr/event/zrk-porec-u12-zupanijska-liga/
LOCATION:SRC Veli Jože\, SRC Veli Jože\, Poreč\, Istra\, 52440\, Croatia (Local Name: Hrvatska)
CATEGORIES:Veli Jože
ATTACH;FMTTYPE=image/jpeg:https://szgp.hr/wp-content/uploads/2025/01/ZRK-Porec.jpg
ORGANIZER;CN="%C5%BDRK PORE%C4%8C":MAILTO:zrk.porec@inet.h
END:VEVENT
BEGIN:VEVENT
DTSTART;TZID=Europe/Budapest:20251005T153000
DTEND;TZID=Europe/Budapest:20251005T190000
DTSTAMP:20260421T070021
CREATED:20250929T070433Z
LAST-MODIFIED:20250929T070433Z
UID:27286-1759678200-1759690800@szgp.hr
SUMMARY:OK POREČ 2 – OK NOVIGRAD
DESCRIPTION:
URL:https://szgp.hr/event/ok-porec-2-ok-novigrad/
LOCATION:Osnovna škola Finida\, Rovinjska 12\, Poreč\, Istra\, 52440\, Croatia (Local Name: Hrvatska)
CATEGORIES:Finida
ATTACH;FMTTYPE=image/jpeg:https://szgp.hr/wp-content/uploads/2025/01/ok-porec-logo-1.jpg
ORGANIZER;CN="Odbojka%C5%A1ki klub Pore%C4%8D":MAILTO:tajnikokporec@gmail.com
END:VEVENT
BEGIN:VEVENT
DTSTART;TZID=Europe/Budapest:20251005T160000
DTEND;TZID=Europe/Budapest:20251005T200000
DTSTAMP:20260421T070021
CREATED:20250710T133944Z
LAST-MODIFIED:20250710T134915Z
UID:26754-1759680000-1759694400@szgp.hr
SUMMARY:RK POREČ 1.HRL Jug RK POREČ 2 - RK Zadar 1954
DESCRIPTION:
URL:https://szgp.hr/event/rk-porec-1-hrl-jug-rk-porec-2-rk-zadar-1954/
LOCATION:SRC Veli Jože\, SRC Veli Jože\, Poreč\, Istra\, 52440\, Croatia (Local Name: Hrvatska)
CATEGORIES:Veli Jože
ATTACH;FMTTYPE=image/png:https://szgp.hr/wp-content/uploads/2024/09/RK-Porec.png
END:VEVENT
END:VCALENDAR