BEGIN:VCALENDAR
VERSION:2.0
PRODID:-//SZGP - ECPv6.15.20//NONSGML v1.0//EN
CALSCALE:GREGORIAN
METHOD:PUBLISH
X-ORIGINAL-URL:https://szgp.hr
X-WR-CALDESC:Događaji za SZGP
REFRESH-INTERVAL;VALUE=DURATION:PT1H
X-Robots-Tag:noindex
X-PUBLISHED-TTL:PT1H
BEGIN:VTIMEZONE
TZID:Europe/Budapest
BEGIN:DAYLIGHT
TZOFFSETFROM:+0100
TZOFFSETTO:+0200
TZNAME:CEST
DTSTART:20240331T010000
END:DAYLIGHT
BEGIN:STANDARD
TZOFFSETFROM:+0200
TZOFFSETTO:+0100
TZNAME:CET
DTSTART:20241027T010000
END:STANDARD
BEGIN:DAYLIGHT
TZOFFSETFROM:+0100
TZOFFSETTO:+0200
TZNAME:CEST
DTSTART:20250330T010000
END:DAYLIGHT
BEGIN:STANDARD
TZOFFSETFROM:+0200
TZOFFSETTO:+0100
TZNAME:CET
DTSTART:20251026T010000
END:STANDARD
BEGIN:DAYLIGHT
TZOFFSETFROM:+0100
TZOFFSETTO:+0200
TZNAME:CEST
DTSTART:20260329T010000
END:DAYLIGHT
BEGIN:STANDARD
TZOFFSETFROM:+0200
TZOFFSETTO:+0100
TZNAME:CET
DTSTART:20261025T010000
END:STANDARD
END:VTIMEZONE
BEGIN:VEVENT
DTSTART;TZID=Europe/Budapest:20250427T080000
DTEND;TZID=Europe/Budapest:20250427T173000
DTSTAMP:20260421T204434
CREATED:20250417T121925Z
LAST-MODIFIED:20250417T121925Z
UID:25169-1745740800-1745775000@szgp.hr
SUMMARY:STK Jadran Županijsko prvenstvo
DESCRIPTION:
URL:https://szgp.hr/event/stk-jadran-zupanijsko-prvenstvo/
LOCATION:Osnovna škola Finida\, Rovinjska 12\, Poreč\, Istra\, 52440\, Croatia (Local Name: Hrvatska)
CATEGORIES:Finida
ATTACH;FMTTYPE=image/jpeg:https://szgp.hr/wp-content/uploads/2024/02/stk-jadran-porec.jpg
ORGANIZER;CN="Stolno teniski klub Jadran":MAILTO:miroslavzuti@gmail.com
END:VEVENT
BEGIN:VEVENT
DTSTART;TZID=Europe/Budapest:20250427T090000
DTEND;TZID=Europe/Budapest:20250427T140000
DTSTAMP:20260421T204434
CREATED:20250122T101154Z
LAST-MODIFIED:20250122T101154Z
UID:23803-1745744400-1745762400@szgp.hr
SUMMARY:ŽRK Poreč l HRL U15
DESCRIPTION:
URL:https://szgp.hr/event/zrk-porec-l-hrl-u15/
LOCATION:SRC Veli Jože\, SRC Veli Jože\, Poreč\, Istra\, 52440\, Croatia (Local Name: Hrvatska)
CATEGORIES:Veli Jože
ORGANIZER;CN="%C5%BDRK PORE%C4%8C":MAILTO:zrk.porec@inet.h
END:VEVENT
BEGIN:VEVENT
DTSTART;TZID=Europe/Budapest:20250427T090000
DTEND;TZID=Europe/Budapest:20250427T160000
DTSTAMP:20260421T204434
CREATED:20250321T122410Z
LAST-MODIFIED:20250326T071633Z
UID:24565-1745744400-1745769600@szgp.hr
SUMMARY:KK FINIDA Županijska liga u borbama
DESCRIPTION:
URL:https://szgp.hr/event/kk-finida-zupanijska-liga-u-borbama/
LOCATION:Dvorana Žatika\, Dvorana Žatika\, Poreč\, Istra\, 52440\, Croatia (Local Name: Hrvatska)
CATEGORIES:Dvorana Žatika
ATTACH;FMTTYPE=image/png:https://szgp.hr/wp-content/uploads/2024/11/KK-FINIDA.png
ORGANIZER;CN="KK Finida":MAILTO:kkfinida@yahoo.com
END:VEVENT
BEGIN:VEVENT
DTSTART;TZID=Europe/Budapest:20250427T173000
DTEND;TZID=Europe/Budapest:20250427T203000
DTSTAMP:20260421T204434
CREATED:20250417T122122Z
LAST-MODIFIED:20250417T122122Z
UID:25171-1745775000-1745785800@szgp.hr
SUMMARY:OK Poreč 2.HOL zapad OK Poreč - OK Marčana
DESCRIPTION:
URL:https://szgp.hr/event/ok-porec-2-hol-zapad-ok-porec-ok-marcana/
LOCATION:Osnovna škola Finida\, Rovinjska 12\, Poreč\, Istra\, 52440\, Croatia (Local Name: Hrvatska)
CATEGORIES:Finida
ATTACH;FMTTYPE=image/jpeg:https://szgp.hr/wp-content/uploads/2025/01/ok-porec-logo-1.jpg
ORGANIZER;CN="Odbojka%C5%A1ki klub Pore%C4%8D":MAILTO:tajnikokporec@gmail.com
END:VEVENT
END:VCALENDAR