BEGIN:VCALENDAR
VERSION:2.0
PRODID:-//SZGP - ECPv6.15.20//NONSGML v1.0//EN
CALSCALE:GREGORIAN
METHOD:PUBLISH
X-WR-CALNAME:SZGP
X-ORIGINAL-URL:https://szgp.hr
X-WR-CALDESC:Događaji za SZGP
REFRESH-INTERVAL;VALUE=DURATION:PT1H
X-Robots-Tag:noindex
X-PUBLISHED-TTL:PT1H
BEGIN:VTIMEZONE
TZID:Europe/Budapest
BEGIN:DAYLIGHT
TZOFFSETFROM:+0100
TZOFFSETTO:+0200
TZNAME:CEST
DTSTART:20240331T010000
END:DAYLIGHT
BEGIN:STANDARD
TZOFFSETFROM:+0200
TZOFFSETTO:+0100
TZNAME:CET
DTSTART:20241027T010000
END:STANDARD
BEGIN:DAYLIGHT
TZOFFSETFROM:+0100
TZOFFSETTO:+0200
TZNAME:CEST
DTSTART:20250330T010000
END:DAYLIGHT
BEGIN:STANDARD
TZOFFSETFROM:+0200
TZOFFSETTO:+0100
TZNAME:CET
DTSTART:20251026T010000
END:STANDARD
BEGIN:DAYLIGHT
TZOFFSETFROM:+0100
TZOFFSETTO:+0200
TZNAME:CEST
DTSTART:20260329T010000
END:DAYLIGHT
BEGIN:STANDARD
TZOFFSETFROM:+0200
TZOFFSETTO:+0100
TZNAME:CET
DTSTART:20261025T010000
END:STANDARD
END:VTIMEZONE
BEGIN:VEVENT
DTSTART;VALUE=DATE:20250405
DTEND;VALUE=DATE:20250407
DTSTAMP:20260421T204006
CREATED:20250324T125649Z
LAST-MODIFIED:20250324T125649Z
UID:24602-1743811200-1743983999@szgp.hr
SUMMARY:POREČ CUP 2025 - Ritmička gimnastika
DESCRIPTION:
URL:https://szgp.hr/event/porec-cup-2025-ritmicka-gimnastika/
LOCATION:Dvorana Žatika\, Dvorana Žatika\, Poreč\, Istra\, 52440\, Croatia (Local Name: Hrvatska)
CATEGORIES:Dvorana Žatika
END:VEVENT
BEGIN:VEVENT
DTSTART;TZID=Europe/Budapest:20250405T083000
DTEND;TZID=Europe/Budapest:20250405T150000
DTSTAMP:20260421T204006
CREATED:20250312T131729Z
LAST-MODIFIED:20250312T131729Z
UID:24445-1743841800-1743865200@szgp.hr
SUMMARY:RK POREČ 1.HRL U15
DESCRIPTION:
URL:https://szgp.hr/event/rk-porec-1-hrl-u15/
LOCATION:SRC Veli Jože\, SRC Veli Jože\, Poreč\, Istra\, 52440\, Croatia (Local Name: Hrvatska)
CATEGORIES:Veli Jože
ATTACH;FMTTYPE=image/png:https://szgp.hr/wp-content/uploads/2024/09/RK-Porec.png
END:VEVENT
BEGIN:VEVENT
DTSTART;TZID=Europe/Budapest:20250405T100000
DTEND;TZID=Europe/Budapest:20250405T190000
DTSTAMP:20260421T204006
CREATED:20250103T101322Z
LAST-MODIFIED:20250327T134533Z
UID:23538-1743847200-1743879600@szgp.hr
SUMMARY:STK Jadran Memorijal "Luka Otočan"
DESCRIPTION:
URL:https://szgp.hr/event/stk-jadran-memorijal-luka-otocan/
LOCATION:Osnovna škola Finida\, Rovinjska 12\, Poreč\, Istra\, 52440\, Croatia (Local Name: Hrvatska)
CATEGORIES:Finida
ATTACH;FMTTYPE=image/jpeg:https://szgp.hr/wp-content/uploads/2024/02/stk-jadran-porec.jpg
ORGANIZER;CN="Stolno teniski klub Jadran":MAILTO:miroslavzuti@gmail.com
END:VEVENT
BEGIN:VEVENT
DTSTART;TZID=Europe/Budapest:20250405T163000
DTEND;TZID=Europe/Budapest:20250405T213000
DTSTAMP:20260421T204006
CREATED:20250312T132134Z
LAST-MODIFIED:20250312T132134Z
UID:24447-1743870600-1743888600@szgp.hr
SUMMARY:RK POREČ Premijer liga za prvaka RK Poreč - RK Nexe
DESCRIPTION:
URL:https://szgp.hr/event/rk-porec-premijer-liga-za-prvaka-rk-porec-rk-nexe/
LOCATION:SRC Veli Jože\, SRC Veli Jože\, Poreč\, Istra\, 52440\, Croatia (Local Name: Hrvatska)
CATEGORIES:Veli Jože
ATTACH;FMTTYPE=image/png:https://szgp.hr/wp-content/uploads/2024/09/RK-Porec.png
END:VEVENT
END:VCALENDAR