BEGIN:VCALENDAR
VERSION:2.0
PRODID:-//SZGP - ECPv6.15.20//NONSGML v1.0//EN
CALSCALE:GREGORIAN
METHOD:PUBLISH
X-WR-CALNAME:SZGP
X-ORIGINAL-URL:https://szgp.hr
X-WR-CALDESC:Događaji za SZGP
REFRESH-INTERVAL;VALUE=DURATION:PT1H
X-Robots-Tag:noindex
X-PUBLISHED-TTL:PT1H
BEGIN:VTIMEZONE
TZID:Europe/Budapest
BEGIN:DAYLIGHT
TZOFFSETFROM:+0100
TZOFFSETTO:+0200
TZNAME:CEST
DTSTART:20240331T010000
END:DAYLIGHT
BEGIN:STANDARD
TZOFFSETFROM:+0200
TZOFFSETTO:+0100
TZNAME:CET
DTSTART:20241027T010000
END:STANDARD
BEGIN:DAYLIGHT
TZOFFSETFROM:+0100
TZOFFSETTO:+0200
TZNAME:CEST
DTSTART:20250330T010000
END:DAYLIGHT
BEGIN:STANDARD
TZOFFSETFROM:+0200
TZOFFSETTO:+0100
TZNAME:CET
DTSTART:20251026T010000
END:STANDARD
BEGIN:DAYLIGHT
TZOFFSETFROM:+0100
TZOFFSETTO:+0200
TZNAME:CEST
DTSTART:20260329T010000
END:DAYLIGHT
BEGIN:STANDARD
TZOFFSETFROM:+0200
TZOFFSETTO:+0100
TZNAME:CET
DTSTART:20261025T010000
END:STANDARD
END:VTIMEZONE
BEGIN:VEVENT
DTSTART;TZID=Europe/Budapest:20250320T080000
DTEND;TZID=Europe/Budapest:20250320T140000
DTSTAMP:20260421T222137
CREATED:20240913T091450Z
LAST-MODIFIED:20240913T091450Z
UID:21730-1742457600-1742479200@szgp.hr
SUMMARY:HŠSS atletika djeca s IT
DESCRIPTION:
URL:https://szgp.hr/event/hsss-atletika-djeca-s-it/
LOCATION:Stadion NK Jadran
CATEGORIES:Stadion NK Jadran
END:VEVENT
BEGIN:VEVENT
DTSTART;TZID=Europe/Budapest:20250320T083000
DTEND;TZID=Europe/Budapest:20250320T150000
DTSTAMP:20260421T222137
CREATED:20240912T105811Z
LAST-MODIFIED:20240912T110957Z
UID:21634-1742459400-1742482800@szgp.hr
SUMMARY:KOŠARKA djevojčice osnovne škole IŽ
DESCRIPTION:
URL:https://szgp.hr/event/kosarka-djevojcice-osnovne-skole-iz/
LOCATION:Dvorana Žatika\, Dvorana Žatika\, Poreč\, Istra\, 52440\, Croatia (Local Name: Hrvatska)
CATEGORIES:Dvorana Žatika
ORGANIZER;CN="%C5%A0kolski sportski savez I%C5%BD":MAILTO:skolski.sport.istra@gmail.com
END:VEVENT
END:VCALENDAR