BEGIN:VCALENDAR
VERSION:2.0
PRODID:-//SZGP - ECPv6.15.20//NONSGML v1.0//EN
CALSCALE:GREGORIAN
METHOD:PUBLISH
X-WR-CALNAME:SZGP
X-ORIGINAL-URL:https://szgp.hr
X-WR-CALDESC:Događaji za SZGP
REFRESH-INTERVAL;VALUE=DURATION:PT1H
X-Robots-Tag:noindex
X-PUBLISHED-TTL:PT1H
BEGIN:VTIMEZONE
TZID:Europe/Budapest
BEGIN:DAYLIGHT
TZOFFSETFROM:+0100
TZOFFSETTO:+0200
TZNAME:CEST
DTSTART:20240331T010000
END:DAYLIGHT
BEGIN:STANDARD
TZOFFSETFROM:+0200
TZOFFSETTO:+0100
TZNAME:CET
DTSTART:20241027T010000
END:STANDARD
BEGIN:DAYLIGHT
TZOFFSETFROM:+0100
TZOFFSETTO:+0200
TZNAME:CEST
DTSTART:20250330T010000
END:DAYLIGHT
BEGIN:STANDARD
TZOFFSETFROM:+0200
TZOFFSETTO:+0100
TZNAME:CET
DTSTART:20251026T010000
END:STANDARD
BEGIN:DAYLIGHT
TZOFFSETFROM:+0100
TZOFFSETTO:+0200
TZNAME:CEST
DTSTART:20260329T010000
END:DAYLIGHT
BEGIN:STANDARD
TZOFFSETFROM:+0200
TZOFFSETTO:+0100
TZNAME:CET
DTSTART:20261025T010000
END:STANDARD
END:VTIMEZONE
BEGIN:VEVENT
DTSTART;VALUE=DATE:20250225
DTEND;VALUE=DATE:20250313
DTSTAMP:20260421T222044
CREATED:20240719T112408Z
LAST-MODIFIED:20240719T112408Z
UID:20909-1740441600-1741823999@szgp.hr
SUMMARY:Promohotel
DESCRIPTION:
URL:https://szgp.hr/event/promohotel-2/
LOCATION:Dvorana Žatika\, Dvorana Žatika\, Poreč\, Istra\, 52440\, Croatia (Local Name: Hrvatska)
CATEGORIES:Dvorana Žatika
END:VEVENT
BEGIN:VEVENT
DTSTART;TZID=Europe/Budapest:20250301T080000
DTEND;TZID=Europe/Budapest:20250301T170000
DTSTAMP:20260421T222044
CREATED:20241217T100932Z
LAST-MODIFIED:20241217T101312Z
UID:23395-1740816000-1740848400@szgp.hr
SUMMARY:Stolnoteniski klub Jadran I HSTL
DESCRIPTION:
URL:https://szgp.hr/event/stolnoteniski-klub-jadran-i-hstl-2/
LOCATION:Osnovna škola Finida\, Rovinjska 12\, Poreč\, Istra\, 52440\, Croatia (Local Name: Hrvatska)
CATEGORIES:Finida
ATTACH;FMTTYPE=image/jpeg:https://szgp.hr/wp-content/uploads/2024/12/jadran_logo.jpg
ORGANIZER;CN="Stolno teniski klub Jadran":MAILTO:miroslavzuti@gmail.com
END:VEVENT
BEGIN:VEVENT
DTSTART;TZID=Europe/Budapest:20250301T083000
DTEND;TZID=Europe/Budapest:20250301T143000
DTSTAMP:20260421T222044
CREATED:20250213T113730Z
LAST-MODIFIED:20250214T071424Z
UID:23986-1740817800-1740839400@szgp.hr
SUMMARY:RK POREČ Žl U11
DESCRIPTION:
URL:https://szgp.hr/event/rk-porec-zl-u11/
LOCATION:SRC Veli Jože\, SRC Veli Jože\, Poreč\, Istra\, 52440\, Croatia (Local Name: Hrvatska)
CATEGORIES:Veli Jože
ATTACH;FMTTYPE=image/png:https://szgp.hr/wp-content/uploads/2024/09/RK-Porec.png
END:VEVENT
BEGIN:VEVENT
DTSTART;TZID=Europe/Budapest:20250301T130000
DTEND;TZID=Europe/Budapest:20250301T180000
DTSTAMP:20260421T222044
CREATED:20240913T090843Z
LAST-MODIFIED:20241217T074346Z
UID:21724-1740834000-1740852000@szgp.hr
SUMMARY:BK Istra Poreč- BK Metković
DESCRIPTION:
URL:https://szgp.hr/event/bk-istra-porec-bk-metkovic/
LOCATION:Boćarska dvorana Veli Jože\, POREČ\, Istarska županija\, 52440\, Croatia (Local Name: Hrvatska)
CATEGORIES:Boćarska dvorana Veli Jože
END:VEVENT
END:VCALENDAR