BEGIN:VCALENDAR
VERSION:2.0
PRODID:-//SZGP - ECPv6.15.20//NONSGML v1.0//EN
CALSCALE:GREGORIAN
METHOD:PUBLISH
X-ORIGINAL-URL:https://szgp.hr
X-WR-CALDESC:Događaji za SZGP
REFRESH-INTERVAL;VALUE=DURATION:PT1H
X-Robots-Tag:noindex
X-PUBLISHED-TTL:PT1H
BEGIN:VTIMEZONE
TZID:Europe/Budapest
BEGIN:DAYLIGHT
TZOFFSETFROM:+0100
TZOFFSETTO:+0200
TZNAME:CEST
DTSTART:20240331T010000
END:DAYLIGHT
BEGIN:STANDARD
TZOFFSETFROM:+0200
TZOFFSETTO:+0100
TZNAME:CET
DTSTART:20241027T010000
END:STANDARD
BEGIN:DAYLIGHT
TZOFFSETFROM:+0100
TZOFFSETTO:+0200
TZNAME:CEST
DTSTART:20250330T010000
END:DAYLIGHT
BEGIN:STANDARD
TZOFFSETFROM:+0200
TZOFFSETTO:+0100
TZNAME:CET
DTSTART:20251026T010000
END:STANDARD
BEGIN:DAYLIGHT
TZOFFSETFROM:+0100
TZOFFSETTO:+0200
TZNAME:CEST
DTSTART:20260329T010000
END:DAYLIGHT
BEGIN:STANDARD
TZOFFSETFROM:+0200
TZOFFSETTO:+0100
TZNAME:CET
DTSTART:20261025T010000
END:STANDARD
END:VTIMEZONE
BEGIN:VEVENT
DTSTART;VALUE=DATE:20250221
DTEND;VALUE=DATE:20250224
DTSTAMP:20260422T000928
CREATED:20240719T112314Z
LAST-MODIFIED:20250205T092115Z
UID:20907-1740096000-1740355199@szgp.hr
SUMMARY:HNS Veteransko prvenstvo Hrvatske
DESCRIPTION:
URL:https://szgp.hr/event/hns/
LOCATION:Dvorana Žatika\, Dvorana Žatika\, Poreč\, Istra\, 52440\, Croatia (Local Name: Hrvatska)
CATEGORIES:Dvorana Žatika
ATTACH;FMTTYPE=image/jpeg:https://szgp.hr/wp-content/uploads/2024/07/HNS.jpg
END:VEVENT
BEGIN:VEVENT
DTSTART;TZID=Europe/Budapest:20250222T083000
DTEND;TZID=Europe/Budapest:20250222T170000
DTSTAMP:20260422T000928
CREATED:20241217T100406Z
LAST-MODIFIED:20241217T101356Z
UID:23392-1740213000-1740243600@szgp.hr
SUMMARY:Stolnoteniski klub Jadran I HSTL
DESCRIPTION:
URL:https://szgp.hr/event/stolnoteniski-klub-jadran-i-hstl/
LOCATION:Osnovna škola Finida\, Rovinjska 12\, Poreč\, Istra\, 52440\, Croatia (Local Name: Hrvatska)
CATEGORIES:Finida
ATTACH;FMTTYPE=image/jpeg:https://szgp.hr/wp-content/uploads/2024/12/jadran_logo.jpg
ORGANIZER;CN="Stolno teniski klub Jadran":MAILTO:miroslavzuti@gmail.com
END:VEVENT
BEGIN:VEVENT
DTSTART;TZID=Europe/Budapest:20250222T133000
DTEND;TZID=Europe/Budapest:20250222T193000
DTSTAMP:20260422T000928
CREATED:20240913T085434Z
LAST-MODIFIED:20250221T072242Z
UID:21704-1740231000-1740252600@szgp.hr
SUMMARY:1.HBL BK Špadići - BK Kukuljanovo
DESCRIPTION:
URL:https://szgp.hr/event/1-hbl-bk-spadici-bk-kukuljanovo/
LOCATION:Boćarska dvorana Veli Jože\, POREČ\, Istarska županija\, 52440\, Croatia (Local Name: Hrvatska)
CATEGORIES:Boćarska dvorana Veli Jože
ATTACH;FMTTYPE=image/png:https://szgp.hr/wp-content/uploads/2024/09/BK-Spadici.png
END:VEVENT
BEGIN:VEVENT
DTSTART;TZID=Europe/Budapest:20250222T140000
DTEND;TZID=Europe/Budapest:20250222T160000
DTSTAMP:20260422T000928
CREATED:20250220T085504Z
LAST-MODIFIED:20250220T085504Z
UID:24217-1740232800-1740240000@szgp.hr
SUMMARY:KK Poreč dječaci utakmica
DESCRIPTION:
URL:https://szgp.hr/event/kk-porec-djecaci-utakmica/
LOCATION:SRC Veli Jože\, SRC Veli Jože\, Poreč\, Istra\, 52440\, Croatia (Local Name: Hrvatska)
CATEGORIES:Veli Jože
ORGANIZER;CN="Ko%C5%A1arka%C5%A1ki klub Pore%C4%8D":MAILTO:kkporec@gmail.com
END:VEVENT
END:VCALENDAR