BEGIN:VCALENDAR
VERSION:2.0
PRODID:-//SZGP - ECPv6.15.20//NONSGML v1.0//EN
CALSCALE:GREGORIAN
METHOD:PUBLISH
X-WR-CALNAME:SZGP
X-ORIGINAL-URL:https://szgp.hr
X-WR-CALDESC:Događaji za SZGP
REFRESH-INTERVAL;VALUE=DURATION:PT1H
X-Robots-Tag:noindex
X-PUBLISHED-TTL:PT1H
BEGIN:VTIMEZONE
TZID:Europe/Budapest
BEGIN:DAYLIGHT
TZOFFSETFROM:+0100
TZOFFSETTO:+0200
TZNAME:CEST
DTSTART:20240331T010000
END:DAYLIGHT
BEGIN:STANDARD
TZOFFSETFROM:+0200
TZOFFSETTO:+0100
TZNAME:CET
DTSTART:20241027T010000
END:STANDARD
BEGIN:DAYLIGHT
TZOFFSETFROM:+0100
TZOFFSETTO:+0200
TZNAME:CEST
DTSTART:20250330T010000
END:DAYLIGHT
BEGIN:STANDARD
TZOFFSETFROM:+0200
TZOFFSETTO:+0100
TZNAME:CET
DTSTART:20251026T010000
END:STANDARD
BEGIN:DAYLIGHT
TZOFFSETFROM:+0100
TZOFFSETTO:+0200
TZNAME:CEST
DTSTART:20260329T010000
END:DAYLIGHT
BEGIN:STANDARD
TZOFFSETFROM:+0200
TZOFFSETTO:+0100
TZNAME:CET
DTSTART:20261025T010000
END:STANDARD
END:VTIMEZONE
BEGIN:VEVENT
DTSTART;VALUE=DATE:20250130
DTEND;VALUE=DATE:20250212
DTSTAMP:20260422T000905
CREATED:20240719T112235Z
LAST-MODIFIED:20241217T071309Z
UID:20905-1738195200-1739318399@szgp.hr
SUMMARY:IHF - Svjetsko prvenstvo u dvoranskom hokeju
DESCRIPTION:
URL:https://szgp.hr/event/svijetsko-prvenstvo-u-dvoranskom-hokeju/
LOCATION:Dvorana Žatika\, Dvorana Žatika\, Poreč\, Istra\, 52440\, Croatia (Local Name: Hrvatska)
CATEGORIES:Dvorana Žatika
ATTACH;FMTTYPE=image/webp:https://szgp.hr/wp-content/uploads/2024/07/FIH-HOCKEY-WORLD-CUP.webp
END:VEVENT
BEGIN:VEVENT
DTSTART;TZID=Europe/Budapest:20250201T090000
DTEND;TZID=Europe/Budapest:20250201T133000
DTSTAMP:20260422T000905
CREATED:20250128T081208Z
LAST-MODIFIED:20250129T092314Z
UID:23853-1738400400-1738416600@szgp.hr
SUMMARY:RK Poreč 1.HRL U11
DESCRIPTION:
URL:https://szgp.hr/event/rk-porec-1-hrl-u11-2/
LOCATION:SRC Veli Jože\, SRC Veli Jože\, Poreč\, Istra\, 52440\, Croatia (Local Name: Hrvatska)
CATEGORIES:Veli Jože
ATTACH;FMTTYPE=image/png:https://szgp.hr/wp-content/uploads/2024/09/RK-Porec.png
END:VEVENT
BEGIN:VEVENT
DTSTART;TZID=Europe/Budapest:20250201T100000
DTEND;TZID=Europe/Budapest:20250202T180000
DTSTAMP:20260422T000905
CREATED:20250103T101038Z
LAST-MODIFIED:20250130T095216Z
UID:23536-1738404000-1738519200@szgp.hr
SUMMARY:STK Jadran pojedinačno i ekipno prvenstvo IŽ
DESCRIPTION:
URL:https://szgp.hr/event/stk-jadran-pojedinacno-i-ekipno-prvenstvo-iz/
LOCATION:Osnovna škola Finida\, Rovinjska 12\, Poreč\, Istra\, 52440\, Croatia (Local Name: Hrvatska)
CATEGORIES:Finida
ATTACH;FMTTYPE=image/jpeg:https://szgp.hr/wp-content/uploads/2024/12/jadran_logo.jpg
ORGANIZER;CN="Stolno teniski klub Jadran":MAILTO:miroslavzuti@gmail.com
END:VEVENT
BEGIN:VEVENT
DTSTART;TZID=Europe/Budapest:20250201T130000
DTEND;TZID=Europe/Budapest:20250201T180000
DTSTAMP:20260422T000905
CREATED:20240913T090552Z
LAST-MODIFIED:20240913T090552Z
UID:21718-1738414800-1738432800@szgp.hr
SUMMARY:BK Istra Poreč- BK Sv.Jakov
DESCRIPTION:
URL:https://szgp.hr/event/bk-istra-porec-bk-sv-jakov/
LOCATION:Boćarska dvorana Veli Jože\, POREČ\, Istarska županija\, 52440\, Croatia (Local Name: Hrvatska)
CATEGORIES:Boćarska dvorana Veli Jože
END:VEVENT
BEGIN:VEVENT
DTSTART;TZID=Europe/Budapest:20250201T170000
DTEND;TZID=Europe/Budapest:20250201T203000
DTSTAMP:20260422T000905
CREATED:20250127T122436Z
LAST-MODIFIED:20250127T122437Z
UID:23833-1738429200-1738441800@szgp.hr
SUMMARY:OK Poreč Žl Ml.kadetkinje OK Poreč - OK Pazin
DESCRIPTION:
URL:https://szgp.hr/event/ok-porec-zl-ml-kadetkinje-ok-porec-ok-pazin/
LOCATION:Osnovna škola Finida\, Rovinjska 12\, Poreč\, Istra\, 52440\, Croatia (Local Name: Hrvatska)
CATEGORIES:Finida
ATTACH;FMTTYPE=image/jpeg:https://szgp.hr/wp-content/uploads/2025/01/ok-porec-logo-1.jpg
ORGANIZER;CN="Odbojka%C5%A1ki klub Pore%C4%8D":MAILTO:tajnikokporec@gmail.com
END:VEVENT
END:VCALENDAR