BEGIN:VCALENDAR
VERSION:2.0
PRODID:-//SZGP - ECPv6.15.20//NONSGML v1.0//EN
CALSCALE:GREGORIAN
METHOD:PUBLISH
X-WR-CALNAME:SZGP
X-ORIGINAL-URL:https://szgp.hr
X-WR-CALDESC:Događaji za SZGP
REFRESH-INTERVAL;VALUE=DURATION:PT1H
X-Robots-Tag:noindex
X-PUBLISHED-TTL:PT1H
BEGIN:VTIMEZONE
TZID:Europe/Budapest
BEGIN:DAYLIGHT
TZOFFSETFROM:+0100
TZOFFSETTO:+0200
TZNAME:CEST
DTSTART:20230326T010000
END:DAYLIGHT
BEGIN:STANDARD
TZOFFSETFROM:+0200
TZOFFSETTO:+0100
TZNAME:CET
DTSTART:20231029T010000
END:STANDARD
BEGIN:DAYLIGHT
TZOFFSETFROM:+0100
TZOFFSETTO:+0200
TZNAME:CEST
DTSTART:20240331T010000
END:DAYLIGHT
BEGIN:STANDARD
TZOFFSETFROM:+0200
TZOFFSETTO:+0100
TZNAME:CET
DTSTART:20241027T010000
END:STANDARD
BEGIN:DAYLIGHT
TZOFFSETFROM:+0100
TZOFFSETTO:+0200
TZNAME:CEST
DTSTART:20250330T010000
END:DAYLIGHT
BEGIN:STANDARD
TZOFFSETFROM:+0200
TZOFFSETTO:+0100
TZNAME:CET
DTSTART:20251026T010000
END:STANDARD
END:VTIMEZONE
BEGIN:VEVENT
DTSTART;VALUE=DATE:20241214
DTEND;VALUE=DATE:20241216
DTSTAMP:20260422T031853
CREATED:20241023T090449Z
LAST-MODIFIED:20241112T123709Z
UID:22479-1734134400-1734307199@szgp.hr
SUMMARY:NK JADRAN ŠKOLA Božićni turnir
DESCRIPTION:
URL:https://szgp.hr/event/nk-jadran-skola-turnir/
LOCATION:Dvorana Žatika\, Dvorana Žatika\, Poreč\, Istra\, 52440\, Croatia (Local Name: Hrvatska)
CATEGORIES:Dvorana Žatika
END:VEVENT
BEGIN:VEVENT
DTSTART;TZID=Europe/Budapest:20241214T103000
DTEND;TZID=Europe/Budapest:20241214T160000
DTSTAMP:20260422T031853
CREATED:20241203T085540Z
LAST-MODIFIED:20241203T085843Z
UID:23126-1734172200-1734192000@szgp.hr
SUMMARY:RK POREČ 1.HRL U18
DESCRIPTION:
URL:https://szgp.hr/event/rk-porec-1-hrl-u18/
LOCATION:SRC Veli Jože\, SRC Veli Jože\, Poreč\, Istra\, 52440\, Croatia (Local Name: Hrvatska)
CATEGORIES:Veli Jože
END:VEVENT
BEGIN:VEVENT
DTSTART;TZID=Europe/Budapest:20241214T140000
DTEND;TZID=Europe/Budapest:20241214T170000
DTSTAMP:20260422T031853
CREATED:20241213T081751Z
LAST-MODIFIED:20241213T081751Z
UID:23277-1734184800-1734195600@szgp.hr
SUMMARY:OK POREČ 2 - GORNJA VEŽICA
DESCRIPTION:
URL:https://szgp.hr/event/ok-porec-2-gornja-vezica/
LOCATION:Osnovna škola Finida\, Rovinjska 12\, Poreč\, Istra\, 52440\, Croatia (Local Name: Hrvatska)
CATEGORIES:Finida
ORGANIZER;CN="Odbojka%C5%A1ki klub Pore%C4%8D":MAILTO:tajnikokporec@gmail.com
END:VEVENT
BEGIN:VEVENT
DTSTART;TZID=Europe/Budapest:20241214T153000
DTEND;TZID=Europe/Budapest:20241214T200000
DTSTAMP:20260422T031853
CREATED:20241203T085733Z
LAST-MODIFIED:20241203T085811Z
UID:23128-1734190200-1734206400@szgp.hr
SUMMARY:RK POREČ - RK METKOVIĆ Paket 24 Premijer liga
DESCRIPTION:Utakmica u 18 sati. \n 
URL:https://szgp.hr/event/rk-porec-rk-metkovic-paket-24-premijer-liga/
LOCATION:SRC Veli Jože\, SRC Veli Jože\, Poreč\, Istra\, 52440\, Croatia (Local Name: Hrvatska)
CATEGORIES:Veli Jože
END:VEVENT
END:VCALENDAR