BEGIN:VCALENDAR
VERSION:2.0
PRODID:-//SZGP - ECPv6.15.20//NONSGML v1.0//EN
CALSCALE:GREGORIAN
METHOD:PUBLISH
X-ORIGINAL-URL:https://szgp.hr
X-WR-CALDESC:Događaji za SZGP
REFRESH-INTERVAL;VALUE=DURATION:PT1H
X-Robots-Tag:noindex
X-PUBLISHED-TTL:PT1H
BEGIN:VTIMEZONE
TZID:Europe/Budapest
BEGIN:DAYLIGHT
TZOFFSETFROM:+0100
TZOFFSETTO:+0200
TZNAME:CEST
DTSTART:20230326T010000
END:DAYLIGHT
BEGIN:STANDARD
TZOFFSETFROM:+0200
TZOFFSETTO:+0100
TZNAME:CET
DTSTART:20231029T010000
END:STANDARD
BEGIN:DAYLIGHT
TZOFFSETFROM:+0100
TZOFFSETTO:+0200
TZNAME:CEST
DTSTART:20240331T010000
END:DAYLIGHT
BEGIN:STANDARD
TZOFFSETFROM:+0200
TZOFFSETTO:+0100
TZNAME:CET
DTSTART:20241027T010000
END:STANDARD
BEGIN:DAYLIGHT
TZOFFSETFROM:+0100
TZOFFSETTO:+0200
TZNAME:CEST
DTSTART:20250330T010000
END:DAYLIGHT
BEGIN:STANDARD
TZOFFSETFROM:+0200
TZOFFSETTO:+0100
TZNAME:CET
DTSTART:20251026T010000
END:STANDARD
END:VTIMEZONE
BEGIN:VEVENT
DTSTART;VALUE=DATE:20241116
DTEND;VALUE=DATE:20241128
DTSTAMP:20260422T044156
CREATED:20240719T111909Z
LAST-MODIFIED:20241106T072129Z
UID:20897-1731715200-1732751999@szgp.hr
SUMMARY:CROFISH - 15. međunarodni ribarski sajam
DESCRIPTION:
URL:https://szgp.hr/event/crofish/
LOCATION:Dvorana Žatika\, Dvorana Žatika\, Poreč\, Istra\, 52440\, Croatia (Local Name: Hrvatska)
CATEGORIES:Dvorana Žatika
END:VEVENT
BEGIN:VEVENT
DTSTART;TZID=Europe/Budapest:20241117T083000
DTEND;TZID=Europe/Budapest:20241117T150000
DTSTAMP:20260422T044156
CREATED:20241104T073937Z
LAST-MODIFIED:20241104T073937Z
UID:22626-1731832200-1731855600@szgp.hr
SUMMARY:RK POREČ -U11 Županijska liga
DESCRIPTION:5 utakmica \n 
URL:https://szgp.hr/event/rk-porec-u11-zupanijska-liga/
LOCATION:SRC Veli Jože\, SRC Veli Jože\, Poreč\, Istra\, 52440\, Croatia (Local Name: Hrvatska)
CATEGORIES:Veli Jože
END:VEVENT
BEGIN:VEVENT
DTSTART;TZID=Europe/Budapest:20241117T090000
DTEND;TZID=Europe/Budapest:20241117T123000
DTSTAMP:20260422T044156
CREATED:20241104T073645Z
LAST-MODIFIED:20241104T073645Z
UID:22624-1731834000-1731846600@szgp.hr
SUMMARY:KK POREČ  - KK VODNJAN  predkadeti prvenstvena
DESCRIPTION:
URL:https://szgp.hr/event/kk-porec-kk-vodnjan-predkadeti-prvenstvena/
LOCATION:Osnovna škola Finida\, Rovinjska 12\, Poreč\, Istra\, 52440\, Croatia (Local Name: Hrvatska)
CATEGORIES:Finida
ORGANIZER;CN="Ko%C5%A1arka%C5%A1ki klub Pore%C4%8D":MAILTO:kkporec@gmail.com
END:VEVENT
END:VCALENDAR