BEGIN:VCALENDAR
VERSION:2.0
PRODID:-//SZGP - ECPv6.15.20//NONSGML v1.0//EN
CALSCALE:GREGORIAN
METHOD:PUBLISH
X-ORIGINAL-URL:https://szgp.hr
X-WR-CALDESC:Događaji za SZGP
REFRESH-INTERVAL;VALUE=DURATION:PT1H
X-Robots-Tag:noindex
X-PUBLISHED-TTL:PT1H
BEGIN:VTIMEZONE
TZID:Europe/Budapest
BEGIN:DAYLIGHT
TZOFFSETFROM:+0100
TZOFFSETTO:+0200
TZNAME:CEST
DTSTART:20230326T010000
END:DAYLIGHT
BEGIN:STANDARD
TZOFFSETFROM:+0200
TZOFFSETTO:+0100
TZNAME:CET
DTSTART:20231029T010000
END:STANDARD
BEGIN:DAYLIGHT
TZOFFSETFROM:+0100
TZOFFSETTO:+0200
TZNAME:CEST
DTSTART:20240331T010000
END:DAYLIGHT
BEGIN:STANDARD
TZOFFSETFROM:+0200
TZOFFSETTO:+0100
TZNAME:CET
DTSTART:20241027T010000
END:STANDARD
BEGIN:DAYLIGHT
TZOFFSETFROM:+0100
TZOFFSETTO:+0200
TZNAME:CEST
DTSTART:20250330T010000
END:DAYLIGHT
BEGIN:STANDARD
TZOFFSETFROM:+0200
TZOFFSETTO:+0100
TZNAME:CET
DTSTART:20251026T010000
END:STANDARD
END:VTIMEZONE
BEGIN:VEVENT
DTSTART;VALUE=DATE:20241102
DTEND;VALUE=DATE:20241104
DTSTAMP:20260422T044254
CREATED:20240808T112443Z
LAST-MODIFIED:20240808T112443Z
UID:21168-1730505600-1730678399@szgp.hr
SUMMARY:Turnir ritmičke gimnastike KRGS
DESCRIPTION:
URL:https://szgp.hr/event/turnir-ritmicke-gimnastike-krgs/
LOCATION:Dvorana Žatika\, Dvorana Žatika\, Poreč\, Istra\, 52440\, Croatia (Local Name: Hrvatska)
CATEGORIES:Dvorana Žatika
END:VEVENT
BEGIN:VEVENT
DTSTART;TZID=Europe/Budapest:20241102T100000
DTEND;TZID=Europe/Budapest:20241102T170000
DTSTAMP:20260422T044254
CREATED:20241002T132916Z
LAST-MODIFIED:20241002T132916Z
UID:22019-1730541600-1730566800@szgp.hr
SUMMARY:ST Jadran 1.HL zapad
DESCRIPTION:
URL:https://szgp.hr/event/st-jadran-1-hl-zapad/
LOCATION:Osnovna škola Finida\, Rovinjska 12\, Poreč\, Istra\, 52440\, Croatia (Local Name: Hrvatska)
CATEGORIES:Finida
ORGANIZER;CN="Stolno teniski klub Jadran":MAILTO:miroslavzuti@gmail.com
END:VEVENT
BEGIN:VEVENT
DTSTART;TZID=Europe/Budapest:20241102T130000
DTEND;TZID=Europe/Budapest:20241102T180000
DTSTAMP:20260422T044254
CREATED:20240913T090322Z
LAST-MODIFIED:20240913T090322Z
UID:21713-1730552400-1730570400@szgp.hr
SUMMARY:BK Istra - BK Otok
DESCRIPTION:
URL:https://szgp.hr/event/bk-istra-bk-otok/
LOCATION:Boćarska dvorana Veli Jože\, POREČ\, Istarska županija\, 52440\, Croatia (Local Name: Hrvatska)
CATEGORIES:Boćarska dvorana Veli Jože
END:VEVENT
BEGIN:VEVENT
DTSTART;TZID=Europe/Budapest:20241102T170000
DTEND;TZID=Europe/Budapest:20241102T190000
DTSTAMP:20260422T044254
CREATED:20241002T115411Z
LAST-MODIFIED:20241002T115411Z
UID:22015-1730566800-1730574000@szgp.hr
SUMMARY:ŽRK Poreč 2.HRL ŽRK Poreč - ŽRK Ivanić
DESCRIPTION:
URL:https://szgp.hr/event/zrk-porec-2-hrl-zrk-porec-zrk-ivanic/
LOCATION:SRC Veli Jože\, SRC Veli Jože\, Poreč\, Istra\, 52440\, Croatia (Local Name: Hrvatska)
CATEGORIES:Veli Jože
ORGANIZER;CN="%C5%BDRK PORE%C4%8C":MAILTO:zrk.porec@inet.h
END:VEVENT
END:VCALENDAR