BEGIN:VCALENDAR
VERSION:2.0
PRODID:-//SZGP - ECPv6.15.20//NONSGML v1.0//EN
CALSCALE:GREGORIAN
METHOD:PUBLISH
X-WR-CALNAME:SZGP
X-ORIGINAL-URL:https://szgp.hr
X-WR-CALDESC:Događaji za SZGP
REFRESH-INTERVAL;VALUE=DURATION:PT1H
X-Robots-Tag:noindex
X-PUBLISHED-TTL:PT1H
BEGIN:VTIMEZONE
TZID:Europe/Budapest
BEGIN:DAYLIGHT
TZOFFSETFROM:+0100
TZOFFSETTO:+0200
TZNAME:CEST
DTSTART:20230326T010000
END:DAYLIGHT
BEGIN:STANDARD
TZOFFSETFROM:+0200
TZOFFSETTO:+0100
TZNAME:CET
DTSTART:20231029T010000
END:STANDARD
BEGIN:DAYLIGHT
TZOFFSETFROM:+0100
TZOFFSETTO:+0200
TZNAME:CEST
DTSTART:20240331T010000
END:DAYLIGHT
BEGIN:STANDARD
TZOFFSETFROM:+0200
TZOFFSETTO:+0100
TZNAME:CET
DTSTART:20241027T010000
END:STANDARD
BEGIN:DAYLIGHT
TZOFFSETFROM:+0100
TZOFFSETTO:+0200
TZNAME:CEST
DTSTART:20250330T010000
END:DAYLIGHT
BEGIN:STANDARD
TZOFFSETFROM:+0200
TZOFFSETTO:+0100
TZNAME:CET
DTSTART:20251026T010000
END:STANDARD
END:VTIMEZONE
BEGIN:VEVENT
DTSTART;TZID=Europe/Budapest:20241026T130000
DTEND;TZID=Europe/Budapest:20241026T170000
DTSTAMP:20260422T061109
CREATED:20240913T084553Z
LAST-MODIFIED:20240913T084553Z
UID:21698-1729947600-1729962000@szgp.hr
SUMMARY:1.HBL BK Špadići - Sv.Luka
DESCRIPTION:
URL:https://szgp.hr/event/1-hbl-bk-spadici-sv-luka/
LOCATION:Boćarska dvorana Veli Jože\, POREČ\, Istarska županija\, 52440\, Croatia (Local Name: Hrvatska)
CATEGORIES:Boćarska dvorana Veli Jože
END:VEVENT
BEGIN:VEVENT
DTSTART;TZID=Europe/Budapest:20241026T180000
DTEND;TZID=Europe/Budapest:20241026T200000
DTSTAMP:20260422T061109
CREATED:20240930T135428Z
LAST-MODIFIED:20240930T135428Z
UID:21922-1729965600-1729972800@szgp.hr
SUMMARY:RK Poreč EHF Europski kup London GD - RK Poreč
DESCRIPTION:
URL:https://szgp.hr/event/rk-porec-ehf-europski-kup-london-gd-rk-porec/
LOCATION:SRC Veli Jože\, SRC Veli Jože\, Poreč\, Istra\, 52440\, Croatia (Local Name: Hrvatska)
CATEGORIES:Veli Jože
END:VEVENT
BEGIN:VEVENT
DTSTART;TZID=Europe/Budapest:20241026T183000
DTEND;TZID=Europe/Budapest:20241026T213000
DTSTAMP:20260422T061109
CREATED:20241021T111034Z
LAST-MODIFIED:20241021T130219Z
UID:22418-1729967400-1729978200@szgp.hr
SUMMARY:KK ADRIA A2 zapad 3.kolo
DESCRIPTION:
URL:https://szgp.hr/event/kk-adria-a2-zapad-3-kolo/
LOCATION:Osnovna škola Finida\, Rovinjska 12\, Poreč\, Istra\, 52440\, Croatia (Local Name: Hrvatska)
CATEGORIES:Finida
END:VEVENT
END:VCALENDAR