BEGIN:VCALENDAR
VERSION:2.0
PRODID:-//SZGP - ECPv6.15.20//NONSGML v1.0//EN
CALSCALE:GREGORIAN
METHOD:PUBLISH
X-ORIGINAL-URL:https://szgp.hr
X-WR-CALDESC:Događaji za SZGP
REFRESH-INTERVAL;VALUE=DURATION:PT1H
X-Robots-Tag:noindex
X-PUBLISHED-TTL:PT1H
BEGIN:VTIMEZONE
TZID:Europe/Budapest
BEGIN:DAYLIGHT
TZOFFSETFROM:+0100
TZOFFSETTO:+0200
TZNAME:CEST
DTSTART:20230326T010000
END:DAYLIGHT
BEGIN:STANDARD
TZOFFSETFROM:+0200
TZOFFSETTO:+0100
TZNAME:CET
DTSTART:20231029T010000
END:STANDARD
BEGIN:DAYLIGHT
TZOFFSETFROM:+0100
TZOFFSETTO:+0200
TZNAME:CEST
DTSTART:20240331T010000
END:DAYLIGHT
BEGIN:STANDARD
TZOFFSETFROM:+0200
TZOFFSETTO:+0100
TZNAME:CET
DTSTART:20241027T010000
END:STANDARD
BEGIN:DAYLIGHT
TZOFFSETFROM:+0100
TZOFFSETTO:+0200
TZNAME:CEST
DTSTART:20250330T010000
END:DAYLIGHT
BEGIN:STANDARD
TZOFFSETFROM:+0200
TZOFFSETTO:+0100
TZNAME:CET
DTSTART:20251026T010000
END:STANDARD
END:VTIMEZONE
BEGIN:VEVENT
DTSTART;TZID=Europe/Budapest:20241022T083000
DTEND;TZID=Europe/Budapest:20241022T140000
DTSTAMP:20260422T061106
CREATED:20240912T113946Z
LAST-MODIFIED:20240912T113946Z
UID:21662-1729585800-1729605600@szgp.hr
SUMMARY:ATLETIKA osnovne škole / ekipno i pojedinačno IŽ
DESCRIPTION:
URL:https://szgp.hr/event/atletika-osnovne-skole-ekipno-i-pojedinacno-iz/
LOCATION:Stadion NK Jadran
CATEGORIES:Stadion NK Jadran
ORGANIZER;CN="%C5%A0kolski sportski savez I%C5%BD":MAILTO:skolski.sport.istra@gmail.com
END:VEVENT
BEGIN:VEVENT
DTSTART;TZID=Europe/Budapest:20241022T190000
DTEND;TZID=Europe/Budapest:20241022T210000
DTSTAMP:20260422T061106
CREATED:20241001T132148Z
LAST-MODIFIED:20241001T132148Z
UID:21992-1729623600-1729630800@szgp.hr
SUMMARY:RK POREČ 2.HRL zapad RK POREČ 2 - RK ZAMET 2
DESCRIPTION:
URL:https://szgp.hr/event/rk-porec-2-hrl-zapad-rk-porec-2-rk-zamet-2/
LOCATION:SRC Veli Jože\, SRC Veli Jože\, Poreč\, Istra\, 52440\, Croatia (Local Name: Hrvatska)
CATEGORIES:Veli Jože
END:VEVENT
END:VCALENDAR