BEGIN:VCALENDAR
VERSION:2.0
PRODID:-//SZGP - ECPv6.15.20//NONSGML v1.0//EN
CALSCALE:GREGORIAN
METHOD:PUBLISH
X-ORIGINAL-URL:https://szgp.hr
X-WR-CALDESC:Događaji za SZGP
REFRESH-INTERVAL;VALUE=DURATION:PT1H
X-Robots-Tag:noindex
X-PUBLISHED-TTL:PT1H
BEGIN:VTIMEZONE
TZID:Europe/Budapest
BEGIN:DAYLIGHT
TZOFFSETFROM:+0100
TZOFFSETTO:+0200
TZNAME:CEST
DTSTART:20230326T010000
END:DAYLIGHT
BEGIN:STANDARD
TZOFFSETFROM:+0200
TZOFFSETTO:+0100
TZNAME:CET
DTSTART:20231029T010000
END:STANDARD
BEGIN:DAYLIGHT
TZOFFSETFROM:+0100
TZOFFSETTO:+0200
TZNAME:CEST
DTSTART:20240331T010000
END:DAYLIGHT
BEGIN:STANDARD
TZOFFSETFROM:+0200
TZOFFSETTO:+0100
TZNAME:CET
DTSTART:20241027T010000
END:STANDARD
BEGIN:DAYLIGHT
TZOFFSETFROM:+0100
TZOFFSETTO:+0200
TZNAME:CEST
DTSTART:20250330T010000
END:DAYLIGHT
BEGIN:STANDARD
TZOFFSETFROM:+0200
TZOFFSETTO:+0100
TZNAME:CET
DTSTART:20251026T010000
END:STANDARD
END:VTIMEZONE
BEGIN:VEVENT
DTSTART;VALUE=DATE:20241005
DTEND;VALUE=DATE:20241014
DTSTAMP:20260422T061117
CREATED:20240719T111304Z
LAST-MODIFIED:20240923T124359Z
UID:20887-1728086400-1728863999@szgp.hr
SUMMARY:Prvenstvo svijeta u hrvanju za veterane
DESCRIPTION:
URL:https://szgp.hr/event/prvenstvo-svijeta-u-hrvanju-za-veterane/
LOCATION:Dvorana Žatika\, Dvorana Žatika\, Poreč\, Istra\, 52440\, Croatia (Local Name: Hrvatska)
CATEGORIES:Dvorana Žatika
END:VEVENT
BEGIN:VEVENT
DTSTART;TZID=Europe/Budapest:20241013T093000
DTEND;TZID=Europe/Budapest:20241013T123000
DTSTAMP:20260422T061117
CREATED:20241010T063539Z
LAST-MODIFIED:20241010T063539Z
UID:22125-1728811800-1728822600@szgp.hr
SUMMARY:Košarkaški klub Poreč -  utakmica
DESCRIPTION:
URL:https://szgp.hr/event/kosarkaski-klub-porec-utakmica/
LOCATION:Osnovna škola Finida\, Rovinjska 12\, Poreč\, Istra\, 52440\, Croatia (Local Name: Hrvatska)
CATEGORIES:Finida
ORGANIZER;CN="Ko%C5%A1arka%C5%A1ki klub Pore%C4%8D":MAILTO:kkporec@gmail.com
END:VEVENT
BEGIN:VEVENT
DTSTART;TZID=Europe/Budapest:20241013T163000
DTEND;TZID=Europe/Budapest:20241013T190000
DTSTAMP:20260422T061117
CREATED:20241010T132925Z
LAST-MODIFIED:20241010T132925Z
UID:22143-1728837000-1728846000@szgp.hr
SUMMARY:Košarka 2.liga zapad KK Adria - KK Šanac
DESCRIPTION:
URL:https://szgp.hr/event/kosarka-2-liga-zapad-kk-adria-kk-sanac/
LOCATION:Osnovna škola Finida\, Rovinjska 12\, Poreč\, Istra\, 52440\, Croatia (Local Name: Hrvatska)
CATEGORIES:Finida
END:VEVENT
BEGIN:VEVENT
DTSTART;TZID=Europe/Budapest:20241013T180000
DTEND;TZID=Europe/Budapest:20241013T200000
DTSTAMP:20260422T061117
CREATED:20240930T140013Z
LAST-MODIFIED:20241001T064742Z
UID:21929-1728842400-1728849600@szgp.hr
SUMMARY:RK Poreč Paket 24 Premier liga RK Poreč - RK Trogir
DESCRIPTION:
URL:https://szgp.hr/event/rk-porec-paket-24-premier-liga-rk-porec-rk-trogir/
LOCATION:SRC Veli Jože\, SRC Veli Jože\, Poreč\, Istra\, 52440\, Croatia (Local Name: Hrvatska)
CATEGORIES:Veli Jože
END:VEVENT
END:VCALENDAR